Workbook

Sheet График 5-11 кл
C3: 5 класс | I3: 6 класс | O3: 7 класс | T3: 8 класс | W3: 9 класс | Z3: 10 класс | AB3: 11 класс
C4: 2 - 6 урок | I4: 2 - 6 урок | O4: 2 - 6 урок | T4: 2 - 6 урок | W4: 2 - 6 урок | Z4: 2 - 6 урок | AB4: 2 - 6 урок
A5: дата | B5: день недели | C5: а | D5: б | E5: в | F5: г | G5: д | H5: е | I5: а | J5: б | K5: в | L5: г | M5: д | N5: е | O5: а | P5: б | Q5: в | R5: г | S5: д | T5: а | U5: б | V5: в | W5: а | X5: б | Y5: с | Z5: а | AA5: б | AB5: а | AC5: б | AD5: в | AE5: г
A6: 46266 | B6: ВТ | C6: Гео/СтД/4 ИЗО/СтД/1 | D6: Гео/СтД/2 | E6: ИЗО/СтД/5 | Z6: Гео/СтД/5
A7: 46267 | B7: СР | E7: Био/СтД/3 | F7: Гео/СтД/4 | G7: Био/СтД/2 ИЗО/СтД/5 | H7: Гео/СтД/1 | S7: Физ/СтД/6 | AA7: Био/СтД/7
A8: 46268 | B8: ЧТ | D8: ИЗО/СтД/3 | E8: АЯ/СтД/3 | F8: Био/СтД/6 ИЗО/СтД/4 | G8: АЯ/СР/3 | H8: РазвР/Стд/5 ИЗО/СтД/6 | Z8: Инф/СтД/6
A9: 46269 | B9: ПТ | C9: АЯ/СтД/4 | F9: АЯ/СР/3 | G9: Ист/Стд/5 | Q9: Физ/СтД/4 | R9: Физ/СтД/5 | AA9: Гео/СтД/1
A10: 46270 | B10: СБ
A11: 46271 | B11: ВС
A12: 46272 | B12: ПН | C12: Био/СтД/3 | D12: АЯ/СР/3 | O12: Физ/СтД/6 | P12: Физ/СтД/4
A13: 46273 | B13: ВТ | D13: Био/СтД/6 | E13: Лит/СтД/2 | G13: Труд СтД/6 | H13: Ист/Стд/2 | I13: Труд ТТ/4 | J13: Труд ТТ/2
A14: 46274 | B14: СР | D14: Труд СтД/2 | F14: РЯ/СтД/3 | H14: Лит/Стд/5 | J14: Лит/СтД/5 | K14: Лит/СтД/4 | M14: Труд ТТ/4 | O14: РЯ/КР/1 | R14: РЯ/КР/3 | S14: Инф/СтД/2 | AA14: Инф/СтД/5 | AB14: ИстСР6 | AD14: ИстСР7
A15: 46275 | B15: ЧТ | C15: Труд СтД/2 | D15: ИстСР4 | E15: РЯ/СтД/4 | F15: Лит/Стд/3 | H15: РЯ/СтД/2 | I15: РЯ/КР/4 | L15: РЯ/КР/3 | P15: РЯ/КР/4 | Q15: РЯ/КР/5
A16: 46276 | B16: ПТ | C16: ИстСР2 | E16: ИстСР3 | J16: РЯ/СтД/5 | K16: РЯ/СтД/3 | M16: РЯ/КР/3 | N16: РЯ/КР/2 | T16: АЯ/КР/2 | V16: РЯ/КР/5 | W16: Лит/Соч/4 | X16: ЛИТ/Соч/6 | Y16: ЛИТ/Соч/5 | Z16: Физ/СтД/2
A17: 46277 | B17: СБ
A18: 46278 | B18: ВС
A19: 46279 | B19: ПН | H19: Труд СтД/6 | N19: Труд ТТ/5
A20: 46280 | B20: ВТ | D20: Мат/СтД/3 | O20: РЯ/Соч/2 | P20: РЯ/Соч/3 | Q20: РЯ/Соч/6 | R20: РЯ/Соч/1 | X20: ХИМ/КР/5 | AA20: Физ/СтД/3 | AC20: РЯ/КР/2 | AE20: РЯ/КР/1
A21: 46281 | B21: СР | K21: Мат/КР/6 | L21: Мат/КР/3 | M21: Мат/КР/5 | Q21: АЯ/КР/5 | AB21: РЯ/КР/4
A22: 46282 | B22: ЧТ | I22: Мат/КР/2 | J22: Мат/КР/5 | L22: Труд ТТ/4 | O22: АЯ/КР/6 | Q22: АЯ/КР/5 | W22: РЯ/КР/4 | X22: РЯ/КР/2
A23: 46283 | B23: ПТ | O23: Труд ТТ/6 | P23: АНГЛ/КР/3 | Q23: Труд ТТ/2 | S23: Лит/Соч/2 | W23: ХИМ/КР/5 | Y23: РЯ/КР/3
A24: 46284 | B24: СБ
A25: 46285 | B25: ВС
A26: 46286 | B26: ПН | S26: Труд ТТ/3 | U26: АЯ/КР/6 | Y26: ХИМ/КР/5 | AD26: АЯ/КР/4
A27: 46287 | B27: ВТ | R27: АЯ/КР/6
A28: 46288 | B28: СР | H28: АЯ/КР/2 | W28: АЯ/КР/5 | AE28: ИстСР2
A29: 46289 | B29: ЧТ | AD29: РЯ/Соч/3
A30: 46290 | B30: ПТ | V30: АЯ/КР/3 | Y30: АЯ/КР/2 | AD30: Алг/КР/4
A31: 46291 | B31: СБ
A32: 46292 | B32: ВС
A33: 46293 | B33: ПН | R33: АЯ/КР/5 | U33: норм | W33: АЯ/КР/6
A34: 46294 | B34: ВТ | D34: АЯ/КР/4 | F34: АЯ/КР/5 | O34: РЯ/Соч/2 | P34: РЯ/Соч/5 | Q34: РЯ/Соч/6 | AA34: норм
A35: 46295 | B35: СР | I35: РЯ/Соч/1 | L35: РЯ/Соч/2 | W35: РЯ/КР/1 | AD35: норм | AE35: Алг/КР/4
A36: 46296 | B36: ЧТ | E36: АЯ/КР/3 | G36: АЯ/КР/3 | J36: РЯ/Соч/3 | K36: РЯ/Соч/5 | X36: РЯ/КР/2
A37: 46297 | B37: ПТ | C37: АЯ/КР/4 | M37: АЯ/КР/4 | P37: АНГЛ/КР/3 | Y37: РЯ/КР/3
A38: 46298 | B38: СБ
A39: 46299 | B39: ВС
A40: 46300 | B40: ПН | I40: РЯ/КР/2 | X40: норм
A41: 46301 | B41: ВТ | E41: РЯ/Изл/2 | G41: норм | R41: РЯ/Соч/1 | V41: РЯ/Соч/6
A42: 46302 | B42: СР | L42: норм | S42: норм
A43: 46303 | B43: ЧТ | O43: АЯ/КР/6 | Q43: АЯ/КР/5 | Y43: Геом/КР/2 | AB43: Физ2/КР/3
A44: 46304 | B44: ПТ | T44: АЯ/КР/2 | X44: Геом/КР/2
A45: 46305 | B45: СБ
A46: 46306 | B46: ВС
A47: 46307 | B47: ПН | J47: ИЗО/Пр/3 | K47: ИЗО/Пр/4 | O47: Ист/КР/6 | P47: РЯ/Соч/2 | Q47: РЯ/Соч/4 | R47: Ист/КР/2 | S47: Ист/КР/5 | U47: АЯ/КР/6 | AE47: АЯ/КР/6
A48: 46308 | B48: ВТ | C48: ИЗО/Пр/1 | E48: ИЗО/Пр/5 | M48: ИЗО/Пр/2 | N48: ИЗО/ПР/6 | O48: РЯ/Соч/2 | Q48: Ист/КР/5 | R48: Геом/КР/2 | S48: Геом/КР/3 | AB48: АЯ/КР/5 | AC48: АЯ/КР/6
A49: 46309 | B49: СР | G49: ИЗО/Пр/5 | L49: ИЗО/Пр /1 | M49: Ист/КР/6 | N49: Ист/КР/5 | Q49: ИЗО/Пр/2 | R49: РЯ/Соч/3 | S49: РЯ/Соч/4 | W49: АЯ/КР/5 | Y49: АЯ/КР/4 | Z49: АЯ/КР/2
A50: 46310 | B50: ЧТ | D50: ИЗО/Пр/3 | F50: ИЗО/Пр/4 | H50: ИЗО/Пр/6 | I50: РЯ/КР/3 | L50: РЯ/КР/2 | Q50: АЯ/КР/5 | W50: НСИ | X50: НСИ | Y50: НСИ | AD50: АЯ/КР/5
A51: 46311 | B51: ПТ | J51: РЯ/КР/5 | K51: РЯ/КР/2 | M51: РЯ/КР/3 | N51: РЯ/КР/2 | O51: ИЗО/Пр/2 | P51: Ист/КР/4 | Q51: Геом/КР/3 | S51: Лит/Соч/2 | T51: Гео/Зач/3 | W51: НСИ | X51: НСИ | Y51: НСИ | Z51: Физ/КР/2
A52: 46312 | B52: СБ
A53: 46313 | B53: ВС
A54: 46314 | B54: ПН | R54: АЯ/КР/5 | S54: ИЗО/Пр/7 | V54: Гео/Зач/5
A55: 46315 | B55: ВТ | C55: Гео/Зач/4 | D55: Гео/Зач/2 | L55: АЯ/КР/5 | M55: АЯ/КР/3 | N55: АЯ/КР/2 | V55: РЯ/Изл/6
A56: 46316 | B56: СР | D56: Мат/КР/5 | E56: Гео/Зач/3 | F56: Гео/Зач/4 | G56: Гео/Зач/6 | H56: Гео/Зач/1 | I56: АЯ/КР/3 | K56: АЯ/КР/4 | R56: ИЗО/Пр/6 | S56: АЯ/КР/5 | W56: РЯ/Соч/1 | X56: Алг/КР/1 | Y56: Алг/КР/6
A57: 46317 | B57: ЧТ | F57: РЯСоч/4 | I57: ИЗО/Пр/1 | V57: Лит/Соч/4 | X57: РЯ/Соч/2 | AB57: Физ2/КР/3
A58: 46318 | B58: ПТ | P58: ИЗО/Пр/1 | V58: АЯ/КР/3 | Y58: РЯ/Соч/3 | AB58: Физ1/КР/3
A59: 46319 | B59: СБ
A60: 46320 | B60: ВС
A61: 46321 | B61: К
A62: 46322 | B62: А
A63: 46323 | B63: Н
A64: 46324 | B64: И
A65: 46325 | B65: К
A66: 46326 | B66: У
A67: 46327 | B67: Л
A68: 46328 | B68: Ы
A69: 46329 | B69: *
A70: 46330 | B70: *
A71: 46331 | B71: ЧТ
A72: 46332 | B72: ПТ | W72: ЛИТ/Соч/4 | X72: ЛИТ/Соч/6 | Y72: ЛИТ/Соч/5 | AA72: Гео/Зач/1
A73: 46333 | B73: СБ
A74: 46334 | B74: ВС
A75: 46335 | B75: ПН | Y75: ХИМ/КР/5 | Z75: Физ/КР/2
A76: 46336 | B76: ВТ | X76: ХИМ/КР/5 | Z76: Гео/Зач/5
A77: 46337 | B77: СР | H77: АЯ/КР/2 | P77: АНГЛ/КР/3
A78: 46338 | B78: ЧТ | Q78: АЯ/КР/5 | Y78: Геом/КР/2 | AB78: Физ1/КР/4
A79: 46339 | B79: ПТ | I79: Гео/Зач/4 | K79: Гео/Зач/2 | O79: АЯ/КР/5 | W79: ХИМ/КР/5 | X79: Геом/КР/2 | AD79: ХИМ/КР/3
A80: 46340 | B80: СБ
A81: 46341 | B81: ВС
A82: 46342 | B82: ПН | N82: РЯ/СОЧ/6 | W82: АЯ/КР/3
A83: 46343 | B83: ВТ | I83: РЯ/Соч/2 | J83: Мат/КР/3 | K83: Мат/КР/2 | L83: РЯ/Соч/3 | R83: АЯ/КР/6 | T83: АЯ/КР/2 | AC83: Лит/КР/3 | AE83: ЛИТ/КР/6
A84: 46344 | B84: СР | I84: Мат/КР/2 | J84: Гео/Зач/2 | L84: Мат/КР/3 | M84: Мат/КР/5 | T84: ХИМКР/2 | U84: ХИМ/КР/4 | V84: ХИМ/КР/6 | W84: АЯ/КР/5 | Y84: АЯ/КР/4 | AA84: РЯ/КР/4 | AB84: ЛИТ/КР/5
A85: 46345 | B85: ЧТ | H85: РЯ/КР/2 | O85: РЯ/Соч/2 | P85: РЯ/Соч/4 | Q85: РЯ/Соч/1 | AB85: Инф/КР/3 | AD85: АЯ/КР/5
A86: 46346 | B86: ПТ | J86: РЯ/КР/4 | K86: РЯ/КР/2 | N86: РЯ/РЯ/4
A87: 46347 | B87: СБ
A88: 46348 | B88: ВС
A89: 46349 | B89: ПН | I89: РЯ/КР/4 | L89: Гео/Зач/7 | M89: Гео/Зач/6 | N89: Гео/Зач/3 | R89: АЯ/КР/5 | AA89: Физ/КР/4
A90: 46350 | B90: ВТ | L90: РЯ/КР/3 | M90: РЯ/КР/4 | Z90: Инф/КР/3 | AE90: РЯ/КР/1
A91: 46351 | B91: СР | I91: РЯ/КР/3 | R91: Алг/КР/4 | V91: АЯ/КР/3 | AB91: РЯ/КР/4 | AC91: РЯ/КР/2 | AE91: Алг/КР/4
A92: 46352 | B92: ЧТ | E92: РЯ/КР/4 | O92: РЯ/КР/2 | P92: РЯ/КР/4 | Q92: РЯ/КР/1
A93: 46353 | B93: ПТ | P93: АНГЛ/КР/3 | Q93: Алг/КР/3 | S93: Алг/КР/4 | U93: АЯ/КР/6
A94: 46354 | B94: СБ
A95: 46355 | B95: ВС
A96: 46356 | B96: ПН | O96: АЯ/КР/5 | V96: АЯ/КР/4
A97: 46357 | B97: ВТ | F97: АЯ/КР/5 | Q97: АЯ/КР/2
A98: 46358 | B98: СР | F98: РЯ/КР/3 | R98: РЯ/Изл/3 | S98: РЯ/Изл/4 | W98: РЯ/КР/1
A99: 46359 | B99: ЧТ | G99: АЯ/КР/3 | X99: РЯ/КР/2 | AB99: ХИМ/КР/2
A100: 46360 | B100: ПТ | X100: Алг/КР/2 | Y100: РЯ/КР/3 | AC100: Гео/Зач/6 | AE100: ХИМ/КР/7
A101: 46361 | B101: СБ
A102: 46362 | B102: ВС
...

Sheet календарь
B3: 2026 | Z3: 2026
C4: январь | J4: Февраль | R4: Март | Z4: январь
B5: понедельник | D5: 5 | E5: 12 | F5: =E5+7 -> 19 | G5: =F5+7 -> 26 | I5: понедельник | K5: =J11+1 -> 2 | L5: =K5+7 -> 9 | M5: =L5+7 -> 16 | N5: =M5+7 -> 23 | Q5: понедельник | S5: =R11+1 -> 2 | T5: =S5+7 -> 9 | U5: =T5+7 -> 16 | V5: =U5+7 -> 23 | W5: =V5+7 -> 30 | Y5: 1 | Z5: понедельник | AA5: 46034
B6: вторник | D6: =D5+1 -> 6 | E6: =E5+1 -> 13 | F6: =F5+1 -> 20 | G6: =G5+1 -> 27 | I6: вторник | K6: =K5+1 -> 3 | L6: =L5+1 -> 10 | M6: =M5+1 -> 17 | N6: =N5+1 -> 24 | Q6: вторник | S6: =S5+1 -> 3 | T6: =T5+1 -> 10 | U6: =U5+1 -> 17 | V6: =V5+1 -> 24 | W6: =W5+1 -> 31 | Y6: 2 | Z6: вторник | AA6: 46035
B7: среда | D7: =D6+1 -> 7 | E7: =E6+1 -> 14 | F7: =F6+1 -> 21 | G7: =G6+1 -> 28 | I7: среда | K7: =K6+1 -> 4 | L7: =L6+1 -> 11 | M7: =M6+1 -> 18 | N7: =N6+1 -> 25 | Q7: среда | S7: =S6+1 -> 4 | T7: =T6+1 -> 11 | U7: =U6+1 -> 18 | V7: =V6+1 -> 25 | Y7: 3 | Z7: среда | AA7: 46036
B8: четверг | C8: 1 | D8: =D7+1 -> 8 | E8: =E7+1 -> 15 | F8: =F7+1 -> 22 | G8: =G7+1 -> 29 | I8: четверг | K8: =K7+1 -> 5 | L8: =L7+1 -> 12 | M8: =M7+1 -> 19 | N8: =N7+1 -> 26 | Q8: четверг | S8: =S7+1 -> 5 | T8: =T7+1 -> 12 | U8: =U7+1 -> 19 | V8: =V7+1 -> 26 | Y8: 4 | Z8: четверг | AA8: 46037
B9: пятница | C9: =C8+1 -> 2 | D9: =D8+1 -> 9 | E9: =E8+1 -> 16 | F9: =F8+1 -> 23 | G9: =G8+1 -> 30 | I9: пятница | K9: =K8+1 -> 6 | L9: =L8+1 -> 13 | M9: =M8+1 -> 20 | N9: =N8+1 -> 27 | Q9: пятница | S9: =S8+1 -> 6 | T9: =T8+1 -> 13 | U9: =U8+1 -> 20 | V9: =V8+1 -> 27 | Y9: 5 | Z9: пятница | AA9: 46038
B10: суббота | C10: =C9+1 -> 3 | D10: =D9+1 -> 10 | E10: =E9+1 -> 17 | F10: =F9+1 -> 24 | G10: =G9+1 -> 31 | I10: суббота | K10: =K9+1 -> 7 | L10: =L9+1 -> 14 | M10: =M9+1 -> 21 | N10: =N9+1 -> 28 | Q10: суббота | S10: =S9+1 -> 7 | T10: =T9+1 -> 14 | U10: =U9+1 -> 21 | V10: =V9+1 -> 28 | Z10: суббота | AA10: 46039
B11: воскресенье | C11: =C10+1 -> 4 | D11: =D10+1 -> 11 | E11: =E10+1 -> 18 | F11: =F10+1 -> 25 | I11: воскресенье | J11: 1 | K11: =K10+1 -> 8 | L11: =L10+1 -> 15 | M11: =M10+1 -> 22 | Q11: воскресенье | R11: 1 | S11: =S10+1 -> 8 | T11: =T10+1 -> 15 | U11: =U10+1 -> 22 | V11: =V10+1 -> 29 | Z11: воскресенье | AA11: 46040
Z12: понедельник | AA12: 46041
Z13: вторник | AA13: 46042
C14: Апрель | J14: Май | R14: Сентябрь | Z14: среда | AA14: 46043
B15: понедельник | D15: =C21+1 -> 6 | E15: =D15+7 -> 13 | F15: =E15+7 -> 20 | G15: =F15+7 -> 27 | I15: понедельник | K15: =J21+1 -> 4 | L15: =K15+7 -> 11 | M15: =L15+7 -> 18 | N15: =M15+7 -> 25 | Q15: понедельник | S15: =R15+7 -> 7 | T15: =S15+7 -> 14 | U15: =T15+7 -> 21 | V15: =U15+7 -> 28 | Z15: четверг | AA15: 46044
B16: вторник | D16: =D15+1 -> 7 | E16: =E15+1 -> 14 | F16: =F15+1 -> 21 | G16: =G15+1 -> 28 | I16: вторник | K16: =K15+1 -> 5 | L16: =L15+1 -> 12 | M16: =M15+1 -> 19 | N16: =N15+1 -> 26 | Q16: вторник | R16: 1 | S16: =S15+1 -> 8 | T16: =T15+1 -> 15 | U16: =U15+1 -> 22 | V16: =V15+1 -> 29 | Z16: пятница | AA16: 46045
B17: среда | C17: 1 | D17: =D16+1 -> 8 | E17: =E16+1 -> 15 | F17: =F16+1 -> 22 | G17: =G16+1 -> 29 | I17: среда | K17: =K16+1 -> 6 | L17: =L16+1 -> 13 | M17: =M16+1 -> 20 | N17: =N16+1 -> 27 | Q17: среда | R17: =R16+1 -> 2 | S17: =S16+1 -> 9 | T17: =T16+1 -> 16 | U17: =U16+1 -> 23 | V17: =V16+1 -> 30 | Z17: суббота | AA17: 46046
B18: четверг | C18: =C17+1 -> 2 | D18: =D17+1 -> 9 | E18: =E17+1 -> 16 | F18: =F17+1 -> 23 | G18: =G17+1 -> 30 | I18: четверг | K18: =K17+1 -> 7 | L18: =L17+1 -> 14 | M18: =M17+1 -> 21 | N18: =N17+1 -> 28 | Q18: четверг | R18: =R17+1 -> 3 | S18: =S17+1 -> 10 | T18: =T17+1 -> 17 | U18: =U17+1 -> 24 | Z18: воскресенье | AA18: 46047
B19: пятница | C19: =C18+1 -> 3 | D19: =D18+1 -> 10 | E19: =E18+1 -> 17 | F19: =F18+1 -> 24 | I19: пятница | J19: 1 | K19: =K18+1 -> 8 | L19: =L18+1 -> 15 | M19: =M18+1 -> 22 | N19: =N18+1 -> 29 | Q19: пятница | R19: =R18+1 -> 4 | S19: =S18+1 -> 11 | T19: =T18+1 -> 18 | U19: =U18+1 -> 25 | Z19: понедельник | AA19: 46048
B20: суббота | C20: =C19+1 -> 4 | D20: =D19+1 -> 11 | E20: =E19+1 -> 18 | F20: =F19+1 -> 25 | I20: суббота | J20: =J19+1 -> 2 | K20: =K19+1 -> 9 | L20: =L19+1 -> 16 | M20: =M19+1 -> 23 | N20: =N19+1 -> 30 | Q20: суббота | R20: =R19+1 -> 5 | S20: =S19+1 -> 12 | T20: =T19+1 -> 19 | U20: =U19+1 -> 26 | Z20: вторник | AA20: 46049
B21: воскресенье | C21: =C20+1 -> 5 | D21: =D20+1 -> 12 | E21: =E20+1 -> 19 | F21: =F20+1 -> 26 | I21: воскресенье | J21: =J20+1 -> 3 | K21: =K20+1 -> 10 | L21: =L20+1 -> 17 | M21: =M20+1 -> 24 | N21: =N20+1 -> 31 | Q21: воскресенье | R21: =R20+1 -> 6 | S21: =S20+1 -> 13 | T21: =T20+1 -> 20 | U21: =U20+1 -> 27 | Z21: среда | AA21: 46050
Z22: четверг | AA22: 46051
Z23: пятница | AA23: 46052
C24: Октябрь | J24: Ноябрь | R24: Декабрь | Z24: суббота | AA24: 46053
B25: понедельник | D25: =C31+1 -> 5 | E25: =D25+7 -> 12 | F25: =E25+7 -> 19 | G25: =F25+7 -> 26 | I25: понедельник | K25: =J31+1 -> 2 | L25: =K25+7 -> 9 | M25: =L25+7 -> 16 | N25: =M25+7 -> 23 | O25: =N25+7 -> 30 | Q25: понедельник | S25: =R31+1 -> 7 | T25: =S25+7 -> 14 | U25: =T25+7 -> 21 | V25: =U25+7 -> 28
B26: вторник | D26: =D25+1 -> 6 | E26: =E25+1 -> 13 | F26: =F25+1 -> 20 | G26: =G25+1 -> 27 | I26: вторник | K26: =K25+1 -> 3 | L26: =L25+1 -> 10 | M26: =M25+1 -> 17 | N26: =N25+1 -> 24 | Q26: вторник | R26: 1 | S26: =S25+1 -> 8 | T26: =T25+1 -> 15 | U26: =U25+1 -> 22 | V26: =V25+1 -> 29
B27: среда | D27: =D26+1 -> 7 | E27: =E26+1 -> 14 | F27: =F26+1 -> 21 | G27: =G26+1 -> 28 | I27: среда | K27: =K26+1 -> 4 | L27: =L26+1 -> 11 | M27: =M26+1 -> 18 | N27: =N26+1 -> 25 | Q27: среда | R27: =R26+1 -> 2 | S27: =S26+1 -> 9 | T27: =T26+1 -> 16 | U27: =U26+1 -> 23 | V27: =V26+1 -> 30 | Z27: февраль
B28: четверг | C28: 1 | D28: =D27+1 -> 8 | E28: =E27+1 -> 15 | F28: =F27+1 -> 22 | G28: =G27+1 -> 29 | I28: четверг | K28: =K27+1 -> 5 | L28: =L27+1 -> 12 | M28: =M27+1 -> 19 | N28: =N27+1 -> 26 | Q28: четверг | R28: =R27+1 -> 3 | S28: =S27+1 -> 10 | T28: =T27+1 -> 17 | U28: =U27+1 -> 24 | V28: =V27+1 -> 31 | Z28: воскресенье | AA28: 46054
B29: пятница | C29: =C28+1 -> 2 | D29: =D28+1 -> 9 | E29: =E28+1 -> 16 | F29: =F28+1 -> 23 | G29: =G28+1 -> 30 | I29: пятница | K29: =K28+1 -> 6 | L29: =L28+1 -> 13 | M29: =M28+1 -> 20 | N29: =N28+1 -> 27 | Q29: пятница | R29: =R28+1 -> 4 | S29: =S28+1 -> 11 | T29: =T28+1 -> 18 | U29: =U28+1 -> 25 | Z29: понедельник | AA29: 46055
B30: суббота | C30: =C29+1 -> 3 | D30: =D29+1 -> 10 | E30: =E29+1 -> 17 | F30: =F29+1 -> 24 | G30: =G29+1 -> 31 | I30: суббота | K30: =K29+1 -> 7 | L30: =L29+1 -> 14 | M30: =M29+1 -> 21 | N30: =N29+1 -> 28 | Q30: суббота | R30: =R29+1 -> 5 | S30: =S29+1 -> 12 | T30: =T29+1 -> 19 | U30: =U29+1 -> 26 | Z30: вторник | AA30: 46056
B31: воскресенье | C31: =C30+1 -> 4 | D31: =D30+1 -> 11 | E31: =E30+1 -> 18 | F31: =F30+1 -> 25 | I31: воскресенье | J31: 1 | K31: =K30+1 -> 8 | L31: =L30+1 -> 15 | M31: =M30+1 -> 22 | N31: =N30+1 -> 29 | Q31: воскресенье | R31: =R30+1 -> 6 | S31: =S30+1 -> 13 | T31: =T30+1 -> 20 | U31: =U30+1 -> 27 | Z31: среда | AA31: 46057
Z32: четверг | AA32: 46058
B33: 2027 | Z33: пятница | AA33: 46059
C34: январь | J34: Февраль | R34: Март | Z34: суббота | AA34: 46060
B35: понедельник | D35: =C41+1 -> 4 | E35: =D41+1 -> 11 | F35: =E35+7 -> 18 | G35: =F35+7 -> 25 | I35: понедельник | J35: 1 | K35: =J41+1 -> 8 | L35: =K35+7 -> 15 | M35: =L35+7 -> 22 | Q35: понедельник | R35: 1 | S35: =R41+1 -> 8 | T35: =S35+7 -> 15 | U35: =T35+7 -> 22 | V35: =U35+7 -> 29 | Z35: воскресенье | AA35: 46061
B36: вторник | D36: =D35+1 -> 5 | E36: =E35+1 -> 12 | F36: =F35+1 -> 19 | G36: =G35+1 -> 26 | I36: вторник | J36: =J35+1 -> 2 | K36: =K35+1 -> 9 | L36: =L35+1 -> 16 | M36: =M35+1 -> 23 | Q36: вторник | R36: =R35+1 -> 2 | S36: =S35+1 -> 9 | T36: =T35+1 -> 16 | U36: =U35+1 -> 23 | V36: =V35+1 -> 30 | Z36: понедельник | AA36: 46062
B37: среда | D37: =D36+1 -> 6 | E37: =E36+1 -> 13 | F37: =F36+1 -> 20 | G37: =G36+1 -> 27 | I37: среда | J37: =J36+1 -> 3 | K37: =K36+1 -> 10 | L37: =L36+1 -> 17 | M37: =M36+1 -> 24 | Q37: среда | R37: =R36+1 -> 3 | S37: =S36+1 -> 10 | T37: =T36+1 -> 17 | U37: =U36+1 -> 24 | V37: =V36+1 -> 31 | Z37: вторник | AA37: 46063
B38: четверг | D38: =D37+1 -> 7 | E38: =E37+1 -> 14 | F38: =F37+1 -> 21 | G38: =G37+1 -> 28 | I38: четверг | J38: =J37+1 -> 4 | K38: =K37+1 -> 11 | L38: =L37+1 -> 18 | M38: =M37+1 -> 25 | Q38: четверг | R38: =R37+1 -> 4 | S38: =S37+1 -> 11 | T38: =T37+1 -> 18 | U38: =U37+1 -> 25 | Z38: среда | AA38: 46064
B39: пятница | C39: =C38+1 -> 1 | D39: =D38+1 -> 8 | E39: =E38+1 -> 15 | F39: =F38+1 -> 22 | G39: =G38+1 -> 29 | I39: пятница | J39: =J38+1 -> 5 | K39: =K38+1 -> 12 | L39: =L38+1 -> 19 | M39: =M38+1 -> 26 | Q39: пятница | R39: =R38+1 -> 5 | S39: =S38+1 -> 12 | T39: =T38+1 -> 19 | U39: =U38+1 -> 26 | Z39: четверг | AA39: 46065
B40: суббота | C40: =C39+1 -> 2 | D40: =D39+1 -> 9 | E40: =E39+1 -> 16 | F40: =F39+1 -> 23 | G40: =G39+1 -> 30 | I40: суббота | J40: =J39+1 -> 6 | K40: =K39+1 -> 13 | L40: =L39+1 -> 20 | M40: =M39+1 -> 27 | Q40: суббота | R40: =R39+1 -> 6 | S40: =S39+1 -> 13 | T40: =T39+1 -> 20 | U40: =U39+1 -> 27 | Z40: пятница | AA40: 46066
B41: воскресенье | C41: =C40+1 -> 3 | D41: =D40+1 -> 10 | E41: =E40+1 -> 17 | F41: =F40+1 -> 24 | G41: =G40+1 -> 31 | I41: воскресенье | J41: =J40+1 -> 7 | K41: =K40+1 -> 14 | L41: =L40+1 -> 21 | M41: =M40+1 -> 28 | Q41: воскресенье | R41: =R40+1 -> 7 | S41: =S40+1 -> 14 | T41: =T40+1 -> 21 | U41: =U40+1 -> 28 | Z41: суббота | AA41: 46067
Z42: воскресенье | AA42: 46068
Z43: понедельник | AA43: 46069
C44: Апрель | J44: Май | R44: Сентябрь | Z44: вторник | AA44: 46070
B45: понедельник | D45: =C51+1 -> 5 | E45: =D45+7 -> 12 | F45: =E45+7 -> 19 | G45: =F45+7 -> 26 | I45: понедельник | K45: =J51+1 -> 3 | L45: =K45+7 -> 10 | M45: =L45+7 -> 17 | N45: =M45+7 -> 24 | O45: =N45+7 -> 31 | Q45: понедельник | S45: =R51+1 -> 6 | T45: =S45+7 -> 13 | U45: =T45+7 -> 20 | V45: =U45+7 -> 27 | Z45: среда | AA45: 46071
B46: вторник | D46: =D45+1 -> 6 | E46: =E45+1 -> 13 | F46: =F45+1 -> 20 | G46: =G45+1 -> 27 | I46: вторник | K46: =K45+1 -> 4 | L46: =L45+1 -> 11 | M46: =M45+1 -> 18 | N46: =N45+1 -> 25 | Q46: вторник | S46: =S45+1 -> 7 | T46: =T45+1 -> 14 | U46: =U45+1 -> 21 | V46: =V45+1 -> 28 | Z46: четверг | AA46: 46072
B47: среда | D47: =D46+1 -> 7 | E47: =E46+1 -> 14 | F47: =F46+1 -> 21 | G47: =G46+1 -> 28 | I47: среда | K47: =K46+1 -> 5 | L47: =L46+1 -> 12 | M47: =M46+1 -> 19 | N47: =N46+1 -> 26 | Q47: среда | R47: 1 | S47: =S46+1 -> 8 | T47: =T46+1 -> 15 | U47: =U46+1 -> 22 | V47: =V46+1 -> 29 | Z47: пятница | AA47: 46073
B48: четверг | C48: 1 | D48: =D47+1 -> 8 | E48: =E47+1 -> 15 | F48: =F47+1 -> 22 | G48: =G47+1 -> 29 | I48: четверг | K48: =K47+1 -> 6 | L48: =L47+1 -> 13 | M48: =M47+1 -> 20 | N48: =N47+1 -> 27 | Q48: четверг | R48: =R47+1 -> 2 | S48: =S47+1 -> 9 | T48: =T47+1 -> 16 | U48: =U47+1 -> 23 | V48: =V47+1 -> 30 | Z48: суббота | AA48: 46074
B49: пятница | C49: =C48+1 -> 2 | D49: =D48+1 -> 9 | E49: =E48+1 -> 16 | F49: =F48+1 -> 23 | G49: =G48+1 -> 30 | I49: пятница | K49: =K48+1 -> 7 | L49: =L48+1 -> 14 | M49: =M48+1 -> 21 | N49: =N48+1 -> 28 | Q49: пятница | R49: =R48+1 -> 3 | S49: =S48+1 -> 10 | T49: =T48+1 -> 17 | U49: =U48+1 -> 24 | Z49: воскресенье | AA49: 46075
B50: суббота | C50: =C49+1 -> 3 | D50: =D49+1 -> 10 | E50: =E49+1 -> 17 | F50: =F49+1 -> 24 | I50: суббота | J50: =J49+1 -> 1 | K50: =K49+1 -> 8 | L50: =L49+1 -> 15 | M50: =M49+1 -> 22 | N50: =N49+1 -> 29 | Q50: суббота | R50: =R49+1 -> 4 | S50: =S49+1 -> 11 | T50: =T49+1 -> 18 | U50: =U49+1 -> 25 | Z50: понедельник | AA50: 46076
B51: воскресенье | C51: =C50+1 -> 4 | D51: =D50+1 -> 11 | E51: =E50+1 -> 18 | F51: =F50+1 -> 25 | I51: воскресенье | J51: =J50+1 -> 2 | K51: =K50+1 -> 9 | L51: =L50+1 -> 16 | M51: =M50+1 -> 23 | N51: =N50+1 -> 30 | Q51: воскресенье | R51: =R50+1 -> 5 | S51: =S50+1 -> 12 | T51: =T50+1 -> 19 | U51: =U50+1 -> 26 | Z51: вторник | AA51: 46077
Z52: среда | AA52: 46078
Z53: четверг | AA53: 46079
C54: Октябрь | J54: Ноябрь | R54: Декабрь | Z54: пятница | AA54: 46080
B55: понедельник | D55: =C61+1 -> 4 | E55: =D55+7 -> 11 | F55: =E55+7 -> 18 | G55: =F55+7 -> 25 | I55: понедельник | J55: =I54+1 -> 1 | K55: =J61+1 -> 8 | L55: =K55+7 -> 15 | M55: =L55+7 -> 22 | N55: =M55+7 -> 29 | Q55: понедельник | S55: =R61+1 -> 6 | T55: =S55+7 -> 13 | U55: =T55+7 -> 20 | V55: =U55+7 -> 27 | Z55: суббота | AA55: 46081
B56: вторник | D56: =D55+1 -> 5 | E56: =E55+1 -> 12 | F56: =F55+1 -> 19 | G56: =G55+1 -> 26 | I56: вторник | J56: =J55+1 -> 2 | K56: =K55+1 -> 9 | L56: =L55+1 -> 16 | M56: =M55+1 -> 23 | N56: =N55+1 -> 30 | Q56: вторник | S56: =S55+1 -> 7 | T56: =T55+1 -> 14 | U56: =U55+1 -> 21 | V56: =V55+1 -> 28 | Z56: воскресенье
B57: среда | D57: =D56+1 -> 6 | E57: =E56+1 -> 13 | F57: =F56+1 -> 20 | G57: =G56+1 -> 27 | I57: среда | J57: =J56+1 -> 3 | K57: =K56+1 -> 10 | L57: =L56+1 -> 17 | M57: =M56+1 -> 24 | Q57: среда | R57: =R56+1 -> 1 | S57: =S56+1 -> 8 | T57: =T56+1 -> 15 | U57: =U56+1 -> 22 | V57: =V56+1 -> 29
B58: четверг | D58: =D57+1 -> 7 | E58: =E57+1 -> 14 | F58: =F57+1 -> 21 | G58: =G57+1 -> 28 | I58: четверг | J58: =J57+1 -> 4 | K58: =K57+1 -> 11 | L58: =L57+1 -> 18 | M58: =M57+1 -> 25 | Q58: четверг | R58: =R57+1 -> 2 | S58: =S57+1 -> 9 | T58: =T57+1 -> 16 | U58: =U57+1 -> 23 | V58: =V57+1 -> 30
B59: пятница | C59: =C58+1 -> 1 | D59: =D58+1 -> 8 | E59: =E58+1 -> 15 | F59: =F58+1 -> 22 | G59: =G58+1 -> 29 | I59: пятница | J59: =J58+1 -> 5 | K59: =K58+1 -> 12 | L59: =L58+1 -> 19 | M59: =M58+1 -> 26 | Q59: пятница | R59: =R58+1 -> 3 | S59: =S58+1 -> 10 | T59: =T58+1 -> 17 | U59: =U58+1 -> 24 | V59: =V58+1 -> 31
B60: суббота | C60: =C59+1 -> 2 | D60: =D59+1 -> 9 | E60: =E59+1 -> 16 | F60: =F59+1 -> 23 | G60: =G59+1 -> 30 | I60: суббота | J60: =J59+1 -> 6 | K60: =K59+1 -> 13 | L60: =L59+1 -> 20 | M60: =M59+1 -> 27 | Q60: суббота | R60: =R59+1 -> 4 | S60: =S59+1 -> 11 | T60: =T59+1 -> 18 | U60: =U59+1 -> 25
B61: воскресенье | C61: =C60+1 -> 3 | D61: =D60+1 -> 10 | E61: =E60+1 -> 17 | F61: =F60+1 -> 24 | G61: =G60+1 -> 31 | I61: воскресенье | J61: =J60+1 -> 7 | K61: =K60+1 -> 14 | L61: =L60+1 -> 21 | M61: =M60+1 -> 28 | Q61: воскресенье | R61: =R60+1 -> 5 | S61: =S60+1 -> 12 | T61: =T60+1 -> 19 | U61: =U60+1 -> 26

Sheet предметы
A2: 1 класс | B2: 2 класс | C2: 3 класс | D2: 4 класс | E2: 5 класс | F2: 6 класс | G2: 7 класс | H2: 8 класс | I2: 9 класс | J2: 10 класс | K2: 11 класс
A3: СТД МА | B3: КР АЯ | C3: КР АЯ | D3: ВПР АЯ | E3: ВПР АЯ | F3: ВПР АЯ | G3: ВПР АЯ | H3: ВПР АЯ | I3: КР АЯ | J3: ВПР АЯ | K3: КР АЯ
A4: СТД РУ | B4: КР НЕМ | C4: КР НЕМ | D4: ВПР МА | E4: ВПР МА | F4: ВПР МА | G4: ВПР МА | H4: ВПР МА | I4: КР АЛГЕБРА | J4: ВПР МА | K4: КР АЛГЕБРА
A5: СТД ОКР | B5: КР ФР | C5: КР ФР | D5: ВПР РУ | E5: ВПР РУ | F5: ВПР РУ | G5: ВПР РУ | H5: ВПР РУ | I5: КР ГЕОМЕТРИЯ | J5: ВПР РУ | K5: КР ГЕОМЕТРИЯ
B6: КР МА | C6: КР МА | D6: ВПР ОКР | E6: ВПР БИО | F6: ВПР БИО | G6: ВПР БИО | H6: ВПР БИО | I6: КР ВЕР И СТ | J6: ВПР БИО | K6: КР ВЕР И СТ
B7: КР РУ | C7: КР РУ | D7: ВПР ЛИ | E7: ВПР ГЕО | F7: ВПР ГЕО | G7: ВПР ГЕО | H7: ВПР ГЕО | I7: КР РУ | J7: ВПР ГЕО | K7: КР РУ
B8: КР ОКР | C8: КР ОКР | D8: ВПР НЕМ | E8: ВПР ИСТ | F8: ВПР ИСТ | G8: ВПР ИСТ | H8: ВПР ИСТ | I8: КР БИО | J8: ВПР ИСТ | K8: КР БИО
B9: КР ЛИ | C9: КР ЛИ | D9: ВПР ФР | E9: ВПР ЛИ | F9: ВПР ЛИ | G9: ВПР ЛИ | H9: ВПР ЛИ | I9: КР ГЕО | J9: ВПР ЛИ | K9: КР ГЕО
B10: СТД МА | D10: КР НЕМ | E10: ВПР НЕМ | F10: ВПР НЕМ | G10: ВПР ФИЗ | H10: ВПР ФИЗ | I10: КР ИСТ | J10: ВПР ФИЗ | K10: КР ИСТ
B11: СТД РУ | D11: КР ФР | E11: ВПР ФР | F11: ВПР ФР | G11: ВПР НЕМ | H11: ВПР НЕМ | I11: КР ЛИ | J11: ВПР НЕМ | K11: КР ЛИ
D12: КР АЯ | E12: КР АЯ | F12: ВПР ОБЩ | G12: ВПР ФР | H12: ВПР ФР | I12: КР ФИЗ | J12: ВПР ФР | K12: КР ФИЗ
D13: КР МА | E13: КР МА | F13: КР АЯ | G13: ВПР ОБЩ | H13: ВПР ОБЩ | I13: КР НЕМ | J13: ВПР ОБЩ | K13: КР НЕМ
D14: КР РУ | E14: КР РУ | F14: КР МА | G14: ВПР ИНФ | H14: ВПР ИНФ | I14: КР ФР | J14: ВПР ИНФ | K14: КР ФР
D15: КР ОКР | E15: КР БИО | F15: КР РУ | G15: КР АЯ | H15: ВПР ХИМ | I15: КР ОБЩ | J15: ВПР ХИМ | K15: КР ОБЩ
D16: КР ЛИ | E16: КР ГЕО | F16: КР БИО | G16: КР АЛГЕБРА | H16: КР АЯ | I16: КР ИНФ | J16: КР АЯ | K16: КР ИНФ
E17: КР ИСТ | F17: КР ГЕО | G17: КР ГЕОМЕТРИЯ | H17: КР АЛГЕБРА | I17: КР ХИМ | J17: КР АЛГЕБРА | K17: КР ХИМ
E18: КР ЛИ | F18: КР ИСТ | G18: КР ВЕР И СТ | H18: КР ГЕОМЕТРИЯ | I18: СТД ОБЩ | J18: КР ГЕОМЕТРИЯ
E19: КР НЕМ | F19: КР ЛИ | G19: КР РУ | H19: КР ВЕР И СТ | J19: КР ВЕР И СТ
E20: КР ФР | F20: КР НЕМ | G20: КР БИО | H20: КР РУ | J20: КР РУ
E21: СТД АЯ | F21: КР ФР | G21: КР ГЕО | H21: КР БИО | J21: КР БИО
E22: СТД МА | F22: КР ОБЩ | G22: КР ИСТ | H22: КР ГЕО | J22: КР ГЕО
E23: СТД РУ | G23: КР ЛИ | H23: КР ИСТ | J23: КР ИСТ
E24: СТД БИО | G24: КР ФИЗ | H24: КР ЛИ | J24: КР ЛИ
E25: СТД ГЕО | G25: КР НЕМ | H25: КР ФИЗ | J25: КР ФИЗ
E26: СТД ИСТ | G26: КР ФР | H26: КР НЕМ | J26: КР НЕМ
E27: СТД ЛИ | G27: КР ОБЩ | H27: КР ФР | J27: КР ФР
E28: СТД НЕМ | G28: КР ИНФ | H28: КР ОБЩ | J28: КР ОБЩ
E29: СТД ФР | G29: СТД ИНФ | H29: КР ИНФ | J29: КР ИНФ
G30: СТД АЛГЕБРА | H30: КР ХИМ | J30: КР ХИМ
G31: СТД ГЕОМЕТРИЯ | H31: СТД ХИМ
G32: СТД ВЕР И СТ
G33: СТД ФИЗ

Sheet Проверка
C3: 1 класс | I3: 2 класс | O3: 3 класс | U3: 4 класс | AA3: 5 класс | AG3: 6 класс | AM3: 7 класс | AS3: 8 класс | AY3: 9 класс | BE3: 10 класс | BK3: 11 класс
C4: 2 - 5 урок | I4: 2 - 5 урок | O4: 2 - 5 урок | U4: 2 - 5 урок | AA4: 2 - 6 урок | AG4: 2 - 6 урок | AM4: 2 - 6 урок | AS4: 2 - 6 урок | AY4: 2 - 6 урок | BE4: 2 - 6 урок | BK4: 2 - 6 урок
A5: дата | B5: день недели | C5: а | D5: б | E5: в | F5: г | G5: д | H5: е | I5: а | J5: б | K5: в | L5: г | M5: д | N5: е | O5: а | P5: б | Q5: в | R5: г | S5: д | T5: е | U5: а | V5: б | W5: в | X5: г | Y5: д | Z5: е | AA5: а | AB5: б | AC5: в | AD5: г | AE5: д | AF5: е | AG5: а | AH5: б | AI5: в | AJ5: г | AK5: д | AL5: е | AM5: а | AN5: б | AO5: в | AP5: г | AQ5: д | AR5: е | AS5: а | AT5: б | AU5: в | AV5: г | AW5: д | AX5: е | AY5: а | AZ5: б | BA5: в | BB5: г | BC5: д | BD5: е | BE5: а | BF5: б | BG5: в | BH5: г | BI5: д | BJ5: е | BK5: а | BL5: б | BM5: в | BN5: г | BO5: д | BP5: е
A6: 46266 | B6: ВТ | C6: =IF(COUNTIFS('График 1-4 кл'!C6:C22,'График 1-4 кл'!C6)>1,"<17 (ВПР, КР)","*") -> * | D6: =IF(COUNTIFS('График 1-4 кл'!D6:D22,'График 1-4 кл'!D6)>1,"<17 (ВПР, КР)","*") -> * | E6: =IF(COUNTIFS('График 1-4 кл'!E6:E22,'График 1-4 кл'!E6)>1,"<17 (ВПР, КР)","*") -> * | F6: =IF(COUNTIFS(#REF!,#REF!)>1,"<17 (ВПР, КР)","*") -> * | G6: =IF(COUNTIFS(#REF!,#REF!)>1,"<17 (ВПР, КР)","*") -> * | H6: =IF(COUNTIFS(#REF!,#REF!)>1,"<17 (ВПР, КР)","*") -> * | I6: =IF(COUNTIFS('График 1-4 кл'!F6:F22,'График 1-4 кл'!F6)>1,"<17 (ВПР, КР)","*") -> * | J6: =IF(COUNTIFS('График 1-4 кл'!G6:G22,'График 1-4 кл'!G6)>1,"<17 (ВПР, КР)","*") -> * | K6: =IF(COUNTIFS('График 1-4 кл'!H6:H22,'График 1-4 кл'!H6)>1,"<17 (ВПР, КР)","*") -> * | L6: =IF(COUNTIFS('График 1-4 кл'!I6:I22,'График 1-4 кл'!I6)>1,"<17 (ВПР, КР)","*") -> * | M6: =IF(COUNTIFS(#REF!,#REF!)>1,"<17 (ВПР, КР)","*") -> * | N6: =IF(COUNTIFS(#REF!,#REF!)>1,"<17 (ВПР, КР)","*") -> * | O6: =IF(COUNTIFS('График 1-4 кл'!J6:J22,'График 1-4 кл'!J6)>1,"<17 (ВПР, КР)","*") -> * | P6: =IF(COUNTIFS('График 1-4 кл'!K6:K22,'График 1-4 кл'!K6)>1,"<17 (ВПР, КР)","*") -> * | Q6: =IF(COUNTIFS('График 1-4 кл'!L6:L22,'График 1-4 кл'!L6)>1,"<17 (ВПР, КР)","*") -> * | R6: =IF(COUNTIFS('График 1-4 кл'!M6:M22,'График 1-4 кл'!M6)>1,"<17 (ВПР, КР)","*") -> * | S6: =IF(COUNTIFS('График 1-4 кл'!N6:N22,'График 1-4 кл'!N6)>1,"<17 (ВПР, КР)","*") -> * | T6: =IF(COUNTIFS('График 1-4 кл'!O6:O22,'График 1-4 кл'!O6)>1,"<17 (ВПР, КР)","*") -> * | U6: =IF(OR(COUNTIFS('График 1-4 кл'!P6:P22,'График 1-4 кл'!P6)>1,AND('График 1-4 кл'!P6='предметы'!$D$3,COUNTIFS('График 1-4 кл'!P6:P22,'предметы'!$D$12)>0),AND('График 1-4 кл'!P6='предметы'!$D$12,COUNTIFS('График 1-4 кл'!P6:P22,'предметы'!$D$3)>0),AND('График 1-4 кл'!P6='предметы'!$D$4,COUNTIFS('График 1-4 кл'!P6:P22,'предметы'!$D$13)>0),AND('График 1-4 кл'!P6='предметы'!$D$13,COUNTIFS('График 1-4 кл'!P6:P22,'предметы'!$D$4)>0),AND('График 1-4 кл'!P6='предметы'!$D$14,COUNTIFS('График 1-4 кл'!P6:P22,'предметы'!$D$5)>0),AND('График 1-4 кл'!P6='предметы'!$D$5,COUNTIFS('График 1-4 кл'!P6:P22,'предметы'!$D$14)>0),AND('График 1-4 кл'!P6='предметы'!$D$15,COUNTIFS('График 1-4 кл'!P6:P22,'предметы'!$D$6)>0),AND('График 1-4 кл'!P6='предметы'!$D$6,COUNTIFS('График 1-4 кл'!P6:P22,'предметы'!$D$15)>0),AND('График 1-4 кл'!P6='предметы'!$D$16,COUNTIFS('График 1-4 кл'!P6:P22,'предметы'!$D$7)>0),AND('График 1-4 кл'!P6='предметы'!$D$7,COUNTIFS('График 1-4 кл'!P6:P22,'предметы'!$D$16)>0),AND('График 1-4 кл'!P6='предметы'!$D$8,COUNTIFS('График 1-4 кл'!P6:P22,'предметы'!$D$10)>0),AND('График 1-4 кл'!P6='предметы'!$D$10,COUNTIFS('График 1-4 кл'!P6:P22,'предметы'!$D$8)>0),AND('График 1-4 кл'!P6='предметы'!$D$9,COUNTIFS('График 1-4 кл'!P6:P22,'предметы'!$D$11)>0),AND('График 1-4 кл'!P6='предметы'!$D$11,COUNTIFS('График 1-4 кл'!P6:P22,'предметы'!$D$9)>0)),"<17 (ВПР, КР)","*") -> #REF! | V6: =IF(OR(COUNTIFS('График 1-4 кл'!Q6:Q22,'График 1-4 кл'!Q6)>1,AND('График 1-4 кл'!Q6='предметы'!$D$3,COUNTIFS('График 1-4 кл'!Q6:Q22,'предметы'!$D$12)>0),AND('График 1-4 кл'!Q6='предметы'!$D$12,COUNTIFS('График 1-4 кл'!Q6:Q22,'предметы'!$D$3)>0),AND('График 1-4 кл'!Q6='предметы'!$D$4,COUNTIFS('График 1-4 кл'!Q6:Q22,'предметы'!$D$13)>0),AND('График 1-4 кл'!Q6='предметы'!$D$13,COUNTIFS('График 1-4 кл'!Q6:Q22,'предметы'!$D$4)>0),AND('График 1-4 кл'!Q6='предметы'!$D$14,COUNTIFS('График 1-4 кл'!Q6:Q22,'предметы'!$D$5)>0),AND('График 1-4 кл'!Q6='предметы'!$D$5,COUNTIFS('График 1-4 кл'!Q6:Q22,'предметы'!$D$14)>0),AND('График 1-4 кл'!Q6='предметы'!$D$15,COUNTIFS('График 1-4 кл'!Q6:Q22,'предметы'!$D$6)>0),AND('График 1-4 кл'!Q6='предметы'!$D$6,COUNTIFS('График 1-4 кл'!Q6:Q22,'предметы'!$D$15)>0),AND('График 1-4 кл'!Q6='предметы'!$D$16,COUNTIFS('График 1-4 кл'!Q6:Q22,'предметы'!$D$7)>0),AND('График 1-4 кл'!Q6='предметы'!$D$7,COUNTIFS('График 1-4 кл'!Q6:Q22,'предметы'!$D$16)>0),AND('График 1-4 кл'!Q6='предметы'!$D$8,COUNTIFS('График 1-4 кл'!Q6:Q22,'предметы'!$D$10)>0),AND('График 1-4 кл'!Q6='предметы'!$D$10,COUNTIFS('График 1-4 кл'!Q6:Q22,'предметы'!$D$8)>0),AND('График 1-4 кл'!Q6='предметы'!$D$9,COUNTIFS('График 1-4 кл'!Q6:Q22,'предметы'!$D$11)>0),AND('График 1-4 кл'!Q6='предметы'!$D$11,COUNTIFS('График 1-4 кл'!Q6:Q22,'предметы'!$D$9)>0)),"<17 (ВПР, КР)","*") -> #REF! | W6: =IF(OR(COUNTIFS('График 1-4 кл'!R6:R22,'График 1-4 кл'!R6)>1,AND('График 1-4 кл'!R6='предметы'!$D$3,COUNTIFS('График 1-4 кл'!R6:R22,'предметы'!$D$12)>0),AND('График 1-4 кл'!R6='предметы'!$D$12,COUNTIFS('График 1-4 кл'!R6:R22,'предметы'!$D$3)>0),AND('График 1-4 кл'!R6='предметы'!$D$4,COUNTIFS('График 1-4 кл'!R6:R22,'предметы'!$D$13)>0),AND('График 1-4 кл'!R6='предметы'!$D$13,COUNTIFS('График 1-4 кл'!R6:R22,'предметы'!$D$4)>0),AND('График 1-4 кл'!R6='предметы'!$D$14,COUNTIFS('График 1-4 кл'!R6:R22,'предметы'!$D$5)>0),AND('График 1-4 кл'!R6='предметы'!$D$5,COUNTIFS('График 1-4 кл'!R6:R22,'предметы'!$D$14)>0),AND('График 1-4 кл'!R6='предметы'!$D$15,COUNTIFS('График 1-4 кл'!R6:R22,'предметы'!$D$6)>0),AND('График 1-4 кл'!R6='предметы'!$D$6,COUNTIFS('График 1-4 кл'!R6:R22,'предметы'!$D$15)>0),AND('График 1-4 кл'!R6='предметы'!$D$16,COUNTIFS('График 1-4 кл'!R6:R22,'предметы'!$D$7)>0),AND('График 1-4 кл'!R6='предметы'!$D$7,COUNTIFS('График 1-4 кл'!R6:R22,'предметы'!$D$16)>0),AND('График 1-4 кл'!R6='предметы'!$D$8,COUNTIFS('График 1-4 кл'!R6:R22,'предметы'!$D$10)>0),AND('График 1-4 кл'!R6='предметы'!$D$10,COUNTIFS('График 1-4 кл'!R6:R22,'предметы'!$D$8)>0),AND('График 1-4 кл'!R6='предметы'!$D$9,COUNTIFS('График 1-4 кл'!R6:R22,'предметы'!$D$11)>0),AND('График 1-4 кл'!R6='предметы'!$D$11,COUNTIFS('График 1-4 кл'!R6:R22,'предметы'!$D$9)>0)),"<17 (ВПР, КР)","*") -> #REF! | X6: =IF(OR(COUNTIFS('График 1-4 кл'!S6:S22,'График 1-4 кл'!S6)>1,AND('График 1-4 кл'!S6='предметы'!$D$3,COUNTIFS('График 1-4 кл'!S6:S22,'предметы'!$D$12)>0),AND('График 1-4 кл'!S6='предметы'!$D$12,COUNTIFS('График 1-4 кл'!S6:S22,'предметы'!$D$3)>0),AND('График 1-4 кл'!S6='предметы'!$D$4,COUNTIFS('График 1-4 кл'!S6:S22,'предметы'!$D$13)>0),AND('График 1-4 кл'!S6='предметы'!$D$13,COUNTIFS('График 1-4 кл'!S6:S22,'предметы'!$D$4)>0),AND('График 1-4 кл'!S6='предметы'!$D$14,COUNTIFS('График 1-4 кл'!S6:S22,'предметы'!$D$5)>0),AND('График 1-4 кл'!S6='предметы'!$D$5,COUNTIFS('График 1-4 кл'!S6:S22,'предметы'!$D$14)>0),AND('График 1-4 кл'!S6='предметы'!$D$15,COUNTIFS('График 1-4 кл'!S6:S22,'предметы'!$D$6)>0),AND('График 1-4 кл'!S6='предметы'!$D$6,COUNTIFS('График 1-4 кл'!S6:S22,'предметы'!$D$15)>0),AND('График 1-4 кл'!S6='предметы'!$D$16,COUNTIFS('График 1-4 кл'!S6:S22,'предметы'!$D$7)>0),AND('График 1-4 кл'!S6='предметы'!$D$7,COUNTIFS('График 1-4 кл'!S6:S22,'предметы'!$D$16)>0),AND('График 1-4 кл'!S6='предметы'!$D$8,COUNTIFS('График 1-4 кл'!S6:S22,'предметы'!$D$10)>0),AND('График 1-4 кл'!S6='предметы'!$D$10,COUNTIFS('График 1-4 кл'!S6:S22,'предметы'!$D$8)>0),AND('График 1-4 кл'!S6='предметы'!$D$9,COUNTIFS('График 1-4 кл'!S6:S22,'предметы'!$D$11)>0),AND('График 1-4 кл'!S6='предметы'!$D$11,COUNTIFS('График 1-4 кл'!S6:S22,'предметы'!$D$9)>0)),"<17 (ВПР, КР)","*") -> #REF! | Y6: =IF(OR(COUNTIFS('График 1-4 кл'!T6:T22,'График 1-4 кл'!T6)>1,AND('График 1-4 кл'!T6='предметы'!$D$3,COUNTIFS('График 1-4 кл'!T6:T22,'предметы'!$D$12)>0),AND('График 1-4 кл'!T6='предметы'!$D$12,COUNTIFS('График 1-4 кл'!T6:T22,'предметы'!$D$3)>0),AND('График 1-4 кл'!T6='предметы'!$D$4,COUNTIFS('График 1-4 кл'!T6:T22,'предметы'!$D$13)>0),AND('График 1-4 кл'!T6='предметы'!$D$13,COUNTIFS('График 1-4 кл'!T6:T22,'предметы'!$D$4)>0),AND('График 1-4 кл'!T6='предметы'!$D$14,COUNTIFS('График 1-4 кл'!T6:T22,'предметы'!$D$5)>0),AND('График 1-4 кл'!T6='предметы'!$D$5,COUNTIFS('График 1-4 кл'!T6:T22,'предметы'!$D$14)>0),AND('График 1-4 кл'!T6='предметы'!$D$15,COUNTIFS('График 1-4 кл'!T6:T22,'предметы'!$D$6)>0),AND('График 1-4 кл'!T6='предметы'!$D$6,COUNTIFS('График 1-4 кл'!T6:T22,'предметы'!$D$15)>0),AND('График 1-4 кл'!T6='предметы'!$D$16,COUNTIFS('График 1-4 кл'!T6:T22,'предметы'!$D$7)>0),AND('График 1-4 кл'!T6='предметы'!$D$7,COUNTIFS('График 1-4 кл'!T6:T22,'предметы'!$D$16)>0),AND('График 1-4 кл'!T6='предметы'!$D$8,COUNTIFS('График 1-4 кл'!T6:T22,'предметы'!$D$10)>0),AND('График 1-4 кл'!T6='предметы'!$D$10,COUNTIFS('График 1-4 кл'!T6:T22,'предметы'!$D$8)>0),AND('График 1-4 кл'!T6='предметы'!$D$9,COUNTIFS('График 1-4 кл'!T6:T22,'предметы'!$D$11)>0),AND('График 1-4 кл'!T6='предметы'!$D$11,COUNTIFS('График 1-4 кл'!T6:T22,'предметы'!$D$9)>0)),"<17 (ВПР, КР)","*") -> #REF! | Z6: =IF(OR(COUNTIFS(#REF!,#REF!)>1,AND(#REF!='предметы'!$D$3,COUNTIFS(#REF!,'предметы'!$D$12)>0),AND(#REF!='предметы'!$D$12,COUNTIFS(#REF!,'предметы'!$D$3)>0),AND(#REF!='предметы'!$D$4,COUNTIFS(#REF!,'предметы'!$D$13)>0),AND(#REF!='предметы'!$D$13,COUNTIFS(#REF!,'предметы'!$D$4)>0),AND(#REF!='предметы'!$D$14,COUNTIFS(#REF!,'предметы'!$D$5)>0),AND(#REF!='предметы'!$D$5,COUNTIFS(#REF!,'предметы'!$D$14)>0),AND(#REF!='предметы'!$D$15,COUNTIFS(#REF!,'предметы'!$D$6)>0),AND(#REF!='предметы'!$D$6,COUNTIFS(#REF!,'предметы'!$D$15)>0),AND(#REF!='предметы'!$D$16,COUNTIFS(#REF!,'предметы'!$D$7)>0),AND(#REF!='предметы'!$D$7,COUNTIFS(#REF!,'предметы'!$D$16)>0),AND(#REF!='предметы'!$D$8,COUNTIFS(#REF!,'предметы'!$D$10)>0),AND(#REF!='предметы'!$D$10,COUNTIFS(#REF!,'предметы'!$D$8)>0),AND(#REF!='предметы'!$D$9,COUNTIFS(#REF!,'предметы'!$D$11)>0),AND(#REF!='предметы'!$D$11,COUNTIFS(#REF!,'предметы'!$D$9)>0)),"<17 (ВПР, КР)","*") -> #REF! | AA6: =IF(OR(COUNTIFS(#REF!,#REF!)>1,AND(#REF!='предметы'!$E$3,COUNTIFS(#REF!,'предметы'!$E$12)>0),AND(#REF!='предметы'!$E$12,COUNTIFS(#REF!,'предметы'!$E$3)>0),AND(#REF!='предметы'!$E$4,COUNTIFS(#REF!,'предметы'!$E$13)>0),AND(#REF!='предметы'!$E$13,COUNTIFS(#REF!,'предметы'!$E$4)>0),AND(#REF!='предметы'!$E$5,COUNTIFS(#REF!,'предметы'!$E$14)>0),AND(#REF!='предметы'!$E$14,COUNTIFS(#REF!,'предметы'!$E$5)>0),AND(#REF!='предметы'!$E$6,COUNTIFS(#REF!,'предметы'!$E$15)>0),AND(#REF!='предметы'!$E$15,COUNTIFS(#REF!,'предметы'!$E$6)>0),AND(#REF!='предметы'!$E$7,COUNTIFS(#REF!,'предметы'!$E$16)>0),AND(#REF!='предметы'!$E$16,COUNTIFS(#REF!,'предметы'!$E$7)>0),AND(#REF!='предметы'!$E$8,COUNTIFS(#REF!,'предметы'!$E$17)>0),AND(#REF!='предметы'!$E$17,COUNTIFS(#REF!,'предметы'!$E$8)>0),AND(#REF!='предметы'!$E$9,COUNTIFS(#REF!,'предметы'!$E$18)>0),AND(#REF!='предметы'!$E$18,COUNTIFS(#REF!,'предметы'!$E$9)>0),AND(#REF!='предметы'!$E$10,COUNTIFS(#REF!,'предметы'!$E$19)>0),AND(#REF!='предметы'!$E$19,COUNTIFS(#REF!,'предметы'!$E$10)>0),AND(#REF!='предметы'!$E$11,COUNTIFS(#REF!,'предметы'!$E$20)>0),AND(#REF!='предметы'!$E$20,COUNTIFS(#REF!,'предметы'!$E$11)>0)),"<17 (ВПР, КР)","*") -> #REF! | AB6: =IF(OR(COUNTIFS(#REF!,#REF!)>1,AND(#REF!='предметы'!$E$3,COUNTIFS(#REF!,'предметы'!$E$12)>0),AND(#REF!='предметы'!$E$12,COUNTIFS(#REF!,'предметы'!$E$3)>0),AND(#REF!='предметы'!$E$4,COUNTIFS(#REF!,'предметы'!$E$13)>0),AND(#REF!='предметы'!$E$13,COUNTIFS(#REF!,'предметы'!$E$4)>0),AND(#REF!='предметы'!$E$5,COUNTIFS(#REF!,'предметы'!$E$14)>0),AND(#REF!='предметы'!$E$14,COUNTIFS(#REF!,'предметы'!$E$5)>0),AND(#REF!='предметы'!$E$6,COUNTIFS(#REF!,'предметы'!$E$15)>0),AND(#REF!='предметы'!$E$15,COUNTIFS(#REF!,'предметы'!$E$6)>0),AND(#REF!='предметы'!$E$7,COUNTIFS(#REF!,'предметы'!$E$16)>0),AND(#REF!='предметы'!$E$16,COUNTIFS(#REF!,'предметы'!$E$7)>0),AND(#REF!='предметы'!$E$8,COUNTIFS(#REF!,'предметы'!$E$17)>0),AND(#REF!='предметы'!$E$17,COUNTIFS(#REF!,'предметы'!$E$8)>0),AND(#REF!='предметы'!$E$9,COUNTIFS(#REF!,'предметы'!$E$18)>0),AND(#REF!='предметы'!$E$18,COUNTIFS(#REF!,'предметы'!$E$9)>0),AND(#REF!='предметы'!$E$10,COUNTIFS(#REF!,'предметы'!$E$19)>0),AND(#REF!='предметы'!$E$19,COUNTIFS(#REF!,'предметы'!$E$10)>0),AND(#REF!='предметы'!$E$11,COUNTIFS(#REF!,'предметы'!$E$20)>0),AND(#REF!='предметы'!$E$20,COUNTIFS(#REF!,'предметы'!$E$11)>0)),"<17 (ВПР, КР)","*") -> #REF! | AC6: =IF(OR(COUNTIFS(#REF!,#REF!)>1,AND(#REF!='предметы'!$E$3,COUNTIFS(#REF!,'предметы'!$E$12)>0),AND(#REF!='предметы'!$E$12,COUNTIFS(#REF!,'предметы'!$E$3)>0),AND(#REF!='предметы'!$E$4,COUNTIFS(#REF!,'предметы'!$E$13)>0),AND(#REF!='предметы'!$E$13,COUNTIFS(#REF!,'предметы'!$E$4)>0),AND(#REF!='предметы'!$E$5,COUNTIFS(#REF!,'предметы'!$E$14)>0),AND(#REF!='предметы'!$E$14,COUNTIFS(#REF!,'предметы'!$E$5)>0),AND(#REF!='предметы'!$E$6,COUNTIFS(#REF!,'предметы'!$E$15)>0),AND(#REF!='предметы'!$E$15,COUNTIFS(#REF!,'предметы'!$E$6)>0),AND(#REF!='предметы'!$E$7,COUNTIFS(#REF!,'предметы'!$E$16)>0),AND(#REF!='предметы'!$E$16,COUNTIFS(#REF!,'предметы'!$E$7)>0),AND(#REF!='предметы'!$E$8,COUNTIFS(#REF!,'предметы'!$E$17)>0),AND(#REF!='предметы'!$E$17,COUNTIFS(#REF!,'предметы'!$E$8)>0),AND(#REF!='предметы'!$E$9,COUNTIFS(#REF!,'предметы'!$E$18)>0),AND(#REF!='предметы'!$E$18,COUNTIFS(#REF!,'предметы'!$E$9)>0),AND(#REF!='предметы'!$E$10,COUNTIFS(#REF!,'предметы'!$E$19)>0),AND(#REF!='предметы'!$E$19,COUNTIFS(#REF!,'предметы'!$E$10)>0),AND(#REF!='предметы'!$E$11,COUNTIFS(#REF!,'предметы'!$E$20)>0),AND(#REF!='предметы'!$E$20,COUNTIFS(#REF!,'предметы'!$E$11)>0)),"<17 (ВПР, КР)","*") -> #REF! | AD6: =IF(OR(COUNTIFS(#REF!,#REF!)>1,AND(#REF!='предметы'!$E$3,COUNTIFS(#REF!,'предметы'!$E$12)>0),AND(#REF!='предметы'!$E$12,COUNTIFS(#REF!,'предметы'!$E$3)>0),AND(#REF!='предметы'!$E$4,COUNTIFS(#REF!,'предметы'!$E$13)>0),AND(#REF!='предметы'!$E$13,COUNTIFS(#REF!,'предметы'!$E$4)>0),AND(#REF!='предметы'!$E$5,COUNTIFS(#REF!,'предметы'!$E$14)>0),AND(#REF!='предметы'!$E$14,COUNTIFS(#REF!,'предметы'!$E$5)>0),AND(#REF!='предметы'!$E$6,COUNTIFS(#REF!,'предметы'!$E$15)>0),AND(#REF!='предметы'!$E$15,COUNTIFS(#REF!,'предметы'!$E$6)>0),AND(#REF!='предметы'!$E$7,COUNTIFS(#REF!,'предметы'!$E$16)>0),AND(#REF!='предметы'!$E$16,COUNTIFS(#REF!,'предметы'!$E$7)>0),AND(#REF!='предметы'!$E$8,COUNTIFS(#REF!,'предметы'!$E$17)>0),AND(#REF!='предметы'!$E$17,COUNTIFS(#REF!,'предметы'!$E$8)>0),AND(#REF!='предметы'!$E$9,COUNTIFS(#REF!,'предметы'!$E$18)>0),AND(#REF!='предметы'!$E$18,COUNTIFS(#REF!,'предметы'!$E$9)>0),AND(#REF!='предметы'!$E$10,COUNTIFS(#REF!,'предметы'!$E$19)>0),AND(#REF!='предметы'!$E$19,COUNTIFS(#REF!,'предметы'!$E$10)>0),AND(#REF!='предметы'!$E$11,COUNTIFS(#REF!,'предметы'!$E$20)>0),AND(#REF!='предметы'!$E$20,COUNTIFS(#REF!,'предметы'!$E$11)>0)),"<17 (ВПР, КР)","*") -> #REF! | AE6: =IF(OR(COUNTIFS(#REF!,#REF!)>1,AND(#REF!='предметы'!$E$3,COUNTIFS(#REF!,'предметы'!$E$12)>0),AND(#REF!='предметы'!$E$12,COUNTIFS(#REF!,'предметы'!$E$3)>0),AND(#REF!='предметы'!$E$4,COUNTIFS(#REF!,'предметы'!$E$13)>0),AND(#REF!='предметы'!$E$13,COUNTIFS(#REF!,'предметы'!$E$4)>0),AND(#REF!='предметы'!$E$5,COUNTIFS(#REF!,'предметы'!$E$14)>0),AND(#REF!='предметы'!$E$14,COUNTIFS(#REF!,'предметы'!$E$5)>0),AND(#REF!='предметы'!$E$6,COUNTIFS(#REF!,'предметы'!$E$15)>0),AND(#REF!='предметы'!$E$15,COUNTIFS(#REF!,'предметы'!$E$6)>0),AND(#REF!='предметы'!$E$7,COUNTIFS(#REF!,'предметы'!$E$16)>0),AND(#REF!='предметы'!$E$16,COUNTIFS(#REF!,'предметы'!$E$7)>0),AND(#REF!='предметы'!$E$8,COUNTIFS(#REF!,'предметы'!$E$17)>0),AND(#REF!='предметы'!$E$17,COUNTIFS(#REF!,'предметы'!$E$8)>0),AND(#REF!='предметы'!$E$9,COUNTIFS(#REF!,'предметы'!$E$18)>0),AND(#REF!='предметы'!$E$18,COUNTIFS(#REF!,'предметы'!$E$9)>0),AND(#REF!='предметы'!$E$10,COUNTIFS(#REF!,'предметы'!$E$19)>0),AND(#REF!='предметы'!$E$19,COUNTIFS(#REF!,'предметы'!$E$10)>0),AND(#REF!='предметы'!$E$11,COUNTIFS(#REF!,'предметы'!$E$20)>0),AND(#REF!='предметы'!$E$20,COUNTIFS(#REF!,'предметы'!$E$11)>0)),"<17 (ВПР, КР)","*") -> #REF! | AF6: =IF(OR(COUNTIFS(#REF!,#REF!)>1,AND(#REF!='предметы'!$E$3,COUNTIFS(#REF!,'предметы'!$E$12)>0),AND(#REF!='предметы'!$E$12,COUNTIFS(#REF!,'предметы'!$E$3)>0),AND(#REF!='предметы'!$E$4,COUNTIFS(#REF!,'предметы'!$E$13)>0),AND(#REF!='предметы'!$E$13,COUNTIFS(#REF!,'предметы'!$E$4)>0),AND(#REF!='предметы'!$E$5,COUNTIFS(#REF!,'предметы'!$E$14)>0),AND(#REF!='предметы'!$E$14,COUNTIFS(#REF!,'предметы'!$E$5)>0),AND(#REF!='предметы'!$E$6,COUNTIFS(#REF!,'предметы'!$E$15)>0),AND(#REF!='предметы'!$E$15,COUNTIFS(#REF!,'предметы'!$E$6)>0),AND(#REF!='предметы'!$E$7,COUNTIFS(#REF!,'предметы'!$E$16)>0),AND(#REF!='предметы'!$E$16,COUNTIFS(#REF!,'предметы'!$E$7)>0),AND(#REF!='предметы'!$E$8,COUNTIFS(#REF!,'предметы'!$E$17)>0),AND(#REF!='предметы'!$E$17,COUNTIFS(#REF!,'предметы'!$E$8)>0),AND(#REF!='предметы'!$E$9,COUNTIFS(#REF!,'предметы'!$E$18)>0),AND(#REF!='предметы'!$E$18,COUNTIFS(#REF!,'предметы'!$E$9)>0),AND(#REF!='предметы'!$E$10,COUNTIFS(#REF!,'предметы'!$E$19)>0),AND(#REF!='предметы'!$E$19,COUNTIFS(#REF!,'предметы'!$E$10)>0),AND(#REF!='предметы'!$E$11,COUNTIFS(#REF!,'предметы'!$E$20)>0),AND(#REF!='предметы'!$E$20,COUNTIFS(#REF!,'предметы'!$E$11)>0)),"<17 (ВПР, КР)","*") -> #REF! | AG6: =IF(OR(COUNTIFS(#REF!,#REF!)>1,AND(#REF!='предметы'!$F$3,COUNTIFS(#REF!,'предметы'!$F$13)>0),AND(#REF!='предметы'!$F$13,COUNTIFS(#REF!,'предметы'!$F$3)>0),AND(#REF!='предметы'!$F$4,COUNTIFS(#REF!,'предметы'!$F$14)>0),AND(#REF!='предметы'!$F$14,COUNTIFS(#REF!,'предметы'!$F$4)>0),AND(#REF!='предметы'!$F$5,COUNTIFS(#REF!,'предметы'!$F$15)>0),AND(#REF!='предметы'!$F$15,COUNTIFS(#REF!,'предметы'!$F$5)>0),AND(#REF!='предметы'!$F$6,COUNTIFS(#REF!,'предметы'!$F$16)>0),AND(#REF!='предметы'!$F$16,COUNTIFS(#REF!,'предметы'!$F$6)>0),AND(#REF!='предметы'!$F$7,COUNTIFS(#REF!,'предметы'!$F$17)>0),AND(#REF!='предметы'!$F$17,COUNTIFS(#REF!,'предметы'!$F$7)>0),AND(#REF!='предметы'!$F$8,COUNTIFS(#REF!,'предметы'!$F$18)>0),AND(#REF!='предметы'!$F$18,COUNTIFS(#REF!,'предметы'!$F$8)>0),AND(#REF!='предметы'!$F$9,COUNTIFS(#REF!,'предметы'!$F$19)>0),AND(#REF!='предметы'!$F$19,COUNTIFS(#REF!,'предметы'!$F$9)>0),AND(#REF!='предметы'!$F$10,COUNTIFS(#REF!,'предметы'!$F$20)>0),AND(#REF!='предметы'!$F$20,COUNTIFS(#REF!,'предметы'!$F$10)>0),AND(#REF!='предметы'!$F$11,COUNTIFS(#REF!,'предметы'!$F$21)>0),AND(#REF!='предметы'!$F$21,COUNTIFS(#REF!,'предметы'!$F$11)>0),AND(#REF!='предметы'!$F$12,COUNTIFS(#REF!,'предметы'!$F$22)>0),AND(#REF!='предметы'!$F$22,COUNTIFS(#REF!,'предметы'!$F$12)>0)),"<17 (ВПР, КР)","*") -> #REF! | AH6: =IF(OR(COUNTIFS(#REF!,#REF!)>1,AND(#REF!='предметы'!$F$3,COUNTIFS(#REF!,'предметы'!$F$13)>0),AND(#REF!='предметы'!$F$13,COUNTIFS(#REF!,'предметы'!$F$3)>0),AND(#REF!='предметы'!$F$4,COUNTIFS(#REF!,'предметы'!$F$14)>0),AND(#REF!='предметы'!$F$14,COUNTIFS(#REF!,'предметы'!$F$4)>0),AND(#REF!='предметы'!$F$5,COUNTIFS(#REF!,'предметы'!$F$15)>0),AND(#REF!='предметы'!$F$15,COUNTIFS(#REF!,'предметы'!$F$5)>0),AND(#REF!='предметы'!$F$6,COUNTIFS(#REF!,'предметы'!$F$16)>0),AND(#REF!='предметы'!$F$16,COUNTIFS(#REF!,'предметы'!$F$6)>0),AND(#REF!='предметы'!$F$7,COUNTIFS(#REF!,'предметы'!$F$17)>0),AND(#REF!='предметы'!$F$17,COUNTIFS(#REF!,'предметы'!$F$7)>0),AND(#REF!='предметы'!$F$8,COUNTIFS(#REF!,'предметы'!$F$18)>0),AND(#REF!='предметы'!$F$18,COUNTIFS(#REF!,'предметы'!$F$8)>0),AND(#REF!='предметы'!$F$9,COUNTIFS(#REF!,'предметы'!$F$19)>0),AND(#REF!='предметы'!$F$19,COUNTIFS(#REF!,'предметы'!$F$9)>0),AND(#REF!='предметы'!$F$10,COUNTIFS(#REF!,'предметы'!$F$20)>0),AND(#REF!='предметы'!$F$20,COUNTIFS(#REF!,'предметы'!$F$10)>0),AND(#REF!='предметы'!$F$11,COUNTIFS(#REF!,'предметы'!$F$21)>0),AND(#REF!='предметы'!$F$21,COUNTIFS(#REF!,'предметы'!$F$11)>0),AND(#REF!='предметы'!$F$12,COUNTIFS(#REF!,'предметы'!$F$22)>0),AND(#REF!='предметы'!$F$22,COUNTIFS(#REF!,'предметы'!$F$12)>0)),"<17 (ВПР, КР)","*") -> #REF! | AI6: =IF(OR(COUNTIFS(#REF!,#REF!)>1,AND(#REF!='предметы'!$F$3,COUNTIFS(#REF!,'предметы'!$F$13)>0),AND(#REF!='предметы'!$F$13,COUNTIFS(#REF!,'предметы'!$F$3)>0),AND(#REF!='предметы'!$F$4,COUNTIFS(#REF!,'предметы'!$F$14)>0),AND(#REF!='предметы'!$F$14,COUNTIFS(#REF!,'предметы'!$F$4)>0),AND(#REF!='предметы'!$F$5,COUNTIFS(#REF!,'предметы'!$F$15)>0),AND(#REF!='предметы'!$F$15,COUNTIFS(#REF!,'предметы'!$F$5)>0),AND(#REF!='предметы'!$F$6,COUNTIFS(#REF!,'предметы'!$F$16)>0),AND(#REF!='предметы'!$F$16,COUNTIFS(#REF!,'предметы'!$F$6)>0),AND(#REF!='предметы'!$F$7,COUNTIFS(#REF!,'предметы'!$F$17)>0),AND(#REF!='предметы'!$F$17,COUNTIFS(#REF!,'предметы'!$F$7)>0),AND(#REF!='предметы'!$F$8,COUNTIFS(#REF!,'предметы'!$F$18)>0),AND(#REF!='предметы'!$F$18,COUNTIFS(#REF!,'предметы'!$F$8)>0),AND(#REF!='предметы'!$F$9,COUNTIFS(#REF!,'предметы'!$F$19)>0),AND(#REF!='предметы'!$F$19,COUNTIFS(#REF!,'предметы'!$F$9)>0),AND(#REF!='предметы'!$F$10,COUNTIFS(#REF!,'предметы'!$F$20)>0),AND(#REF!='предметы'!$F$20,COUNTIFS(#REF!,'предметы'!$F$10)>0),AND(#REF!='предметы'!$F$11,COUNTIFS(#REF!,'предметы'!$F$21)>0),AND(#REF!='предметы'!$F$21,COUNTIFS(#REF!,'предметы'!$F$11)>0),AND(#REF!='предметы'!$F$12,COUNTIFS(#REF!,'предметы'!$F$22)>0),AND(#REF!='предметы'!$F$22,COUNTIFS(#REF!,'предметы'!$F$12)>0)),"<17 (ВПР, КР)","*") -> #REF! | AJ6: =IF(OR(COUNTIFS(#REF!,#REF!)>1,AND(#REF!='предметы'!$F$3,COUNTIFS(#REF!,'предметы'!$F$13)>0),AND(#REF!='предметы'!$F$13,COUNTIFS(#REF!,'предметы'!$F$3)>0),AND(#REF!='предметы'!$F$4,COUNTIFS(#REF!,'предметы'!$F$14)>0),AND(#REF!='предметы'!$F$14,COUNTIFS(#REF!,'предметы'!$F$4)>0),AND(#REF!='предметы'!$F$5,COUNTIFS(#REF!,'предметы'!$F$15)>0),AND(#REF!='предметы'!$F$15,COUNTIFS(#REF!,'предметы'!$F$5)>0),AND(#REF!='предметы'!$F$6,COUNTIFS(#REF!,'предметы'!$F$16)>0),AND(#REF!='предметы'!$F$16,COUNTIFS(#REF!,'предметы'!$F$6)>0),AND(#REF!='предметы'!$F$7,COUNTIFS(#REF!,'предметы'!$F$17)>0),AND(#REF!='предметы'!$F$17,COUNTIFS(#REF!,'предметы'!$F$7)>0),AND(#REF!='предметы'!$F$8,COUNTIFS(#REF!,'предметы'!$F$18)>0),AND(#REF!='предметы'!$F$18,COUNTIFS(#REF!,'предметы'!$F$8)>0),AND(#REF!='предметы'!$F$9,COUNTIFS(#REF!,'предметы'!$F$19)>0),AND(#REF!='предметы'!$F$19,COUNTIFS(#REF!,'предметы'!$F$9)>0),AND(#REF!='предметы'!$F$10,COUNTIFS(#REF!,'предметы'!$F$20)>0),AND(#REF!='предметы'!$F$20,COUNTIFS(#REF!,'предметы'!$F$10)>0),AND(#REF!='предметы'!$F$11,COUNTIFS(#REF!,'предметы'!$F$21)>0),AND(#REF!='предметы'!$F$21,COUNTIFS(#REF!,'предметы'!$F$11)>0),AND(#REF!='предметы'!$F$12,COUNTIFS(#REF!,'предметы'!$F$22)>0),AND(#REF!='предметы'!$F$22,COUNTIFS(#REF!,'предметы'!$F$12)>0)),"<17 (ВПР, КР)","*") -> #REF! | AK6: =IF(OR(COUNTIFS(#REF!,#REF!)>1,AND(#REF!='предметы'!$F$3,COUNTIFS(#REF!,'предметы'!$F$13)>0),AND(#REF!='предметы'!$F$13,COUNTIFS(#REF!,'предметы'!$F$3)>0),AND(#REF!='предметы'!$F$4,COUNTIFS(#REF!,'предметы'!$F$14)>0),AND(#REF!='предметы'!$F$14,COUNTIFS(#REF!,'предметы'!$F$4)>0),AND(#REF!='предметы'!$F$5,COUNTIFS(#REF!,'предметы'!$F$15)>0),AND(#REF!='предметы'!$F$15,COUNTIFS(#REF!,'предметы'!$F$5)>0),AND(#REF!='предметы'!$F$6,COUNTIFS(#REF!,'предметы'!$F$16)>0),AND(#REF!='предметы'!$F$16,COUNTIFS(#REF!,'предметы'!$F$6)>0),AND(#REF!='предметы'!$F$7,COUNTIFS(#REF!,'предметы'!$F$17)>0),AND(#REF!='предметы'!$F$17,COUNTIFS(#REF!,'предметы'!$F$7)>0),AND(#REF!='предметы'!$F$8,COUNTIFS(#REF!,'предметы'!$F$18)>0),AND(#REF!='предметы'!$F$18,COUNTIFS(#REF!,'предметы'!$F$8)>0),AND(#REF!='предметы'!$F$9,COUNTIFS(#REF!,'предметы'!$F$19)>0),AND(#REF!='предметы'!$F$19,COUNTIFS(#REF!,'предметы'!$F$9)>0),AND(#REF!='предметы'!$F$10,COUNTIFS(#REF!,'предметы'!$F$20)>0),AND(#REF!='предметы'!$F$20,COUNTIFS(#REF!,'предметы'!$F$10)>0),AND(#REF!='предметы'!$F$11,COUNTIFS(#REF!,'предметы'!$F$21)>0),AND(#REF!='предметы'!$F$21,COUNTIFS(#REF!,'предметы'!$F$11)>0),AND(#REF!='предметы'!$F$12,COUNTIFS(#REF!,'предметы'!$F$22)>0),AND(#REF!='предметы'!$F$22,COUNTIFS(#REF!,'предметы'!$F$12)>0)),"<17 (ВПР, КР)","*") -> #REF! | AL6: =IF(OR(COUNTIFS(#REF!,#REF!)>1,AND(#REF!='предметы'!$F$3,COUNTIFS(#REF!,'предметы'!$F$13)>0),AND(#REF!='предметы'!$F$13,COUNTIFS(#REF!,'предметы'!$F$3)>0),AND(#REF!='предметы'!$F$4,COUNTIFS(#REF!,'предметы'!$F$14)>0),AND(#REF!='предметы'!$F$14,COUNTIFS(#REF!,'предметы'!$F$4)>0),AND(#REF!='предметы'!$F$5,COUNTIFS(#REF!,'предметы'!$F$15)>0),AND(#REF!='предметы'!$F$15,COUNTIFS(#REF!,'предметы'!$F$5)>0),AND(#REF!='предметы'!$F$6,COUNTIFS(#REF!,'предметы'!$F$16)>0),AND(#REF!='предметы'!$F$16,COUNTIFS(#REF!,'предметы'!$F$6)>0),AND(#REF!='предметы'!$F$7,COUNTIFS(#REF!,'предметы'!$F$17)>0),AND(#REF!='предметы'!$F$17,COUNTIFS(#REF!,'предметы'!$F$7)>0),AND(#REF!='предметы'!$F$8,COUNTIFS(#REF!,'предметы'!$F$18)>0),AND(#REF!='предметы'!$F$18,COUNTIFS(#REF!,'предметы'!$F$8)>0),AND(#REF!='предметы'!$F$9,COUNTIFS(#REF!,'предметы'!$F$19)>0),AND(#REF!='предметы'!$F$19,COUNTIFS(#REF!,'предметы'!$F$9)>0),AND(#REF!='предметы'!$F$10,COUNTIFS(#REF!,'предметы'!$F$20)>0),AND(#REF!='предметы'!$F$20,COUNTIFS(#REF!,'предметы'!$F$10)>0),AND(#REF!='предметы'!$F$11,COUNTIFS(#REF!,'предметы'!$F$21)>0),AND(#REF!='предметы'!$F$21,COUNTIFS(#REF!,'предметы'!$F$11)>0),AND(#REF!='предметы'!$F$12,COUNTIFS(#REF!,'предметы'!$F$22)>0),AND(#REF!='предметы'!$F$22,COUNTIFS(#REF!,'предметы'!$F$12)>0)),"<17 (ВПР, КР)","*") -> #REF! | AM6: =IF(OR(COUNTIFS(#REF!,#REF!)>1,AND(#REF!='предметы'!$G$3,COUNTIFS(#REF!,'предметы'!$G$15)>0),AND(#REF!='предметы'!$G$15,COUNTIFS(#REF!,'предметы'!$G$3)>0),AND(#REF!='предметы'!$G$4,COUNTIFS(#REF!,'предметы'!$G$18)>0),AND(#REF!='предметы'!$G$18,COUNTIFS(#REF!,'предметы'!$G$4)>0),AND(#REF!='предметы'!$G$5,COUNTIFS(#REF!,'предметы'!$G$19)>0),AND(#REF!='предметы'!$G$19,COUNTIFS(#REF!,'предметы'!$G$5)>0),AND(#REF!='предметы'!$G$6,COUNTIFS(#REF!,'предметы'!$G$20)>0),AND(#REF!='предметы'!$G$20,COUNTIFS(#REF!,'предметы'!$G$6)>0),AND(#REF!='предметы'!$G$7,COUNTIFS(#REF!,'предметы'!$G$21)>0),AND(#REF!='предметы'!$G$21,COUNTIFS(#REF!,'предметы'!$G$7)>0),AND(#REF!='предметы'!$G$8,COUNTIFS(#REF!,'предметы'!$G$22)>0),AND(#REF!='предметы'!$G$22,COUNTIFS(#REF!,'предметы'!$G$8)>0),AND(#REF!='предметы'!$G$9,COUNTIFS(#REF!,'предметы'!$G$23)>0),AND(#REF!='предметы'!$G$23,COUNTIFS(#REF!,'предметы'!$G$9)>0),AND(#REF!='предметы'!$G$10,COUNTIFS(#REF!,'предметы'!$G$24)>0),AND(#REF!='предметы'!$G$24,COUNTIFS(#REF!,'предметы'!$G$10)>0),AND(#REF!='предметы'!$G$11,COUNTIFS(#REF!,'предметы'!$G$25)>0),AND(#REF!='предметы'!$G$25,COUNTIFS(#REF!,'предметы'!$G$11)>0),AND(#REF!='предметы'!$G$12,COUNTIFS(#REF!,'предметы'!$G$26)>0),AND(#REF!='предметы'!$G$26,COUNTIFS(#REF!,'предметы'!$G$12)>0),AND(#REF!='предметы'!$G$13,COUNTIFS(#REF!,'предметы'!$G$27)>0),AND(#REF!='предметы'!$G$27,COUNTIFS(#REF!,'предметы'!$G$13)>0),AND(#REF!='предметы'!$G$14,COUNTIFS(#REF!,'предметы'!$G$28)>0),AND(#REF!='предметы'!$G$28,COUNTIFS(#REF!,'предметы'!$G$14)>0)),"<17 (ВПР, КР)","*") -> #REF! | AN6: =IF(OR(COUNTIFS(#REF!,#REF!)>1,AND(#REF!='предметы'!$G$3,COUNTIFS(#REF!,'предметы'!$G$15)>0),AND(#REF!='предметы'!$G$15,COUNTIFS(#REF!,'предметы'!$G$3)>0),AND(#REF!='предметы'!$G$4,COUNTIFS(#REF!,'предметы'!$G$18)>0),AND(#REF!='предметы'!$G$18,COUNTIFS(#REF!,'предметы'!$G$4)>0),AND(#REF!='предметы'!$G$5,COUNTIFS(#REF!,'предметы'!$G$19)>0),AND(#REF!='предметы'!$G$19,COUNTIFS(#REF!,'предметы'!$G$5)>0),AND(#REF!='предметы'!$G$6,COUNTIFS(#REF!,'предметы'!$G$20)>0),AND(#REF!='предметы'!$G$20,COUNTIFS(#REF!,'предметы'!$G$6)>0),AND(#REF!='предметы'!$G$7,COUNTIFS(#REF!,'предметы'!$G$21)>0),AND(#REF!='предметы'!$G$21,COUNTIFS(#REF!,'предметы'!$G$7)>0),AND(#REF!='предметы'!$G$8,COUNTIFS(#REF!,'предметы'!$G$22)>0),AND(#REF!='предметы'!$G$22,COUNTIFS(#REF!,'предметы'!$G$8)>0),AND(#REF!='предметы'!$G$9,COUNTIFS(#REF!,'предметы'!$G$23)>0),AND(#REF!='предметы'!$G$23,COUNTIFS(#REF!,'предметы'!$G$9)>0),AND(#REF!='предметы'!$G$10,COUNTIFS(#REF!,'предметы'!$G$24)>0),AND(#REF!='предметы'!$G$24,COUNTIFS(#REF!,'предметы'!$G$10)>0),AND(#REF!='предметы'!$G$11,COUNTIFS(#REF!,'предметы'!$G$25)>0),AND(#REF!='предметы'!$G$25,COUNTIFS(#REF!,'предметы'!$G$11)>0),AND(#REF!='предметы'!$G$12,COUNTIFS(#REF!,'предметы'!$G$26)>0),AND(#REF!='предметы'!$G$26,COUNTIFS(#REF!,'предметы'!$G$12)>0),AND(#REF!='предметы'!$G$13,COUNTIFS(#REF!,'предметы'!$G$27)>0),AND(#REF!='предметы'!$G$27,COUNTIFS(#REF!,'предметы'!$G$13)>0),AND(#REF!='предметы'!$G$14,COUNTIFS(#REF!,'предметы'!$G$28)>0),AND(#REF!='предметы'!$G$28,COUNTIFS(#REF!,'предметы'!$G$14)>0)),"<17 (ВПР, КР)","*") -> #REF! | AO6: =IF(OR(COUNTIFS(#REF!,#REF!)>1,AND(#REF!='предметы'!$G$3,COUNTIFS(#REF!,'предметы'!$G$15)>0),AND(#REF!='предметы'!$G$15,COUNTIFS(#REF!,'предметы'!$G$3)>0),AND(#REF!='предметы'!$G$4,COUNTIFS(#REF!,'предметы'!$G$18)>0),AND(#REF!='предметы'!$G$18,COUNTIFS(#REF!,'предметы'!$G$4)>0),AND(#REF!='предметы'!$G$5,COUNTIFS(#REF!,'предметы'!$G$19)>0),AND(#REF!='предметы'!$G$19,COUNTIFS(#REF!,'предметы'!$G$5)>0),AND(#REF!='предметы'!$G$6,COUNTIFS(#REF!,'предметы'!$G$20)>0),AND(#REF!='предметы'!$G$20,COUNTIFS(#REF!,'предметы'!$G$6)>0),AND(#REF!='предметы'!$G$7,COUNTIFS(#REF!,'предметы'!$G$21)>0),AND(#REF!='предметы'!$G$21,COUNTIFS(#REF!,'предметы'!$G$7)>0),AND(#REF!='предметы'!$G$8,COUNTIFS(#REF!,'предметы'!$G$22)>0),AND(#REF!='предметы'!$G$22,COUNTIFS(#REF!,'предметы'!$G$8)>0),AND(#REF!='предметы'!$G$9,COUNTIFS(#REF!,'предметы'!$G$23)>0),AND(#REF!='предметы'!$G$23,COUNTIFS(#REF!,'предметы'!$G$9)>0),AND(#REF!='предметы'!$G$10,COUNTIFS(#REF!,'предметы'!$G$24)>0),AND(#REF!='предметы'!$G$24,COUNTIFS(#REF!,'предметы'!$G$10)>0),AND(#REF!='предметы'!$G$11,COUNTIFS(#REF!,'предметы'!$G$25)>0),AND(#REF!='предметы'!$G$25,COUNTIFS(#REF!,'предметы'!$G$11)>0),AND(#REF!='предметы'!$G$12,COUNTIFS(#REF!,'предметы'!$G$26)>0),AND(#REF!='предметы'!$G$26,COUNTIFS(#REF!,'предметы'!$G$12)>0),AND(#REF!='предметы'!$G$13,COUNTIFS(#REF!,'предметы'!$G$27)>0),AND(#REF!='предметы'!$G$27,COUNTIFS(#REF!,'предметы'!$G$13)>0),AND(#REF!='предметы'!$G$14,COUNTIFS(#REF!,'предметы'!$G$28)>0),AND(#REF!='предметы'!$G$28,COUNTIFS(#REF!,'предметы'!$G$14)>0)),"<17 (ВПР, КР)","*") -> #REF! | AP6: =IF(OR(COUNTIFS(#REF!,#REF!)>1,AND(#REF!='предметы'!$G$3,COUNTIFS(#REF!,'предметы'!$G$15)>0),AND(#REF!='предметы'!$G$15,COUNTIFS(#REF!,'предметы'!$G$3)>0),AND(#REF!='предметы'!$G$4,COUNTIFS(#REF!,'предметы'!$G$18)>0),AND(#REF!='предметы'!$G$18,COUNTIFS(#REF!,'предметы'!$G$4)>0),AND(#REF!='предметы'!$G$5,COUNTIFS(#REF!,'предметы'!$G$19)>0),AND(#REF!='предметы'!$G$19,COUNTIFS(#REF!,'предметы'!$G$5)>0),AND(#REF!='предметы'!$G$6,COUNTIFS(#REF!,'предметы'!$G$20)>0),AND(#REF!='предметы'!$G$20,COUNTIFS(#REF!,'предметы'!$G$6)>0),AND(#REF!='предметы'!$G$7,COUNTIFS(#REF!,'предметы'!$G$21)>0),AND(#REF!='предметы'!$G$21,COUNTIFS(#REF!,'предметы'!$G$7)>0),AND(#REF!='предметы'!$G$8,COUNTIFS(#REF!,'предметы'!$G$22)>0),AND(#REF!='предметы'!$G$22,COUNTIFS(#REF!,'предметы'!$G$8)>0),AND(#REF!='предметы'!$G$9,COUNTIFS(#REF!,'предметы'!$G$23)>0),AND(#REF!='предметы'!$G$23,COUNTIFS(#REF!,'предметы'!$G$9)>0),AND(#REF!='предметы'!$G$10,COUNTIFS(#REF!,'предметы'!$G$24)>0),AND(#REF!='предметы'!$G$24,COUNTIFS(#REF!,'предметы'!$G$10)>0),AND(#REF!='предметы'!$G$11,COUNTIFS(#REF!,'предметы'!$G$25)>0),AND(#REF!='предметы'!$G$25,COUNTIFS(#REF!,'предметы'!$G$11)>0),AND(#REF!='предметы'!$G$12,COUNTIFS(#REF!,'предметы'!$G$26)>0),AND(#REF!='предметы'!$G$26,COUNTIFS(#REF!,'предметы'!$G$12)>0),AND(#REF!='предметы'!$G$13,COUNTIFS(#REF!,'предметы'!$G$27)>0),AND(#REF!='предметы'!$G$27,COUNTIFS(#REF!,'предметы'!$G$13)>0),AND(#REF!='предметы'!$G$14,COUNTIFS(#REF!,'предметы'!$G$28)>0),AND(#REF!='предметы'!$G$28,COUNTIFS(#REF!,'предметы'!$G$14)>0)),"<17 (ВПР, КР)","*") -> #REF! | AQ6: =IF(OR(COUNTIFS(#REF!,#REF!)>1,AND(#REF!='предметы'!$G$3,COUNTIFS(#REF!,'предметы'!$G$15)>0),AND(#REF!='предметы'!$G$15,COUNTIFS(#REF!,'предметы'!$G$3)>0),AND(#REF!='предметы'!$G$4,COUNTIFS(#REF!,'предметы'!$G$18)>0),AND(#REF!='предметы'!$G$18,COUNTIFS(#REF!,'предметы'!$G$4)>0),AND(#REF!='предметы'!$G$5,COUNTIFS(#REF!,'предметы'!$G$19)>0),AND(#REF!='предметы'!$G$19,COUNTIFS(#REF!,'предметы'!$G$5)>0),AND(#REF!='предметы'!$G$6,COUNTIFS(#REF!,'предметы'!$G$20)>0),AND(#REF!='предметы'!$G$20,COUNTIFS(#REF!,'предметы'!$G$6)>0),AND(#REF!='предметы'!$G$7,COUNTIFS(#REF!,'предметы'!$G$21)>0),AND(#REF!='предметы'!$G$21,COUNTIFS(#REF!,'предметы'!$G$7)>0),AND(#REF!='предметы'!$G$8,COUNTIFS(#REF!,'предметы'!$G$22)>0),AND(#REF!='предметы'!$G$22,COUNTIFS(#REF!,'предметы'!$G$8)>0),AND(#REF!='предметы'!$G$9,COUNTIFS(#REF!,'предметы'!$G$23)>0),AND(#REF!='предметы'!$G$23,COUNTIFS(#REF!,'предметы'!$G$9)>0),AND(#REF!='предметы'!$G$10,COUNTIFS(#REF!,'предметы'!$G$24)>0),AND(#REF!='предметы'!$G$24,COUNTIFS(#REF!,'предметы'!$G$10)>0),AND(#REF!='предметы'!$G$11,COUNTIFS(#REF!,'предметы'!$G$25)>0),AND(#REF!='предметы'!$G$25,COUNTIFS(#REF!,'предметы'!$G$11)>0),AND(#REF!='предметы'!$G$12,COUNTIFS(#REF!,'предметы'!$G$26)>0),AND(#REF!='предметы'!$G$26,COUNTIFS(#REF!,'предметы'!$G$12)>0),AND(#REF!='предметы'!$G$13,COUNTIFS(#REF!,'предметы'!$G$27)>0),AND(#REF!='предметы'!$G$27,COUNTIFS(#REF!,'предметы'!$G$13)>0),AND(#REF!='предметы'!$G$14,COUNTIFS(#REF!,'предметы'!$G$28)>0),AND(#REF!='предметы'!$G$28,COUNTIFS(#REF!,'предметы'!$G$14)>0)),"<17 (ВПР, КР)","*") -> #REF! | AR6: =IF(OR(COUNTIFS(#REF!,#REF!)>1,AND(#REF!='предметы'!$G$3,COUNTIFS(#REF!,'предметы'!$G$15)>0),AND(#REF!='предметы'!$G$15,COUNTIFS(#REF!,'предметы'!$G$3)>0),AND(#REF!='предметы'!$G$4,COUNTIFS(#REF!,'предметы'!$G$18)>0),AND(#REF!='предметы'!$G$18,COUNTIFS(#REF!,'предметы'!$G$4)>0),AND(#REF!='предметы'!$G$5,COUNTIFS(#REF!,'предметы'!$G$19)>0),AND(#REF!='предметы'!$G$19,COUNTIFS(#REF!,'предметы'!$G$5)>0),AND(#REF!='предметы'!$G$6,COUNTIFS(#REF!,'предметы'!$G$20)>0),AND(#REF!='предметы'!$G$20,COUNTIFS(#REF!,'предметы'!$G$6)>0),AND(#REF!='предметы'!$G$7,COUNTIFS(#REF!,'предметы'!$G$21)>0),AND(#REF!='предметы'!$G$21,COUNTIFS(#REF!,'предметы'!$G$7)>0),AND(#REF!='предметы'!$G$8,COUNTIFS(#REF!,'предметы'!$G$22)>0),AND(#REF!='предметы'!$G$22,COUNTIFS(#REF!,'предметы'!$G$8)>0),AND(#REF!='предметы'!$G$9,COUNTIFS(#REF!,'предметы'!$G$23)>0),AND(#REF!='предметы'!$G$23,COUNTIFS(#REF!,'предметы'!$G$9)>0),AND(#REF!='предметы'!$G$10,COUNTIFS(#REF!,'предметы'!$G$24)>0),AND(#REF!='предметы'!$G$24,COUNTIFS(#REF!,'предметы'!$G$10)>0),AND(#REF!='предметы'!$G$11,COUNTIFS(#REF!,'предметы'!$G$25)>0),AND(#REF!='предметы'!$G$25,COUNTIFS(#REF!,'предметы'!$G$11)>0),AND(#REF!='предметы'!$G$12,COUNTIFS(#REF!,'предметы'!$G$26)>0),AND(#REF!='предметы'!$G$26,COUNTIFS(#REF!,'предметы'!$G$12)>0),AND(#REF!='предметы'!$G$13,COUNTIFS(#REF!,'предметы'!$G$27)>0),AND(#REF!='предметы'!$G$27,COUNTIFS(#REF!,'предметы'!$G$13)>0),AND(#REF!='предметы'!$G$14,COUNTIFS(#REF!,'предметы'!$G$28)>0),AND(#REF!='предметы'!$G$28,COUNTIFS(#REF!,'предметы'!$G$14)>0)),"<17 (ВПР, КР)","*") -> #REF! | AS6: =IF(OR(COUNTIFS(#REF!,#REF!)>1,AND(#REF!='предметы'!$H$3,COUNTIFS(#REF!,'предметы'!$H$16)>0),AND(#REF!='предметы'!$H$16,COUNTIFS(#REF!,'предметы'!$H$3)>0),AND(#REF!='предметы'!$H$4,COUNTIFS(#REF!,'предметы'!$H$19)>0),AND(#REF!='предметы'!$H$19,COUNTIFS(#REF!,'предметы'!$H$4)>0),AND(#REF!='предметы'!$H$5,COUNTIFS(#REF!,'предметы'!$H$20)>0),AND(#REF!='предметы'!$H$20,COUNTIFS(#REF!,'предметы'!$H$5)>0),AND(#REF!='предметы'!$H$6,COUNTIFS(#REF!,'предметы'!$H$21)>0),AND(#REF!='предметы'!$H$21,COUNTIFS(#REF!,'предметы'!$H$6)>0),AND(#REF!='предметы'!$H$7,COUNTIFS(#REF!,'предметы'!$H$22)>0),AND(#REF!='предметы'!$H$22,COUNTIFS(#REF!,'предметы'!$H$7)>0),AND(#REF!='предметы'!$H$8,COUNTIFS(#REF!,'предметы'!$H$23)>0),AND(#REF!='предметы'!$H$23,COUNTIFS(#REF!,'предметы'!$H$8)>0),AND(#REF!='предметы'!$H$9,COUNTIFS(#REF!,'предметы'!$H$24)>0),AND(#REF!='предметы'!$H$24,COUNTIFS(#REF!,'предметы'!$H$9)>0),AND(#REF!='предметы'!$H$10,COUNTIFS(#REF!,'предметы'!$H$25)>0),AND(#REF!='предметы'!$H$25,COUNTIFS(#REF!,'предметы'!$H$10)>0),AND(#REF!='предметы'!$H$11,COUNTIFS(#REF!,'предметы'!$H$26)>0),AND(#REF!='предметы'!$H$26,COUNTIFS(#REF!,'предметы'!$H$11)>0),AND(#REF!='предметы'!$H$12,COUNTIFS(#REF!,'предметы'!$H$27)>0),AND(#REF!='предметы'!$H$27,COUNTIFS(#REF!,'предметы'!$H$12)>0),AND(#REF!='предметы'!$H$13,COUNTIFS(#REF!,'предметы'!$H$28)>0),AND(#REF!='предметы'!$H$28,COUNTIFS(#REF!,'предметы'!$H$13)>0),AND(#REF!='предметы'!$H$14,COUNTIFS(#REF!,'предметы'!$H$29)>0),AND(#REF!='предметы'!$H$29,COUNTIFS(#REF!,'предметы'!$H$14)>0),AND(#REF!='предметы'!$H$15,COUNTIFS(#REF!,'предметы'!$H$30)>0),AND(#REF!='предметы'!$H$30,COUNTIFS(#REF!,'предметы'!$H$15)>0)),"<17 (ВПР, КР)","*") -> #REF! | AT6: =IF(OR(COUNTIFS(#REF!,#REF!)>1,AND(#REF!='предметы'!$H$3,COUNTIFS(#REF!,'предметы'!$H$16)>0),AND(#REF!='предметы'!$H$16,COUNTIFS(#REF!,'предметы'!$H$3)>0),AND(#REF!='предметы'!$H$4,COUNTIFS(#REF!,'предметы'!$H$19)>0),AND(#REF!='предметы'!$H$19,COUNTIFS(#REF!,'предметы'!$H$4)>0),AND(#REF!='предметы'!$H$5,COUNTIFS(#REF!,'предметы'!$H$20)>0),AND(#REF!='предметы'!$H$20,COUNTIFS(#REF!,'предметы'!$H$5)>0),AND(#REF!='предметы'!$H$6,COUNTIFS(#REF!,'предметы'!$H$21)>0),AND(#REF!='предметы'!$H$21,COUNTIFS(#REF!,'предметы'!$H$6)>0),AND(#REF!='предметы'!$H$7,COUNTIFS(#REF!,'предметы'!$H$22)>0),AND(#REF!='предметы'!$H$22,COUNTIFS(#REF!,'предметы'!$H$7)>0),AND(#REF!='предметы'!$H$8,COUNTIFS(#REF!,'предметы'!$H$23)>0),AND(#REF!='предметы'!$H$23,COUNTIFS(#REF!,'предметы'!$H$8)>0),AND(#REF!='предметы'!$H$9,COUNTIFS(#REF!,'предметы'!$H$24)>0),AND(#REF!='предметы'!$H$24,COUNTIFS(#REF!,'предметы'!$H$9)>0),AND(#REF!='предметы'!$H$10,COUNTIFS(#REF!,'предметы'!$H$25)>0),AND(#REF!='предметы'!$H$25,COUNTIFS(#REF!,'предметы'!$H$10)>0),AND(#REF!='предметы'!$H$11,COUNTIFS(#REF!,'предметы'!$H$26)>0),AND(#REF!='предметы'!$H$26,COUNTIFS(#REF!,'предметы'!$H$11)>0),AND(#REF!='предметы'!$H$12,COUNTIFS(#REF!,'предметы'!$H$27)>0),AND(#REF!='предметы'!$H$27,COUNTIFS(#REF!,'предметы'!$H$12)>0),AND(#REF!='предметы'!$H$13,COUNTIFS(#REF!,'предметы'!$H$28)>0),AND(#REF!='предметы'!$H$28,COUNTIFS(#REF!,'предметы'!$H$13)>0),AND(#REF!='предметы'!$H$14,COUNTIFS(#REF!,'предметы'!$H$29)>0),AND(#REF!='предметы'!$H$29,COUNTIFS(#REF!,'предметы'!$H$14)>0),AND(#REF!='предметы'!$H$15,COUNTIFS(#REF!,'предметы'!$H$30)>0),AND(#REF!='предметы'!$H$30,COUNTIFS(#REF!,'предметы'!$H$15)>0)),"<17 (ВПР, КР)","*") -> #REF! | AU6: =IF(OR(COUNTIFS(#REF!,#REF!)>1,AND(#REF!='предметы'!$H$3,COUNTIFS(#REF!,'предметы'!$H$16)>0),AND(#REF!='предметы'!$H$16,COUNTIFS(#REF!,'предметы'!$H$3)>0),AND(#REF!='предметы'!$H$4,COUNTIFS(#REF!,'предметы'!$H$19)>0),AND(#REF!='предметы'!$H$19,COUNTIFS(#REF!,'предметы'!$H$4)>0),AND(#REF!='предметы'!$H$5,COUNTIFS(#REF!,'предметы'!$H$20)>0),AND(#REF!='предметы'!$H$20,COUNTIFS(#REF!,'предметы'!$H$5)>0),AND(#REF!='предметы'!$H$6,COUNTIFS(#REF!,'предметы'!$H$21)>0),AND(#REF!='предметы'!$H$21,COUNTIFS(#REF!,'предметы'!$H$6)>0),AND(#REF!='предметы'!$H$7,COUNTIFS(#REF!,'предметы'!$H$22)>0),AND(#REF!='предметы'!$H$22,COUNTIFS(#REF!,'предметы'!$H$7)>0),AND(#REF!='предметы'!$H$8,COUNTIFS(#REF!,'предметы'!$H$23)>0),AND(#REF!='предметы'!$H$23,COUNTIFS(#REF!,'предметы'!$H$8)>0),AND(#REF!='предметы'!$H$9,COUNTIFS(#REF!,'предметы'!$H$24)>0),AND(#REF!='предметы'!$H$24,COUNTIFS(#REF!,'предметы'!$H$9)>0),AND(#REF!='предметы'!$H$10,COUNTIFS(#REF!,'предметы'!$H$25)>0),AND(#REF!='предметы'!$H$25,COUNTIFS(#REF!,'предметы'!$H$10)>0),AND(#REF!='предметы'!$H$11,COUNTIFS(#REF!,'предметы'!$H$26)>0),AND(#REF!='предметы'!$H$26,COUNTIFS(#REF!,'предметы'!$H$11)>0),AND(#REF!='предметы'!$H$12,COUNTIFS(#REF!,'предметы'!$H$27)>0),AND(#REF!='предметы'!$H$27,COUNTIFS(#REF!,'предметы'!$H$12)>0),AND(#REF!='предметы'!$H$13,COUNTIFS(#REF!,'предметы'!$H$28)>0),AND(#REF!='предметы'!$H$28,COUNTIFS(#REF!,'предметы'!$H$13)>0),AND(#REF!='предметы'!$H$14,COUNTIFS(#REF!,'предметы'!$H$29)>0),AND(#REF!='предметы'!$H$29,COUNTIFS(#REF!,'предметы'!$H$14)>0),AND(#REF!='предметы'!$H$15,COUNTIFS(#REF!,'предметы'!$H$30)>0),AND(#REF!='предметы'!$H$30,COUNTIFS(#REF!,'предметы'!$H$15)>0)),"<17 (ВПР, КР)","*") -> #REF! | AV6: =IF(OR(COUNTIFS(#REF!,#REF!)>1,AND(#REF!='предметы'!$H$3,COUNTIFS(#REF!,'предметы'!$H$16)>0),AND(#REF!='предметы'!$H$16,COUNTIFS(#REF!,'предметы'!$H$3)>0),AND(#REF!='предметы'!$H$4,COUNTIFS(#REF!,'предметы'!$H$19)>0),AND(#REF!='предметы'!$H$19,COUNTIFS(#REF!,'предметы'!$H$4)>0),AND(#REF!='предметы'!$H$5,COUNTIFS(#REF!,'предметы'!$H$20)>0),AND(#REF!='предметы'!$H$20,COUNTIFS(#REF!,'предметы'!$H$5)>0),AND(#REF!='предметы'!$H$6,COUNTIFS(#REF!,'предметы'!$H$21)>0),AND(#REF!='предметы'!$H$21,COUNTIFS(#REF!,'предметы'!$H$6)>0),AND(#REF!='предметы'!$H$7,COUNTIFS(#REF!,'предметы'!$H$22)>0),AND(#REF!='предметы'!$H$22,COUNTIFS(#REF!,'предметы'!$H$7)>0),AND(#REF!='предметы'!$H$8,COUNTIFS(#REF!,'предметы'!$H$23)>0),AND(#REF!='предметы'!$H$23,COUNTIFS(#REF!,'предметы'!$H$8)>0),AND(#REF!='предметы'!$H$9,COUNTIFS(#REF!,'предметы'!$H$24)>0),AND(#REF!='предметы'!$H$24,COUNTIFS(#REF!,'предметы'!$H$9)>0),AND(#REF!='предметы'!$H$10,COUNTIFS(#REF!,'предметы'!$H$25)>0),AND(#REF!='предметы'!$H$25,COUNTIFS(#REF!,'предметы'!$H$10)>0),AND(#REF!='предметы'!$H$11,COUNTIFS(#REF!,'предметы'!$H$26)>0),AND(#REF!='предметы'!$H$26,COUNTIFS(#REF!,'предметы'!$H$11)>0),AND(#REF!='предметы'!$H$12,COUNTIFS(#REF!,'предметы'!$H$27)>0),AND(#REF!='предметы'!$H$27,COUNTIFS(#REF!,'предметы'!$H$12)>0),AND(#REF!='предметы'!$H$13,COUNTIFS(#REF!,'предметы'!$H$28)>0),AND(#REF!='предметы'!$H$28,COUNTIFS(#REF!,'предметы'!$H$13)>0),AND(#REF!='предметы'!$H$14,COUNTIFS(#REF!,'предметы'!$H$29)>0),AND(#REF!='предметы'!$H$29,COUNTIFS(#REF!,'предметы'!$H$14)>0),AND(#REF!='предметы'!$H$15,COUNTIFS(#REF!,'предметы'!$H$30)>0),AND(#REF!='предметы'!$H$30,COUNTIFS(#REF!,'предметы'!$H$15)>0)),"<17 (ВПР, КР)","*") -> #REF! | AW6: =IF(OR(COUNTIFS(#REF!,#REF!)>1,AND(#REF!='предметы'!$H$3,COUNTIFS(#REF!,'предметы'!$H$16)>0),AND(#REF!='предметы'!$H$16,COUNTIFS(#REF!,'предметы'!$H$3)>0),AND(#REF!='предметы'!$H$4,COUNTIFS(#REF!,'предметы'!$H$19)>0),AND(#REF!='предметы'!$H$19,COUNTIFS(#REF!,'предметы'!$H$4)>0),AND(#REF!='предметы'!$H$5,COUNTIFS(#REF!,'предметы'!$H$20)>0),AND(#REF!='предметы'!$H$20,COUNTIFS(#REF!,'предметы'!$H$5)>0),AND(#REF!='предметы'!$H$6,COUNTIFS(#REF!,'предметы'!$H$21)>0),AND(#REF!='предметы'!$H$21,COUNTIFS(#REF!,'предметы'!$H$6)>0),AND(#REF!='предметы'!$H$7,COUNTIFS(#REF!,'предметы'!$H$22)>0),AND(#REF!='предметы'!$H$22,COUNTIFS(#REF!,'предметы'!$H$7)>0),AND(#REF!='предметы'!$H$8,COUNTIFS(#REF!,'предметы'!$H$23)>0),AND(#REF!='предметы'!$H$23,COUNTIFS(#REF!,'предметы'!$H$8)>0),AND(#REF!='предметы'!$H$9,COUNTIFS(#REF!,'предметы'!$H$24)>0),AND(#REF!='предметы'!$H$24,COUNTIFS(#REF!,'предметы'!$H$9)>0),AND(#REF!='предметы'!$H$10,COUNTIFS(#REF!,'предметы'!$H$25)>0),AND(#REF!='предметы'!$H$25,COUNTIFS(#REF!,'предметы'!$H$10)>0),AND(#REF!='предметы'!$H$11,COUNTIFS(#REF!,'предметы'!$H$26)>0),AND(#REF!='предметы'!$H$26,COUNTIFS(#REF!,'предметы'!$H$11)>0),AND(#REF!='предметы'!$H$12,COUNTIFS(#REF!,'предметы'!$H$27)>0),AND(#REF!='предметы'!$H$27,COUNTIFS(#REF!,'предметы'!$H$12)>0),AND(#REF!='предметы'!$H$13,COUNTIFS(#REF!,'предметы'!$H$28)>0),AND(#REF!='предметы'!$H$28,COUNTIFS(#REF!,'предметы'!$H$13)>0),AND(#REF!='предметы'!$H$14,COUNTIFS(#REF!,'предметы'!$H$29)>0),AND(#REF!='предметы'!$H$29,COUNTIFS(#REF!,'предметы'!$H$14)>0),AND(#REF!='предметы'!$H$15,COUNTIFS(#REF!,'предметы'!$H$30)>0),AND(#REF!='предметы'!$H$30,COUNTIFS(#REF!,'предметы'!$H$15)>0)),"<17 (ВПР, КР)","*") -> #REF! | AX6: =IF(OR(COUNTIFS(#REF!,#REF!)>1,AND(#REF!='предметы'!$H$3,COUNTIFS(#REF!,'предметы'!$H$16)>0),AND(#REF!='предметы'!$H$16,COUNTIFS(#REF!,'предметы'!$H$3)>0),AND(#REF!='предметы'!$H$4,COUNTIFS(#REF!,'предметы'!$H$19)>0),AND(#REF!='предметы'!$H$19,COUNTIFS(#REF!,'предметы'!$H$4)>0),AND(#REF!='предметы'!$H$5,COUNTIFS(#REF!,'предметы'!$H$20)>0),AND(#REF!='предметы'!$H$20,COUNTIFS(#REF!,'предметы'!$H$5)>0),AND(#REF!='предметы'!$H$6,COUNTIFS(#REF!,'предметы'!$H$21)>0),AND(#REF!='предметы'!$H$21,COUNTIFS(#REF!,'предметы'!$H$6)>0),AND(#REF!='предметы'!$H$7,COUNTIFS(#REF!,'предметы'!$H$22)>0),AND(#REF!='предметы'!$H$22,COUNTIFS(#REF!,'предметы'!$H$7)>0),AND(#REF!='предметы'!$H$8,COUNTIFS(#REF!,'предметы'!$H$23)>0),AND(#REF!='предметы'!$H$23,COUNTIFS(#REF!,'предметы'!$H$8)>0),AND(#REF!='предметы'!$H$9,COUNTIFS(#REF!,'предметы'!$H$24)>0),AND(#REF!='предметы'!$H$24,COUNTIFS(#REF!,'предметы'!$H$9)>0),AND(#REF!='предметы'!$H$10,COUNTIFS(#REF!,'предметы'!$H$25)>0),AND(#REF!='предметы'!$H$25,COUNTIFS(#REF!,'предметы'!$H$10)>0),AND(#REF!='предметы'!$H$11,COUNTIFS(#REF!,'предметы'!$H$26)>0),AND(#REF!='предметы'!$H$26,COUNTIFS(#REF!,'предметы'!$H$11)>0),AND(#REF!='предметы'!$H$12,COUNTIFS(#REF!,'предметы'!$H$27)>0),AND(#REF!='предметы'!$H$27,COUNTIFS(#REF!,'предметы'!$H$12)>0),AND(#REF!='предметы'!$H$13,COUNTIFS(#REF!,'предметы'!$H$28)>0),AND(#REF!='предметы'!$H$28,COUNTIFS(#REF!,'предметы'!$H$13)>0),AND(#REF!='предметы'!$H$14,COUNTIFS(#REF!,'предметы'!$H$29)>0),AND(#REF!='предметы'!$H$29,COUNTIFS(#REF!,'предметы'!$H$14)>0),AND(#REF!='предметы'!$H$15,COUNTIFS(#REF!,'предметы'!$H$30)>0),AND(#REF!='предметы'!$H$30,COUNTIFS(#REF!,'предметы'!$H$15)>0)),"<17 (ВПР, КР)","*") -> #REF! | AY6: =IF(COUNTIFS(#REF!,#REF!)>1,"<17 (ВПР, КР)","*") -> * | AZ6: =IF(COUNTIFS(#REF!,#REF!)>1,"<17 (ВПР, КР)","*") -> * | BA6: =IF(COUNTIFS(#REF!,#REF!)>1,"<17 (ВПР, КР)","*") -> * | BB6: =IF(COUNTIFS(#REF!,#REF!)>1,"<17 (ВПР, КР)","*") -> * | BC6: =IF(COUNTIFS(#REF!,#REF!)>1,"<17 (ВПР, КР)","*") -> * | BD6: =IF(COUNTIFS(#REF!,#REF!)>1,"<17 (ВПР, КР)","*") -> * | BE6: =IF(OR(COUNTIFS(#REF!,#REF!)>1,AND(#REF!='предметы'!$J$3,COUNTIFS(#REF!,'предметы'!$J$16)>0),AND(#REF!='предметы'!$J$16,COUNTIFS(#REF!,'предметы'!$J$3)>0),AND(#REF!='предметы'!$J$4,COUNTIFS(#REF!,'предметы'!$J$19)>0),AND(#REF!='предметы'!$J$19,COUNTIFS(#REF!,'предметы'!$J$4)>0),AND(#REF!='предметы'!$J$5,COUNTIFS(#REF!,'предметы'!$J$20)>0),AND(#REF!='предметы'!$J$20,COUNTIFS(#REF!,'предметы'!$J$5)>0),AND(#REF!='предметы'!$J$6,COUNTIFS(#REF!,'предметы'!$J$21)>0),AND(#REF!='предметы'!$J$21,COUNTIFS(#REF!,'предметы'!$J$6)>0),AND(#REF!='предметы'!$J$7,COUNTIFS(#REF!,'предметы'!$J$22)>0),AND(#REF!='предметы'!$J$22,COUNTIFS(#REF!,'предметы'!$J$7)>0),AND(#REF!='предметы'!$J$8,COUNTIFS(#REF!,'предметы'!$J$23)>0),AND(#REF!='предметы'!$J$23,COUNTIFS(#REF!,'предметы'!$J$8)>0),AND(#REF!='предметы'!$J$9,COUNTIFS(#REF!,'предметы'!$J$24)>0),AND(#REF!='предметы'!$J$24,COUNTIFS(#REF!,'предметы'!$J$9)>0),AND(#REF!='предметы'!$J$10,COUNTIFS(#REF!,'предметы'!$J$25)>0),AND(#REF!='предметы'!$J$25,COUNTIFS(#REF!,'предметы'!$J$10)>0),AND(#REF!='предметы'!$J$11,COUNTIFS(#REF!,'предметы'!$J$26)>0),AND(#REF!='предметы'!$J$26,COUNTIFS(#REF!,'предметы'!$J$11)>0),AND(#REF!='предметы'!$J$12,COUNTIFS(#REF!,'предметы'!$J$27)>0),AND(#REF!='предметы'!$J$27,COUNTIFS(#REF!,'предметы'!$J$12)>0),AND(#REF!='предметы'!$J$13,COUNTIFS(#REF!,'предметы'!$J$28)>0),AND(#REF!='предметы'!$J$28,COUNTIFS(#REF!,'предметы'!$J$13)>0),AND(#REF!='предметы'!$J$14,COUNTIFS(#REF!,'предметы'!$J$29)>0),AND(#REF!='предметы'!$J$29,COUNTIFS(#REF!,'предметы'!$J$14)>0),AND(#REF!='предметы'!$J$15,COUNTIFS(#REF!,'предметы'!$J$30)>0),AND(#REF!='предметы'!$J$30,COUNTIFS(#REF!,'предметы'!$J$15)>0)),"<17 (ВПР, КР)","*") -> #REF! | BF6: =IF(OR(COUNTIFS(#REF!,#REF!)>1,AND(#REF!='предметы'!$J$3,COUNTIFS(#REF!,'предметы'!$J$16)>0),AND(#REF!='предметы'!$J$16,COUNTIFS(#REF!,'предметы'!$J$3)>0),AND(#REF!='предметы'!$J$4,COUNTIFS(#REF!,'предметы'!$J$19)>0),AND(#REF!='предметы'!$J$19,COUNTIFS(#REF!,'предметы'!$J$4)>0),AND(#REF!='предметы'!$J$5,COUNTIFS(#REF!,'предметы'!$J$20)>0),AND(#REF!='предметы'!$J$20,COUNTIFS(#REF!,'предметы'!$J$5)>0),AND(#REF!='предметы'!$J$6,COUNTIFS(#REF!,'предметы'!$J$21)>0),AND(#REF!='предметы'!$J$21,COUNTIFS(#REF!,'предметы'!$J$6)>0),AND(#REF!='предметы'!$J$7,COUNTIFS(#REF!,'предметы'!$J$22)>0),AND(#REF!='предметы'!$J$22,COUNTIFS(#REF!,'предметы'!$J$7)>0),AND(#REF!='предметы'!$J$8,COUNTIFS(#REF!,'предметы'!$J$23)>0),AND(#REF!='предметы'!$J$23,COUNTIFS(#REF!,'предметы'!$J$8)>0),AND(#REF!='предметы'!$J$9,COUNTIFS(#REF!,'предметы'!$J$24)>0),AND(#REF!='предметы'!$J$24,COUNTIFS(#REF!,'предметы'!$J$9)>0),AND(#REF!='предметы'!$J$10,COUNTIFS(#REF!,'предметы'!$J$25)>0),AND(#REF!='предметы'!$J$25,COUNTIFS(#REF!,'предметы'!$J$10)>0),AND(#REF!='предметы'!$J$11,COUNTIFS(#REF!,'предметы'!$J$26)>0),AND(#REF!='предметы'!$J$26,COUNTIFS(#REF!,'предметы'!$J$11)>0),AND(#REF!='предметы'!$J$12,COUNTIFS(#REF!,'предметы'!$J$27)>0),AND(#REF!='предметы'!$J$27,COUNTIFS(#REF!,'предметы'!$J$12)>0),AND(#REF!='предметы'!$J$13,COUNTIFS(#REF!,'предметы'!$J$28)>0),AND(#REF!='предметы'!$J$28,COUNTIFS(#REF!,'предметы'!$J$13)>0),AND(#REF!='предметы'!$J$14,COUNTIFS(#REF!,'предметы'!$J$29)>0),AND(#REF!='предметы'!$J$29,COUNTIFS(#REF!,'предметы'!$J$14)>0),AND(#REF!='предметы'!$J$15,COUNTIFS(#REF!,'предметы'!$J$30)>0),AND(#REF!='предметы'!$J$30,COUNTIFS(#REF!,'предметы'!$J$15)>0)),"<17 (ВПР, КР)","*") -> #REF! | BG6: =IF(OR(COUNTIFS(#REF!,#REF!)>1,AND(#REF!='предметы'!$J$3,COUNTIFS(#REF!,'предметы'!$J$16)>0),AND(#REF!='предметы'!$J$16,COUNTIFS(#REF!,'предметы'!$J$3)>0),AND(#REF!='предметы'!$J$4,COUNTIFS(#REF!,'предметы'!$J$19)>0),AND(#REF!='предметы'!$J$19,COUNTIFS(#REF!,'предметы'!$J$4)>0),AND(#REF!='предметы'!$J$5,COUNTIFS(#REF!,'предметы'!$J$20)>0),AND(#REF!='предметы'!$J$20,COUNTIFS(#REF!,'предметы'!$J$5)>0),AND(#REF!='предметы'!$J$6,COUNTIFS(#REF!,'предметы'!$J$21)>0),AND(#REF!='предметы'!$J$21,COUNTIFS(#REF!,'предметы'!$J$6)>0),AND(#REF!='предметы'!$J$7,COUNTIFS(#REF!,'предметы'!$J$22)>0),AND(#REF!='предметы'!$J$22,COUNTIFS(#REF!,'предметы'!$J$7)>0),AND(#REF!='предметы'!$J$8,COUNTIFS(#REF!,'предметы'!$J$23)>0),AND(#REF!='предметы'!$J$23,COUNTIFS(#REF!,'предметы'!$J$8)>0),AND(#REF!='предметы'!$J$9,COUNTIFS(#REF!,'предметы'!$J$24)>0),AND(#REF!='предметы'!$J$24,COUNTIFS(#REF!,'предметы'!$J$9)>0),AND(#REF!='предметы'!$J$10,COUNTIFS(#REF!,'предметы'!$J$25)>0),AND(#REF!='предметы'!$J$25,COUNTIFS(#REF!,'предметы'!$J$10)>0),AND(#REF!='предметы'!$J$11,COUNTIFS(#REF!,'предметы'!$J$26)>0),AND(#REF!='предметы'!$J$26,COUNTIFS(#REF!,'предметы'!$J$11)>0),AND(#REF!='предметы'!$J$12,COUNTIFS(#REF!,'предметы'!$J$27)>0),AND(#REF!='предметы'!$J$27,COUNTIFS(#REF!,'предметы'!$J$12)>0),AND(#REF!='предметы'!$J$13,COUNTIFS(#REF!,'предметы'!$J$28)>0),AND(#REF!='предметы'!$J$28,COUNTIFS(#REF!,'предметы'!$J$13)>0),AND(#REF!='предметы'!$J$14,COUNTIFS(#REF!,'предметы'!$J$29)>0),AND(#REF!='предметы'!$J$29,COUNTIFS(#REF!,'предметы'!$J$14)>0),AND(#REF!='предметы'!$J$15,COUNTIFS(#REF!,'предметы'!$J$30)>0),AND(#REF!='предметы'!$J$30,COUNTIFS(#REF!,'предметы'!$J$15)>0)),"<17 (ВПР, КР)","*") -> #REF! | BH6: =IF(OR(COUNTIFS(#REF!,#REF!)>1,AND(#REF!='предметы'!$J$3,COUNTIFS(#REF!,'предметы'!$J$16)>0),AND(#REF!='предметы'!$J$16,COUNTIFS(#REF!,'предметы'!$J$3)>0),AND(#REF!='предметы'!$J$4,COUNTIFS(#REF!,'предметы'!$J$19)>0),AND(#REF!='предметы'!$J$19,COUNTIFS(#REF!,'предметы'!$J$4)>0),AND(#REF!='предметы'!$J$5,COUNTIFS(#REF!,'предметы'!$J$20)>0),AND(#REF!='предметы'!$J$20,COUNTIFS(#REF!,'предметы'!$J$5)>0),AND(#REF!='предметы'!$J$6,COUNTIFS(#REF!,'предметы'!$J$21)>0),AND(#REF!='предметы'!$J$21,COUNTIFS(#REF!,'предметы'!$J$6)>0),AND(#REF!='предметы'!$J$7,COUNTIFS(#REF!,'предметы'!$J$22)>0),AND(#REF!='предметы'!$J$22,COUNTIFS(#REF!,'предметы'!$J$7)>0),AND(#REF!='предметы'!$J$8,COUNTIFS(#REF!,'предметы'!$J$23)>0),AND(#REF!='предметы'!$J$23,COUNTIFS(#REF!,'предметы'!$J$8)>0),AND(#REF!='предметы'!$J$9,COUNTIFS(#REF!,'предметы'!$J$24)>0),AND(#REF!='предметы'!$J$24,COUNTIFS(#REF!,'предметы'!$J$9)>0),AND(#REF!='предметы'!$J$10,COUNTIFS(#REF!,'предметы'!$J$25)>0),AND(#REF!='предметы'!$J$25,COUNTIFS(#REF!,'предметы'!$J$10)>0),AND(#REF!='предметы'!$J$11,COUNTIFS(#REF!,'предметы'!$J$26)>0),AND(#REF!='предметы'!$J$26,COUNTIFS(#REF!,'предметы'!$J$11)>0),AND(#REF!='предметы'!$J$12,COUNTIFS(#REF!,'предметы'!$J$27)>0),AND(#REF!='предметы'!$J$27,COUNTIFS(#REF!,'предметы'!$J$12)>0),AND(#REF!='предметы'!$J$13,COUNTIFS(#REF!,'предметы'!$J$28)>0),AND(#REF!='предметы'!$J$28,COUNTIFS(#REF!,'предметы'!$J$13)>0),AND(#REF!='предметы'!$J$14,COUNTIFS(#REF!,'предметы'!$J$29)>0),AND(#REF!='предметы'!$J$29,COUNTIFS(#REF!,'предметы'!$J$14)>0),AND(#REF!='предметы'!$J$15,COUNTIFS(#REF!,'предметы'!$J$30)>0),AND(#REF!='предметы'!$J$30,COUNTIFS(#REF!,'предметы'!$J$15)>0)),"<17 (ВПР, КР)","*") -> #REF! | BI6: =IF(OR(COUNTIFS(#REF!,#REF!)>1,AND(#REF!='предметы'!$J$3,COUNTIFS(#REF!,'предметы'!$J$16)>0),AND(#REF!='предметы'!$J$16,COUNTIFS(#REF!,'предметы'!$J$3)>0),AND(#REF!='предметы'!$J$4,COUNTIFS(#REF!,'предметы'!$J$19)>0),AND(#REF!='предметы'!$J$19,COUNTIFS(#REF!,'предметы'!$J$4)>0),AND(#REF!='предметы'!$J$5,COUNTIFS(#REF!,'предметы'!$J$20)>0),AND(#REF!='предметы'!$J$20,COUNTIFS(#REF!,'предметы'!$J$5)>0),AND(#REF!='предметы'!$J$6,COUNTIFS(#REF!,'предметы'!$J$21)>0),AND(#REF!='предметы'!$J$21,COUNTIFS(#REF!,'предметы'!$J$6)>0),AND(#REF!='предметы'!$J$7,COUNTIFS(#REF!,'предметы'!$J$22)>0),AND(#REF!='предметы'!$J$22,COUNTIFS(#REF!,'предметы'!$J$7)>0),AND(#REF!='предметы'!$J$8,COUNTIFS(#REF!,'предметы'!$J$23)>0),AND(#REF!='предметы'!$J$23,COUNTIFS(#REF!,'предметы'!$J$8)>0),AND(#REF!='предметы'!$J$9,COUNTIFS(#REF!,'предметы'!$J$24)>0),AND(#REF!='предметы'!$J$24,COUNTIFS(#REF!,'предметы'!$J$9)>0),AND(#REF!='предметы'!$J$10,COUNTIFS(#REF!,'предметы'!$J$25)>0),AND(#REF!='предметы'!$J$25,COUNTIFS(#REF!,'предметы'!$J$10)>0),AND(#REF!='предметы'!$J$11,COUNTIFS(#REF!,'предметы'!$J$26)>0),AND(#REF!='предметы'!$J$26,COUNTIFS(#REF!,'предметы'!$J$11)>0),AND(#REF!='предметы'!$J$12,COUNTIFS(#REF!,'предметы'!$J$27)>0),AND(#REF!='предметы'!$J$27,COUNTIFS(#REF!,'предметы'!$J$12)>0),AND(#REF!='предметы'!$J$13,COUNTIFS(#REF!,'предметы'!$J$28)>0),AND(#REF!='предметы'!$J$28,COUNTIFS(#REF!,'предметы'!$J$13)>0),AND(#REF!='предметы'!$J$14,COUNTIFS(#REF!,'предметы'!$J$29)>0),AND(#REF!='предметы'!$J$29,COUNTIFS(#REF!,'предметы'!$J$14)>0),AND(#REF!='предметы'!$J$15,COUNTIFS(#REF!,'предметы'!$J$30)>0),AND(#REF!='предметы'!$J$30,COUNTIFS(#REF!,'предметы'!$J$15)>0)),"<17 (ВПР, КР)","*") -> #REF! | BJ6: =IF(OR(COUNTIFS(#REF!,#REF!)>1,AND(#REF!='предметы'!$J$3,COUNTIFS(#REF!,'предметы'!$J$16)>0),AND(#REF!='предметы'!$J$16,COUNTIFS(#REF!,'предметы'!$J$3)>0),AND(#REF!='предметы'!$J$4,COUNTIFS(#REF!,'предметы'!$J$19)>0),AND(#REF!='предметы'!$J$19,COUNTIFS(#REF!,'предметы'!$J$4)>0),AND(#REF!='предметы'!$J$5,COUNTIFS(#REF!,'предметы'!$J$20)>0),AND(#REF!='предметы'!$J$20,COUNTIFS(#REF!,'предметы'!$J$5)>0),AND(#REF!='предметы'!$J$6,COUNTIFS(#REF!,'предметы'!$J$21)>0),AND(#REF!='предметы'!$J$21,COUNTIFS(#REF!,'предметы'!$J$6)>0),AND(#REF!='предметы'!$J$7,COUNTIFS(#REF!,'предметы'!$J$22)>0),AND(#REF!='предметы'!$J$22,COUNTIFS(#REF!,'предметы'!$J$7)>0),AND(#REF!='предметы'!$J$8,COUNTIFS(#REF!,'предметы'!$J$23)>0),AND(#REF!='предметы'!$J$23,COUNTIFS(#REF!,'предметы'!$J$8)>0),AND(#REF!='предметы'!$J$9,COUNTIFS(#REF!,'предметы'!$J$24)>0),AND(#REF!='предметы'!$J$24,COUNTIFS(#REF!,'предметы'!$J$9)>0),AND(#REF!='предметы'!$J$10,COUNTIFS(#REF!,'предметы'!$J$25)>0),AND(#REF!='предметы'!$J$25,COUNTIFS(#REF!,'предметы'!$J$10)>0),AND(#REF!='предметы'!$J$11,COUNTIFS(#REF!,'предметы'!$J$26)>0),AND(#REF!='предметы'!$J$26,COUNTIFS(#REF!,'предметы'!$J$11)>0),AND(#REF!='предметы'!$J$12,COUNTIFS(#REF!,'предметы'!$J$27)>0),AND(#REF!='предметы'!$J$27,COUNTIFS(#REF!,'предметы'!$J$12)>0),AND(#REF!='предметы'!$J$13,COUNTIFS(#REF!,'предметы'!$J$28)>0),AND(#REF!='предметы'!$J$28,COUNTIFS(#REF!,'предметы'!$J$13)>0),AND(#REF!='предметы'!$J$14,COUNTIFS(#REF!,'предметы'!$J$29)>0),AND(#REF!='предметы'!$J$29,COUNTIFS(#REF!,'предметы'!$J$14)>0),AND(#REF!='предметы'!$J$15,COUNTIFS(#REF!,'предметы'!$J$30)>0),AND(#REF!='предметы'!$J$30,COUNTIFS(#REF!,'предметы'!$J$15)>0)),"<17 (ВПР, КР)","*") -> #REF! | BK6: =IF(COUNTIFS(#REF!,#REF!)>1,"<17 (ВПР, КР)","*") -> * | BL6: =IF(COUNTIFS(#REF!,#REF!)>1,"<17 (ВПР, КР)","*") -> * | BM6: =IF(COUNTIFS(#REF!,#REF!)>1,"<17 (ВПР, КР)","*") -> * | BN6: =IF(COUNTIFS(#REF!,#REF!)>1,"<17 (ВПР, КР)","*") -> * | BO6: =IF(COUNTIFS(#REF!,#REF!)>1,"<17 (ВПР, КР)","*") -> * | BP6: =IF(COUNTIFS(#REF!,#REF!)>1,"<17 (ВПР, КР)","*") -> *
A7: 46267 | B7: СР | C7: =IF(COUNTIFS('График 1-4 кл'!C7:C23,'График 1-4 кл'!C7)>1,"<17 (ВПР, КР)","*") -> * | D7: =IF(COUNTIFS('График 1-4 кл'!D7:D23,'График 1-4 кл'!D7)>1,"<17 (ВПР, КР)","*") -> * | E7: =IF(COUNTIFS('График 1-4 кл'!E7:E23,'График 1-4 кл'!E7)>1,"<17 (ВПР, КР)","*") -> * | F7: =IF(COUNTIFS(#REF!,#REF!)>1,"<17 (ВПР, КР)","*") -> * | G7: =IF(COUNTIFS(#REF!,#REF!)>1,"<17 (ВПР, КР)","*") -> * | H7: =IF(COUNTIFS(#REF!,#REF!)>1,"<17 (ВПР, КР)","*") -> * | I7: =IF(COUNTIFS('График 1-4 кл'!F7:F23,'График 1-4 кл'!F7)>1,"<17 (ВПР, КР)","*") -> * | J7: =IF(COUNTIFS('График 1-4 кл'!G7:G23,'График 1-4 кл'!G7)>1,"<17 (ВПР, КР)","*") -> * | K7: =IF(COUNTIFS('График 1-4 кл'!H7:H23,'График 1-4 кл'!H7)>1,"<17 (ВПР, КР)","*") -> * | L7: =IF(COUNTIFS('График 1-4 кл'!I7:I23,'График 1-4 кл'!I7)>1,"<17 (ВПР, КР)","*") -> * | M7: =IF(COUNTIFS(#REF!,#REF!)>1,"<17 (ВПР, КР)","*") -> * | N7: =IF(COUNTIFS(#REF!,#REF!)>1,"<17 (ВПР, КР)","*") -> * | O7: =IF(COUNTIFS('График 1-4 кл'!J7:J23,'График 1-4 кл'!J7)>1,"<17 (ВПР, КР)","*") -> * | P7: =IF(COUNTIFS('График 1-4 кл'!K7:K23,'График 1-4 кл'!K7)>1,"<17 (ВПР, КР)","*") -> * | Q7: =IF(COUNTIFS('График 1-4 кл'!L7:L23,'График 1-4 кл'!L7)>1,"<17 (ВПР, КР)","*") -> * | R7: =IF(COUNTIFS('График 1-4 кл'!M7:M23,'График 1-4 кл'!M7)>1,"<17 (ВПР, КР)","*") -> * | S7: =IF(COUNTIFS('График 1-4 кл'!N7:N23,'График 1-4 кл'!N7)>1,"<17 (ВПР, КР)","*") -> * | T7: =IF(COUNTIFS('График 1-4 кл'!O7:O23,'График 1-4 кл'!O7)>1,"<17 (ВПР, КР)","*") -> * | U7: =IF(OR(COUNTIFS('График 1-4 кл'!P7:P23,'График 1-4 кл'!P7)>1,AND('График 1-4 кл'!P7='предметы'!$D$3,COUNTIFS('График 1-4 кл'!P7:P23,'предметы'!$D$12)>0),AND('График 1-4 кл'!P7='предметы'!$D$12,COUNTIFS('График 1-4 кл'!P7:P23,'предметы'!$D$3)>0),AND('График 1-4 кл'!P7='предметы'!$D$4,COUNTIFS('График 1-4 кл'!P7:P23,'предметы'!$D$13)>0),AND('График 1-4 кл'!P7='предметы'!$D$13,COUNTIFS('График 1-4 кл'!P7:P23,'предметы'!$D$4)>0),AND('График 1-4 кл'!P7='предметы'!$D$14,COUNTIFS('График 1-4 кл'!P7:P23,'предметы'!$D$5)>0),AND('График 1-4 кл'!P7='предметы'!$D$5,COUNTIFS('График 1-4 кл'!P7:P23,'предметы'!$D$14)>0),AND('График 1-4 кл'!P7='предметы'!$D$15,COUNTIFS('График 1-4 кл'!P7:P23,'предметы'!$D$6)>0),AND('График 1-4 кл'!P7='предметы'!$D$6,COUNTIFS('График 1-4 кл'!P7:P23,'предметы'!$D$15)>0),AND('График 1-4 кл'!P7='предметы'!$D$16,COUNTIFS('График 1-4 кл'!P7:P23,'предметы'!$D$7)>0),AND('График 1-4 кл'!P7='предметы'!$D$7,COUNTIFS('График 1-4 кл'!P7:P23,'предметы'!$D$16)>0),AND('График 1-4 кл'!P7='предметы'!$D$8,COUNTIFS('График 1-4 кл'!P7:P23,'предметы'!$D$10)>0),AND('График 1-4 кл'!P7='предметы'!$D$10,COUNTIFS('График 1-4 кл'!P7:P23,'предметы'!$D$8)>0),AND('График 1-4 кл'!P7='предметы'!$D$9,COUNTIFS('График 1-4 кл'!P7:P23,'предметы'!$D$11)>0),AND('График 1-4 кл'!P7='предметы'!$D$11,COUNTIFS('График 1-4 кл'!P7:P23,'предметы'!$D$9)>0)),"<17 (ВПР, КР)","*") -> #REF! | V7: =IF(OR(COUNTIFS('График 1-4 кл'!Q7:Q23,'График 1-4 кл'!Q7)>1,AND('График 1-4 кл'!Q7='предметы'!$D$3,COUNTIFS('График 1-4 кл'!Q7:Q23,'предметы'!$D$12)>0),AND('График 1-4 кл'!Q7='предметы'!$D$12,COUNTIFS('График 1-4 кл'!Q7:Q23,'предметы'!$D$3)>0),AND('График 1-4 кл'!Q7='предметы'!$D$4,COUNTIFS('График 1-4 кл'!Q7:Q23,'предметы'!$D$13)>0),AND('График 1-4 кл'!Q7='предметы'!$D$13,COUNTIFS('График 1-4 кл'!Q7:Q23,'предметы'!$D$4)>0),AND('График 1-4 кл'!Q7='предметы'!$D$14,COUNTIFS('График 1-4 кл'!Q7:Q23,'предметы'!$D$5)>0),AND('График 1-4 кл'!Q7='предметы'!$D$5,COUNTIFS('График 1-4 кл'!Q7:Q23,'предметы'!$D$14)>0),AND('График 1-4 кл'!Q7='предметы'!$D$15,COUNTIFS('График 1-4 кл'!Q7:Q23,'предметы'!$D$6)>0),AND('График 1-4 кл'!Q7='предметы'!$D$6,COUNTIFS('График 1-4 кл'!Q7:Q23,'предметы'!$D$15)>0),AND('График 1-4 кл'!Q7='предметы'!$D$16,COUNTIFS('График 1-4 кл'!Q7:Q23,'предметы'!$D$7)>0),AND('График 1-4 кл'!Q7='предметы'!$D$7,COUNTIFS('График 1-4 кл'!Q7:Q23,'предметы'!$D$16)>0),AND('График 1-4 кл'!Q7='предметы'!$D$8,COUNTIFS('График 1-4 кл'!Q7:Q23,'предметы'!$D$10)>0),AND('График 1-4 кл'!Q7='предметы'!$D$10,COUNTIFS('График 1-4 кл'!Q7:Q23,'предметы'!$D$8)>0),AND('График 1-4 кл'!Q7='предметы'!$D$9,COUNTIFS('График 1-4 кл'!Q7:Q23,'предметы'!$D$11)>0),AND('График 1-4 кл'!Q7='предметы'!$D$11,COUNTIFS('График 1-4 кл'!Q7:Q23,'предметы'!$D$9)>0)),"<17 (ВПР, КР)","*") -> #REF! | W7: =IF(OR(COUNTIFS('График 1-4 кл'!R7:R23,'График 1-4 кл'!R7)>1,AND('График 1-4 кл'!R7='предметы'!$D$3,COUNTIFS('График 1-4 кл'!R7:R23,'предметы'!$D$12)>0),AND('График 1-4 кл'!R7='предметы'!$D$12,COUNTIFS('График 1-4 кл'!R7:R23,'предметы'!$D$3)>0),AND('График 1-4 кл'!R7='предметы'!$D$4,COUNTIFS('График 1-4 кл'!R7:R23,'предметы'!$D$13)>0),AND('График 1-4 кл'!R7='предметы'!$D$13,COUNTIFS('График 1-4 кл'!R7:R23,'предметы'!$D$4)>0),AND('График 1-4 кл'!R7='предметы'!$D$14,COUNTIFS('График 1-4 кл'!R7:R23,'предметы'!$D$5)>0),AND('График 1-4 кл'!R7='предметы'!$D$5,COUNTIFS('График 1-4 кл'!R7:R23,'предметы'!$D$14)>0),AND('График 1-4 кл'!R7='предметы'!$D$15,COUNTIFS('График 1-4 кл'!R7:R23,'предметы'!$D$6)>0),AND('График 1-4 кл'!R7='предметы'!$D$6,COUNTIFS('График 1-4 кл'!R7:R23,'предметы'!$D$15)>0),AND('График 1-4 кл'!R7='предметы'!$D$16,COUNTIFS('График 1-4 кл'!R7:R23,'предметы'!$D$7)>0),AND('График 1-4 кл'!R7='предметы'!$D$7,COUNTIFS('График 1-4 кл'!R7:R23,'предметы'!$D$16)>0),AND('График 1-4 кл'!R7='предметы'!$D$8,COUNTIFS('График 1-4 кл'!R7:R23,'предметы'!$D$10)>0),AND('График 1-4 кл'!R7='предметы'!$D$10,COUNTIFS('График 1-4 кл'!R7:R23,'предметы'!$D$8)>0),AND('График 1-4 кл'!R7='предметы'!$D$9,COUNTIFS('График 1-4 кл'!R7:R23,'предметы'!$D$11)>0),AND('График 1-4 кл'!R7='предметы'!$D$11,COUNTIFS('График 1-4 кл'!R7:R23,'предметы'!$D$9)>0)),"<17 (ВПР, КР)","*") -> #REF! | X7: =IF(OR(COUNTIFS('График 1-4 кл'!S7:S23,'График 1-4 кл'!S7)>1,AND('График 1-4 кл'!S7='предметы'!$D$3,COUNTIFS('График 1-4 кл'!S7:S23,'предметы'!$D$12)>0),AND('График 1-4 кл'!S7='предметы'!$D$12,COUNTIFS('График 1-4 кл'!S7:S23,'предметы'!$D$3)>0),AND('График 1-4 кл'!S7='предметы'!$D$4,COUNTIFS('График 1-4 кл'!S7:S23,'предметы'!$D$13)>0),AND('График 1-4 кл'!S7='предметы'!$D$13,COUNTIFS('График 1-4 кл'!S7:S23,'предметы'!$D$4)>0),AND('График 1-4 кл'!S7='предметы'!$D$14,COUNTIFS('График 1-4 кл'!S7:S23,'предметы'!$D$5)>0),AND('График 1-4 кл'!S7='предметы'!$D$5,COUNTIFS('График 1-4 кл'!S7:S23,'предметы'!$D$14)>0),AND('График 1-4 кл'!S7='предметы'!$D$15,COUNTIFS('График 1-4 кл'!S7:S23,'предметы'!$D$6)>0),AND('График 1-4 кл'!S7='предметы'!$D$6,COUNTIFS('График 1-4 кл'!S7:S23,'предметы'!$D$15)>0),AND('График 1-4 кл'!S7='предметы'!$D$16,COUNTIFS('График 1-4 кл'!S7:S23,'предметы'!$D$7)>0),AND('График 1-4 кл'!S7='предметы'!$D$7,COUNTIFS('График 1-4 кл'!S7:S23,'предметы'!$D$16)>0),AND('График 1-4 кл'!S7='предметы'!$D$8,COUNTIFS('График 1-4 кл'!S7:S23,'предметы'!$D$10)>0),AND('График 1-4 кл'!S7='предметы'!$D$10,COUNTIFS('График 1-4 кл'!S7:S23,'предметы'!$D$8)>0),AND('График 1-4 кл'!S7='предметы'!$D$9,COUNTIFS('График 1-4 кл'!S7:S23,'предметы'!$D$11)>0),AND('График 1-4 кл'!S7='предметы'!$D$11,COUNTIFS('График 1-4 кл'!S7:S23,'предметы'!$D$9)>0)),"<17 (ВПР, КР)","*") -> #REF! | Y7: =IF(OR(COUNTIFS('График 1-4 кл'!T7:T23,'График 1-4 кл'!T7)>1,AND('График 1-4 кл'!T7='предметы'!$D$3,COUNTIFS('График 1-4 кл'!T7:T23,'предметы'!$D$12)>0),AND('График 1-4 кл'!T7='предметы'!$D$12,COUNTIFS('График 1-4 кл'!T7:T23,'предметы'!$D$3)>0),AND('График 1-4 кл'!T7='предметы'!$D$4,COUNTIFS('График 1-4 кл'!T7:T23,'предметы'!$D$13)>0),AND('График 1-4 кл'!T7='предметы'!$D$13,COUNTIFS('График 1-4 кл'!T7:T23,'предметы'!$D$4)>0),AND('График 1-4 кл'!T7='предметы'!$D$14,COUNTIFS('График 1-4 кл'!T7:T23,'предметы'!$D$5)>0),AND('График 1-4 кл'!T7='предметы'!$D$5,COUNTIFS('График 1-4 кл'!T7:T23,'предметы'!$D$14)>0),AND('График 1-4 кл'!T7='предметы'!$D$15,COUNTIFS('График 1-4 кл'!T7:T23,'предметы'!$D$6)>0),AND('График 1-4 кл'!T7='предметы'!$D$6,COUNTIFS('График 1-4 кл'!T7:T23,'предметы'!$D$15)>0),AND('График 1-4 кл'!T7='предметы'!$D$16,COUNTIFS('График 1-4 кл'!T7:T23,'предметы'!$D$7)>0),AND('График 1-4 кл'!T7='предметы'!$D$7,COUNTIFS('График 1-4 кл'!T7:T23,'предметы'!$D$16)>0),AND('График 1-4 кл'!T7='предметы'!$D$8,COUNTIFS('График 1-4 кл'!T7:T23,'предметы'!$D$10)>0),AND('График 1-4 кл'!T7='предметы'!$D$10,COUNTIFS('График 1-4 кл'!T7:T23,'предметы'!$D$8)>0),AND('График 1-4 кл'!T7='предметы'!$D$9,COUNTIFS('График 1-4 кл'!T7:T23,'предметы'!$D$11)>0),AND('График 1-4 кл'!T7='предметы'!$D$11,COUNTIFS('График 1-4 кл'!T7:T23,'предметы'!$D$9)>0)),"<17 (ВПР, КР)","*") -> #REF! | Z7: =IF(OR(COUNTIFS(#REF!,#REF!)>1,AND(#REF!='предметы'!$D$3,COUNTIFS(#REF!,'предметы'!$D$12)>0),AND(#REF!='предметы'!$D$12,COUNTIFS(#REF!,'предметы'!$D$3)>0),AND(#REF!='предметы'!$D$4,COUNTIFS(#REF!,'предметы'!$D$13)>0),AND(#REF!='предметы'!$D$13,COUNTIFS(#REF!,'предметы'!$D$4)>0),AND(#REF!='предметы'!$D$14,COUNTIFS(#REF!,'предметы'!$D$5)>0),AND(#REF!='предметы'!$D$5,COUNTIFS(#REF!,'предметы'!$D$14)>0),AND(#REF!='предметы'!$D$15,COUNTIFS(#REF!,'предметы'!$D$6)>0),AND(#REF!='предметы'!$D$6,COUNTIFS(#REF!,'предметы'!$D$15)>0),AND(#REF!='предметы'!$D$16,COUNTIFS(#REF!,'предметы'!$D$7)>0),AND(#REF!='предметы'!$D$7,COUNTIFS(#REF!,'предметы'!$D$16)>0),AND(#REF!='предметы'!$D$8,COUNTIFS(#REF!,'предметы'!$D$10)>0),AND(#REF!='предметы'!$D$10,COUNTIFS(#REF!,'предметы'!$D$8)>0),AND(#REF!='предметы'!$D$9,COUNTIFS(#REF!,'предметы'!$D$11)>0),AND(#REF!='предметы'!$D$11,COUNTIFS(#REF!,'предметы'!$D$9)>0)),"<17 (ВПР, КР)","*") -> #REF! | AA7: =IF(OR(COUNTIFS(#REF!,#REF!)>1,AND(#REF!='предметы'!$E$3,COUNTIFS(#REF!,'предметы'!$E$12)>0),AND(#REF!='предметы'!$E$12,COUNTIFS(#REF!,'предметы'!$E$3)>0),AND(#REF!='предметы'!$E$4,COUNTIFS(#REF!,'предметы'!$E$13)>0),AND(#REF!='предметы'!$E$13,COUNTIFS(#REF!,'предметы'!$E$4)>0),AND(#REF!='предметы'!$E$5,COUNTIFS(#REF!,'предметы'!$E$14)>0),AND(#REF!='предметы'!$E$14,COUNTIFS(#REF!,'предметы'!$E$5)>0),AND(#REF!='предметы'!$E$6,COUNTIFS(#REF!,'предметы'!$E$15)>0),AND(#REF!='предметы'!$E$15,COUNTIFS(#REF!,'предметы'!$E$6)>0),AND(#REF!='предметы'!$E$7,COUNTIFS(#REF!,'предметы'!$E$16)>0),AND(#REF!='предметы'!$E$16,COUNTIFS(#REF!,'предметы'!$E$7)>0),AND(#REF!='предметы'!$E$8,COUNTIFS(#REF!,'предметы'!$E$17)>0),AND(#REF!='предметы'!$E$17,COUNTIFS(#REF!,'предметы'!$E$8)>0),AND(#REF!='предметы'!$E$9,COUNTIFS(#REF!,'предметы'!$E$18)>0),AND(#REF!='предметы'!$E$18,COUNTIFS(#REF!,'предметы'!$E$9)>0),AND(#REF!='предметы'!$E$10,COUNTIFS(#REF!,'предметы'!$E$19)>0),AND(#REF!='предметы'!$E$19,COUNTIFS(#REF!,'предметы'!$E$10)>0),AND(#REF!='предметы'!$E$11,COUNTIFS(#REF!,'предметы'!$E$20)>0),AND(#REF!='предметы'!$E$20,COUNTIFS(#REF!,'предметы'!$E$11)>0)),"<17 (ВПР, КР)","*") -> #REF! | AB7: =IF(OR(COUNTIFS(#REF!,#REF!)>1,AND(#REF!='предметы'!$E$3,COUNTIFS(#REF!,'предметы'!$E$12)>0),AND(#REF!='предметы'!$E$12,COUNTIFS(#REF!,'предметы'!$E$3)>0),AND(#REF!='предметы'!$E$4,COUNTIFS(#REF!,'предметы'!$E$13)>0),AND(#REF!='предметы'!$E$13,COUNTIFS(#REF!,'предметы'!$E$4)>0),AND(#REF!='предметы'!$E$5,COUNTIFS(#REF!,'предметы'!$E$14)>0),AND(#REF!='предметы'!$E$14,COUNTIFS(#REF!,'предметы'!$E$5)>0),AND(#REF!='предметы'!$E$6,COUNTIFS(#REF!,'предметы'!$E$15)>0),AND(#REF!='предметы'!$E$15,COUNTIFS(#REF!,'предметы'!$E$6)>0),AND(#REF!='предметы'!$E$7,COUNTIFS(#REF!,'предметы'!$E$16)>0),AND(#REF!='предметы'!$E$16,COUNTIFS(#REF!,'предметы'!$E$7)>0),AND(#REF!='предметы'!$E$8,COUNTIFS(#REF!,'предметы'!$E$17)>0),AND(#REF!='предметы'!$E$17,COUNTIFS(#REF!,'предметы'!$E$8)>0),AND(#REF!='предметы'!$E$9,COUNTIFS(#REF!,'предметы'!$E$18)>0),AND(#REF!='предметы'!$E$18,COUNTIFS(#REF!,'предметы'!$E$9)>0),AND(#REF!='предметы'!$E$10,COUNTIFS(#REF!,'предметы'!$E$19)>0),AND(#REF!='предметы'!$E$19,COUNTIFS(#REF!,'предметы'!$E$10)>0),AND(#REF!='предметы'!$E$11,COUNTIFS(#REF!,'предметы'!$E$20)>0),AND(#REF!='предметы'!$E$20,COUNTIFS(#REF!,'предметы'!$E$11)>0)),"<17 (ВПР, КР)","*") -> #REF! | AC7: =IF(OR(COUNTIFS(#REF!,#REF!)>1,AND(#REF!='предметы'!$E$3,COUNTIFS(#REF!,'предметы'!$E$12)>0),AND(#REF!='предметы'!$E$12,COUNTIFS(#REF!,'предметы'!$E$3)>0),AND(#REF!='предметы'!$E$4,COUNTIFS(#REF!,'предметы'!$E$13)>0),AND(#REF!='предметы'!$E$13,COUNTIFS(#REF!,'предметы'!$E$4)>0),AND(#REF!='предметы'!$E$5,COUNTIFS(#REF!,'предметы'!$E$14)>0),AND(#REF!='предметы'!$E$14,COUNTIFS(#REF!,'предметы'!$E$5)>0),AND(#REF!='предметы'!$E$6,COUNTIFS(#REF!,'предметы'!$E$15)>0),AND(#REF!='предметы'!$E$15,COUNTIFS(#REF!,'предметы'!$E$6)>0),AND(#REF!='предметы'!$E$7,COUNTIFS(#REF!,'предметы'!$E$16)>0),AND(#REF!='предметы'!$E$16,COUNTIFS(#REF!,'предметы'!$E$7)>0),AND(#REF!='предметы'!$E$8,COUNTIFS(#REF!,'предметы'!$E$17)>0),AND(#REF!='предметы'!$E$17,COUNTIFS(#REF!,'предметы'!$E$8)>0),AND(#REF!='предметы'!$E$9,COUNTIFS(#REF!,'предметы'!$E$18)>0),AND(#REF!='предметы'!$E$18,COUNTIFS(#REF!,'предметы'!$E$9)>0),AND(#REF!='предметы'!$E$10,COUNTIFS(#REF!,'предметы'!$E$19)>0),AND(#REF!='предметы'!$E$19,COUNTIFS(#REF!,'предметы'!$E$10)>0),AND(#REF!='предметы'!$E$11,COUNTIFS(#REF!,'предметы'!$E$20)>0),AND(#REF!='предметы'!$E$20,COUNTIFS(#REF!,'предметы'!$E$11)>0)),"<17 (ВПР, КР)","*") -> #REF! | AD7: =IF(OR(COUNTIFS(#REF!,#REF!)>1,AND(#REF!='предметы'!$E$3,COUNTIFS(#REF!,'предметы'!$E$12)>0),AND(#REF!='предметы'!$E$12,COUNTIFS(#REF!,'предметы'!$E$3)>0),AND(#REF!='предметы'!$E$4,COUNTIFS(#REF!,'предметы'!$E$13)>0),AND(#REF!='предметы'!$E$13,COUNTIFS(#REF!,'предметы'!$E$4)>0),AND(#REF!='предметы'!$E$5,COUNTIFS(#REF!,'предметы'!$E$14)>0),AND(#REF!='предметы'!$E$14,COUNTIFS(#REF!,'предметы'!$E$5)>0),AND(#REF!='предметы'!$E$6,COUNTIFS(#REF!,'предметы'!$E$15)>0),AND(#REF!='предметы'!$E$15,COUNTIFS(#REF!,'предметы'!$E$6)>0),AND(#REF!='предметы'!$E$7,COUNTIFS(#REF!,'предметы'!$E$16)>0),AND(#REF!='предметы'!$E$16,COUNTIFS(#REF!,'предметы'!$E$7)>0),AND(#REF!='предметы'!$E$8,COUNTIFS(#REF!,'предметы'!$E$17)>0),AND(#REF!='предметы'!$E$17,COUNTIFS(#REF!,'предметы'!$E$8)>0),AND(#REF!='предметы'!$E$9,COUNTIFS(#REF!,'предметы'!$E$18)>0),AND(#REF!='предметы'!$E$18,COUNTIFS(#REF!,'предметы'!$E$9)>0),AND(#REF!='предметы'!$E$10,COUNTIFS(#REF!,'предметы'!$E$19)>0),AND(#REF!='предметы'!$E$19,COUNTIFS(#REF!,'предметы'!$E$10)>0),AND(#REF!='предметы'!$E$11,COUNTIFS(#REF!,'предметы'!$E$20)>0),AND(#REF!='предметы'!$E$20,COUNTIFS(#REF!,'предметы'!$E$11)>0)),"<17 (ВПР, КР)","*") -> #REF! | AE7: =IF(OR(COUNTIFS(#REF!,#REF!)>1,AND(#REF!='предметы'!$E$3,COUNTIFS(#REF!,'предметы'!$E$12)>0),AND(#REF!='предметы'!$E$12,COUNTIFS(#REF!,'предметы'!$E$3)>0),AND(#REF!='предметы'!$E$4,COUNTIFS(#REF!,'предметы'!$E$13)>0),AND(#REF!='предметы'!$E$13,COUNTIFS(#REF!,'предметы'!$E$4)>0),AND(#REF!='предметы'!$E$5,COUNTIFS(#REF!,'предметы'!$E$14)>0),AND(#REF!='предметы'!$E$14,COUNTIFS(#REF!,'предметы'!$E$5)>0),AND(#REF!='предметы'!$E$6,COUNTIFS(#REF!,'предметы'!$E$15)>0),AND(#REF!='предметы'!$E$15,COUNTIFS(#REF!,'предметы'!$E$6)>0),AND(#REF!='предметы'!$E$7,COUNTIFS(#REF!,'предметы'!$E$16)>0),AND(#REF!='предметы'!$E$16,COUNTIFS(#REF!,'предметы'!$E$7)>0),AND(#REF!='предметы'!$E$8,COUNTIFS(#REF!,'предметы'!$E$17)>0),AND(#REF!='предметы'!$E$17,COUNTIFS(#REF!,'предметы'!$E$8)>0),AND(#REF!='предметы'!$E$9,COUNTIFS(#REF!,'предметы'!$E$18)>0),AND(#REF!='предметы'!$E$18,COUNTIFS(#REF!,'предметы'!$E$9)>0),AND(#REF!='предметы'!$E$10,COUNTIFS(#REF!,'предметы'!$E$19)>0),AND(#REF!='предметы'!$E$19,COUNTIFS(#REF!,'предметы'!$E$10)>0),AND(#REF!='предметы'!$E$11,COUNTIFS(#REF!,'предметы'!$E$20)>0),AND(#REF!='предметы'!$E$20,COUNTIFS(#REF!,'предметы'!$E$11)>0)),"<17 (ВПР, КР)","*") -> #REF! | AF7: =IF(OR(COUNTIFS(#REF!,#REF!)>1,AND(#REF!='предметы'!$E$3,COUNTIFS(#REF!,'предметы'!$E$12)>0),AND(#REF!='предметы'!$E$12,COUNTIFS(#REF!,'предметы'!$E$3)>0),AND(#REF!='предметы'!$E$4,COUNTIFS(#REF!,'предметы'!$E$13)>0),AND(#REF!='предметы'!$E$13,COUNTIFS(#REF!,'предметы'!$E$4)>0),AND(#REF!='предметы'!$E$5,COUNTIFS(#REF!,'предметы'!$E$14)>0),AND(#REF!='предметы'!$E$14,COUNTIFS(#REF!,'предметы'!$E$5)>0),AND(#REF!='предметы'!$E$6,COUNTIFS(#REF!,'предметы'!$E$15)>0),AND(#REF!='предметы'!$E$15,COUNTIFS(#REF!,'предметы'!$E$6)>0),AND(#REF!='предметы'!$E$7,COUNTIFS(#REF!,'предметы'!$E$16)>0),AND(#REF!='предметы'!$E$16,COUNTIFS(#REF!,'предметы'!$E$7)>0),AND(#REF!='предметы'!$E$8,COUNTIFS(#REF!,'предметы'!$E$17)>0),AND(#REF!='предметы'!$E$17,COUNTIFS(#REF!,'предметы'!$E$8)>0),AND(#REF!='предметы'!$E$9,COUNTIFS(#REF!,'предметы'!$E$18)>0),AND(#REF!='предметы'!$E$18,COUNTIFS(#REF!,'предметы'!$E$9)>0),AND(#REF!='предметы'!$E$10,COUNTIFS(#REF!,'предметы'!$E$19)>0),AND(#REF!='предметы'!$E$19,COUNTIFS(#REF!,'предметы'!$E$10)>0),AND(#REF!='предметы'!$E$11,COUNTIFS(#REF!,'предметы'!$E$20)>0),AND(#REF!='предметы'!$E$20,COUNTIFS(#REF!,'предметы'!$E$11)>0)),"<17 (ВПР, КР)","*") -> #REF! | AG7: =IF(OR(COUNTIFS(#REF!,#REF!)>1,AND(#REF!='предметы'!$F$3,COUNTIFS(#REF!,'предметы'!$F$13)>0),AND(#REF!='предметы'!$F$13,COUNTIFS(#REF!,'предметы'!$F$3)>0),AND(#REF!='предметы'!$F$4,COUNTIFS(#REF!,'предметы'!$F$14)>0),AND(#REF!='предметы'!$F$14,COUNTIFS(#REF!,'предметы'!$F$4)>0),AND(#REF!='предметы'!$F$5,COUNTIFS(#REF!,'предметы'!$F$15)>0),AND(#REF!='предметы'!$F$15,COUNTIFS(#REF!,'предметы'!$F$5)>0),AND(#REF!='предметы'!$F$6,COUNTIFS(#REF!,'предметы'!$F$16)>0),AND(#REF!='предметы'!$F$16,COUNTIFS(#REF!,'предметы'!$F$6)>0),AND(#REF!='предметы'!$F$7,COUNTIFS(#REF!,'предметы'!$F$17)>0),AND(#REF!='предметы'!$F$17,COUNTIFS(#REF!,'предметы'!$F$7)>0),AND(#REF!='предметы'!$F$8,COUNTIFS(#REF!,'предметы'!$F$18)>0),AND(#REF!='предметы'!$F$18,COUNTIFS(#REF!,'предметы'!$F$8)>0),AND(#REF!='предметы'!$F$9,COUNTIFS(#REF!,'предметы'!$F$19)>0),AND(#REF!='предметы'!$F$19,COUNTIFS(#REF!,'предметы'!$F$9)>0),AND(#REF!='предметы'!$F$10,COUNTIFS(#REF!,'предметы'!$F$20)>0),AND(#REF!='предметы'!$F$20,COUNTIFS(#REF!,'предметы'!$F$10)>0),AND(#REF!='предметы'!$F$11,COUNTIFS(#REF!,'предметы'!$F$21)>0),AND(#REF!='предметы'!$F$21,COUNTIFS(#REF!,'предметы'!$F$11)>0),AND(#REF!='предметы'!$F$12,COUNTIFS(#REF!,'предметы'!$F$22)>0),AND(#REF!='предметы'!$F$22,COUNTIFS(#REF!,'предметы'!$F$12)>0)),"<17 (ВПР, КР)","*") -> #REF! | AH7: =IF(OR(COUNTIFS(#REF!,#REF!)>1,AND(#REF!='предметы'!$F$3,COUNTIFS(#REF!,'предметы'!$F$13)>0),AND(#REF!='предметы'!$F$13,COUNTIFS(#REF!,'предметы'!$F$3)>0),AND(#REF!='предметы'!$F$4,COUNTIFS(#REF!,'предметы'!$F$14)>0),AND(#REF!='предметы'!$F$14,COUNTIFS(#REF!,'предметы'!$F$4)>0),AND(#REF!='предметы'!$F$5,COUNTIFS(#REF!,'предметы'!$F$15)>0),AND(#REF!='предметы'!$F$15,COUNTIFS(#REF!,'предметы'!$F$5)>0),AND(#REF!='предметы'!$F$6,COUNTIFS(#REF!,'предметы'!$F$16)>0),AND(#REF!='предметы'!$F$16,COUNTIFS(#REF!,'предметы'!$F$6)>0),AND(#REF!='предметы'!$F$7,COUNTIFS(#REF!,'предметы'!$F$17)>0),AND(#REF!='предметы'!$F$17,COUNTIFS(#REF!,'предметы'!$F$7)>0),AND(#REF!='предметы'!$F$8,COUNTIFS(#REF!,'предметы'!$F$18)>0),AND(#REF!='предметы'!$F$18,COUNTIFS(#REF!,'предметы'!$F$8)>0),AND(#REF!='предметы'!$F$9,COUNTIFS(#REF!,'предметы'!$F$19)>0),AND(#REF!='предметы'!$F$19,COUNTIFS(#REF!,'предметы'!$F$9)>0),AND(#REF!='предметы'!$F$10,COUNTIFS(#REF!,'предметы'!$F$20)>0),AND(#REF!='предметы'!$F$20,COUNTIFS(#REF!,'предметы'!$F$10)>0),AND(#REF!='предметы'!$F$11,COUNTIFS(#REF!,'предметы'!$F$21)>0),AND(#REF!='предметы'!$F$21,COUNTIFS(#REF!,'предметы'!$F$11)>0),AND(#REF!='предметы'!$F$12,COUNTIFS(#REF!,'предметы'!$F$22)>0),AND(#REF!='предметы'!$F$22,COUNTIFS(#REF!,'предметы'!$F$12)>0)),"<17 (ВПР, КР)","*") -> #REF! | AI7: =IF(OR(COUNTIFS(#REF!,#REF!)>1,AND(#REF!='предметы'!$F$3,COUNTIFS(#REF!,'предметы'!$F$13)>0),AND(#REF!='предметы'!$F$13,COUNTIFS(#REF!,'предметы'!$F$3)>0),AND(#REF!='предметы'!$F$4,COUNTIFS(#REF!,'предметы'!$F$14)>0),AND(#REF!='предметы'!$F$14,COUNTIFS(#REF!,'предметы'!$F$4)>0),AND(#REF!='предметы'!$F$5,COUNTIFS(#REF!,'предметы'!$F$15)>0),AND(#REF!='предметы'!$F$15,COUNTIFS(#REF!,'предметы'!$F$5)>0),AND(#REF!='предметы'!$F$6,COUNTIFS(#REF!,'предметы'!$F$16)>0),AND(#REF!='предметы'!$F$16,COUNTIFS(#REF!,'предметы'!$F$6)>0),AND(#REF!='предметы'!$F$7,COUNTIFS(#REF!,'предметы'!$F$17)>0),AND(#REF!='предметы'!$F$17,COUNTIFS(#REF!,'предметы'!$F$7)>0),AND(#REF!='предметы'!$F$8,COUNTIFS(#REF!,'предметы'!$F$18)>0),AND(#REF!='предметы'!$F$18,COUNTIFS(#REF!,'предметы'!$F$8)>0),AND(#REF!='предметы'!$F$9,COUNTIFS(#REF!,'предметы'!$F$19)>0),AND(#REF!='предметы'!$F$19,COUNTIFS(#REF!,'предметы'!$F$9)>0),AND(#REF!='предметы'!$F$10,COUNTIFS(#REF!,'предметы'!$F$20)>0),AND(#REF!='предметы'!$F$20,COUNTIFS(#REF!,'предметы'!$F$10)>0),AND(#REF!='предметы'!$F$11,COUNTIFS(#REF!,'предметы'!$F$21)>0),AND(#REF!='предметы'!$F$21,COUNTIFS(#REF!,'предметы'!$F$11)>0),AND(#REF!='предметы'!$F$12,COUNTIFS(#REF!,'предметы'!$F$22)>0),AND(#REF!='предметы'!$F$22,COUNTIFS(#REF!,'предметы'!$F$12)>0)),"<17 (ВПР, КР)","*") -> #REF! | AJ7: =IF(OR(COUNTIFS(#REF!,#REF!)>1,AND(#REF!='предметы'!$F$3,COUNTIFS(#REF!,'предметы'!$F$13)>0),AND(#REF!='предметы'!$F$13,COUNTIFS(#REF!,'предметы'!$F$3)>0),AND(#REF!='предметы'!$F$4,COUNTIFS(#REF!,'предметы'!$F$14)>0),AND(#REF!='предметы'!$F$14,COUNTIFS(#REF!,'предметы'!$F$4)>0),AND(#REF!='предметы'!$F$5,COUNTIFS(#REF!,'предметы'!$F$15)>0),AND(#REF!='предметы'!$F$15,COUNTIFS(#REF!,'предметы'!$F$5)>0),AND(#REF!='предметы'!$F$6,COUNTIFS(#REF!,'предметы'!$F$16)>0),AND(#REF!='предметы'!$F$16,COUNTIFS(#REF!,'предметы'!$F$6)>0),AND(#REF!='предметы'!$F$7,COUNTIFS(#REF!,'предметы'!$F$17)>0),AND(#REF!='предметы'!$F$17,COUNTIFS(#REF!,'предметы'!$F$7)>0),AND(#REF!='предметы'!$F$8,COUNTIFS(#REF!,'предметы'!$F$18)>0),AND(#REF!='предметы'!$F$18,COUNTIFS(#REF!,'предметы'!$F$8)>0),AND(#REF!='предметы'!$F$9,COUNTIFS(#REF!,'предметы'!$F$19)>0),AND(#REF!='предметы'!$F$19,COUNTIFS(#REF!,'предметы'!$F$9)>0),AND(#REF!='предметы'!$F$10,COUNTIFS(#REF!,'предметы'!$F$20)>0),AND(#REF!='предметы'!$F$20,COUNTIFS(#REF!,'предметы'!$F$10)>0),AND(#REF!='предметы'!$F$11,COUNTIFS(#REF!,'предметы'!$F$21)>0),AND(#REF!='предметы'!$F$21,COUNTIFS(#REF!,'предметы'!$F$11)>0),AND(#REF!='предметы'!$F$12,COUNTIFS(#REF!,'предметы'!$F$22)>0),AND(#REF!='предметы'!$F$22,COUNTIFS(#REF!,'предметы'!$F$12)>0)),"<17 (ВПР, КР)","*") -> #REF! | AK7: =IF(OR(COUNTIFS(#REF!,#REF!)>1,AND(#REF!='предметы'!$F$3,COUNTIFS(#REF!,'предметы'!$F$13)>0),AND(#REF!='предметы'!$F$13,COUNTIFS(#REF!,'предметы'!$F$3)>0),AND(#REF!='предметы'!$F$4,COUNTIFS(#REF!,'предметы'!$F$14)>0),AND(#REF!='предметы'!$F$14,COUNTIFS(#REF!,'предметы'!$F$4)>0),AND(#REF!='предметы'!$F$5,COUNTIFS(#REF!,'предметы'!$F$15)>0),AND(#REF!='предметы'!$F$15,COUNTIFS(#REF!,'предметы'!$F$5)>0),AND(#REF!='предметы'!$F$6,COUNTIFS(#REF!,'предметы'!$F$16)>0),AND(#REF!='предметы'!$F$16,COUNTIFS(#REF!,'предметы'!$F$6)>0),AND(#REF!='предметы'!$F$7,COUNTIFS(#REF!,'предметы'!$F$17)>0),AND(#REF!='предметы'!$F$17,COUNTIFS(#REF!,'предметы'!$F$7)>0),AND(#REF!='предметы'!$F$8,COUNTIFS(#REF!,'предметы'!$F$18)>0),AND(#REF!='предметы'!$F$18,COUNTIFS(#REF!,'предметы'!$F$8)>0),AND(#REF!='предметы'!$F$9,COUNTIFS(#REF!,'предметы'!$F$19)>0),AND(#REF!='предметы'!$F$19,COUNTIFS(#REF!,'предметы'!$F$9)>0),AND(#REF!='предметы'!$F$10,COUNTIFS(#REF!,'предметы'!$F$20)>0),AND(#REF!='предметы'!$F$20,COUNTIFS(#REF!,'предметы'!$F$10)>0),AND(#REF!='предметы'!$F$11,COUNTIFS(#REF!,'предметы'!$F$21)>0),AND(#REF!='предметы'!$F$21,COUNTIFS(#REF!,'предметы'!$F$11)>0),AND(#REF!='предметы'!$F$12,COUNTIFS(#REF!,'предметы'!$F$22)>0),AND(#REF!='предметы'!$F$22,COUNTIFS(#REF!,'предметы'!$F$12)>0)),"<17 (ВПР, КР)","*") -> #REF! | AL7: =IF(OR(COUNTIFS(#REF!,#REF!)>1,AND(#REF!='предметы'!$F$3,COUNTIFS(#REF!,'предметы'!$F$13)>0),AND(#REF!='предметы'!$F$13,COUNTIFS(#REF!,'предметы'!$F$3)>0),AND(#REF!='предметы'!$F$4,COUNTIFS(#REF!,'предметы'!$F$14)>0),AND(#REF!='предметы'!$F$14,COUNTIFS(#REF!,'предметы'!$F$4)>0),AND(#REF!='предметы'!$F$5,COUNTIFS(#REF!,'предметы'!$F$15)>0),AND(#REF!='предметы'!$F$15,COUNTIFS(#REF!,'предметы'!$F$5)>0),AND(#REF!='предметы'!$F$6,COUNTIFS(#REF!,'предметы'!$F$16)>0),AND(#REF!='предметы'!$F$16,COUNTIFS(#REF!,'предметы'!$F$6)>0),AND(#REF!='предметы'!$F$7,COUNTIFS(#REF!,'предметы'!$F$17)>0),AND(#REF!='предметы'!$F$17,COUNTIFS(#REF!,'предметы'!$F$7)>0),AND(#REF!='предметы'!$F$8,COUNTIFS(#REF!,'предметы'!$F$18)>0),AND(#REF!='предметы'!$F$18,COUNTIFS(#REF!,'предметы'!$F$8)>0),AND(#REF!='предметы'!$F$9,COUNTIFS(#REF!,'предметы'!$F$19)>0),AND(#REF!='предметы'!$F$19,COUNTIFS(#REF!,'предметы'!$F$9)>0),AND(#REF!='предметы'!$F$10,COUNTIFS(#REF!,'предметы'!$F$20)>0),AND(#REF!='предметы'!$F$20,COUNTIFS(#REF!,'предметы'!$F$10)>0),AND(#REF!='предметы'!$F$11,COUNTIFS(#REF!,'предметы'!$F$21)>0),AND(#REF!='предметы'!$F$21,COUNTIFS(#REF!,'предметы'!$F$11)>0),AND(#REF!='предметы'!$F$12,COUNTIFS(#REF!,'предметы'!$F$22)>0),AND(#REF!='предметы'!$F$22,COUNTIFS(#REF!,'предметы'!$F$12)>0)),"<17 (ВПР, КР)","*") -> #REF! | AM7: =IF(OR(COUNTIFS(#REF!,#REF!)>1,AND(#REF!='предметы'!$G$3,COUNTIFS(#REF!,'предметы'!$G$15)>0),AND(#REF!='предметы'!$G$15,COUNTIFS(#REF!,'предметы'!$G$3)>0),AND(#REF!='предметы'!$G$4,COUNTIFS(#REF!,'предметы'!$G$18)>0),AND(#REF!='предметы'!$G$18,COUNTIFS(#REF!,'предметы'!$G$4)>0),AND(#REF!='предметы'!$G$5,COUNTIFS(#REF!,'предметы'!$G$19)>0),AND(#REF!='предметы'!$G$19,COUNTIFS(#REF!,'предметы'!$G$5)>0),AND(#REF!='предметы'!$G$6,COUNTIFS(#REF!,'предметы'!$G$20)>0),AND(#REF!='предметы'!$G$20,COUNTIFS(#REF!,'предметы'!$G$6)>0),AND(#REF!='предметы'!$G$7,COUNTIFS(#REF!,'предметы'!$G$21)>0),AND(#REF!='предметы'!$G$21,COUNTIFS(#REF!,'предметы'!$G$7)>0),AND(#REF!='предметы'!$G$8,COUNTIFS(#REF!,'предметы'!$G$22)>0),AND(#REF!='предметы'!$G$22,COUNTIFS(#REF!,'предметы'!$G$8)>0),AND(#REF!='предметы'!$G$9,COUNTIFS(#REF!,'предметы'!$G$23)>0),AND(#REF!='предметы'!$G$23,COUNTIFS(#REF!,'предметы'!$G$9)>0),AND(#REF!='предметы'!$G$10,COUNTIFS(#REF!,'предметы'!$G$24)>0),AND(#REF!='предметы'!$G$24,COUNTIFS(#REF!,'предметы'!$G$10)>0),AND(#REF!='предметы'!$G$11,COUNTIFS(#REF!,'предметы'!$G$25)>0),AND(#REF!='предметы'!$G$25,COUNTIFS(#REF!,'предметы'!$G$11)>0),AND(#REF!='предметы'!$G$12,COUNTIFS(#REF!,'предметы'!$G$26)>0),AND(#REF!='предметы'!$G$26,COUNTIFS(#REF!,'предметы'!$G$12)>0),AND(#REF!='предметы'!$G$13,COUNTIFS(#REF!,'предметы'!$G$27)>0),AND(#REF!='предметы'!$G$27,COUNTIFS(#REF!,'предметы'!$G$13)>0),AND(#REF!='предметы'!$G$14,COUNTIFS(#REF!,'предметы'!$G$28)>0),AND(#REF!='предметы'!$G$28,COUNTIFS(#REF!,'предметы'!$G$14)>0)),"<17 (ВПР, КР)","*") -> #REF! | AN7: =IF(OR(COUNTIFS(#REF!,#REF!)>1,AND(#REF!='предметы'!$G$3,COUNTIFS(#REF!,'предметы'!$G$15)>0),AND(#REF!='предметы'!$G$15,COUNTIFS(#REF!,'предметы'!$G$3)>0),AND(#REF!='предметы'!$G$4,COUNTIFS(#REF!,'предметы'!$G$18)>0),AND(#REF!='предметы'!$G$18,COUNTIFS(#REF!,'предметы'!$G$4)>0),AND(#REF!='предметы'!$G$5,COUNTIFS(#REF!,'предметы'!$G$19)>0),AND(#REF!='предметы'!$G$19,COUNTIFS(#REF!,'предметы'!$G$5)>0),AND(#REF!='предметы'!$G$6,COUNTIFS(#REF!,'предметы'!$G$20)>0),AND(#REF!='предметы'!$G$20,COUNTIFS(#REF!,'предметы'!$G$6)>0),AND(#REF!='предметы'!$G$7,COUNTIFS(#REF!,'предметы'!$G$21)>0),AND(#REF!='предметы'!$G$21,COUNTIFS(#REF!,'предметы'!$G$7)>0),AND(#REF!='предметы'!$G$8,COUNTIFS(#REF!,'предметы'!$G$22)>0),AND(#REF!='предметы'!$G$22,COUNTIFS(#REF!,'предметы'!$G$8)>0),AND(#REF!='предметы'!$G$9,COUNTIFS(#REF!,'предметы'!$G$23)>0),AND(#REF!='предметы'!$G$23,COUNTIFS(#REF!,'предметы'!$G$9)>0),AND(#REF!='предметы'!$G$10,COUNTIFS(#REF!,'предметы'!$G$24)>0),AND(#REF!='предметы'!$G$24,COUNTIFS(#REF!,'предметы'!$G$10)>0),AND(#REF!='предметы'!$G$11,COUNTIFS(#REF!,'предметы'!$G$25)>0),AND(#REF!='предметы'!$G$25,COUNTIFS(#REF!,'предметы'!$G$11)>0),AND(#REF!='предметы'!$G$12,COUNTIFS(#REF!,'предметы'!$G$26)>0),AND(#REF!='предметы'!$G$26,COUNTIFS(#REF!,'предметы'!$G$12)>0),AND(#REF!='предметы'!$G$13,COUNTIFS(#REF!,'предметы'!$G$27)>0),AND(#REF!='предметы'!$G$27,COUNTIFS(#REF!,'предметы'!$G$13)>0),AND(#REF!='предметы'!$G$14,COUNTIFS(#REF!,'предметы'!$G$28)>0),AND(#REF!='предметы'!$G$28,COUNTIFS(#REF!,'предметы'!$G$14)>0)),"<17 (ВПР, КР)","*") -> #REF! | AO7: =IF(OR(COUNTIFS(#REF!,#REF!)>1,AND(#REF!='предметы'!$G$3,COUNTIFS(#REF!,'предметы'!$G$15)>0),AND(#REF!='предметы'!$G$15,COUNTIFS(#REF!,'предметы'!$G$3)>0),AND(#REF!='предметы'!$G$4,COUNTIFS(#REF!,'предметы'!$G$18)>0),AND(#REF!='предметы'!$G$18,COUNTIFS(#REF!,'предметы'!$G$4)>0),AND(#REF!='предметы'!$G$5,COUNTIFS(#REF!,'предметы'!$G$19)>0),AND(#REF!='предметы'!$G$19,COUNTIFS(#REF!,'предметы'!$G$5)>0),AND(#REF!='предметы'!$G$6,COUNTIFS(#REF!,'предметы'!$G$20)>0),AND(#REF!='предметы'!$G$20,COUNTIFS(#REF!,'предметы'!$G$6)>0),AND(#REF!='предметы'!$G$7,COUNTIFS(#REF!,'предметы'!$G$21)>0),AND(#REF!='предметы'!$G$21,COUNTIFS(#REF!,'предметы'!$G$7)>0),AND(#REF!='предметы'!$G$8,COUNTIFS(#REF!,'предметы'!$G$22)>0),AND(#REF!='предметы'!$G$22,COUNTIFS(#REF!,'предметы'!$G$8)>0),AND(#REF!='предметы'!$G$9,COUNTIFS(#REF!,'предметы'!$G$23)>0),AND(#REF!='предметы'!$G$23,COUNTIFS(#REF!,'предметы'!$G$9)>0),AND(#REF!='предметы'!$G$10,COUNTIFS(#REF!,'предметы'!$G$24)>0),AND(#REF!='предметы'!$G$24,COUNTIFS(#REF!,'предметы'!$G$10)>0),AND(#REF!='предметы'!$G$11,COUNTIFS(#REF!,'предметы'!$G$25)>0),AND(#REF!='предметы'!$G$25,COUNTIFS(#REF!,'предметы'!$G$11)>0),AND(#REF!='предметы'!$G$12,COUNTIFS(#REF!,'предметы'!$G$26)>0),AND(#REF!='предметы'!$G$26,COUNTIFS(#REF!,'предметы'!$G$12)>0),AND(#REF!='предметы'!$G$13,COUNTIFS(#REF!,'предметы'!$G$27)>0),AND(#REF!='предметы'!$G$27,COUNTIFS(#REF!,'предметы'!$G$13)>0),AND(#REF!='предметы'!$G$14,COUNTIFS(#REF!,'предметы'!$G$28)>0),AND(#REF!='предметы'!$G$28,COUNTIFS(#REF!,'предметы'!$G$14)>0)),"<17 (ВПР, КР)","*") -> #REF! | AP7: =IF(OR(COUNTIFS(#REF!,#REF!)>1,AND(#REF!='предметы'!$G$3,COUNTIFS(#REF!,'предметы'!$G$15)>0),AND(#REF!='предметы'!$G$15,COUNTIFS(#REF!,'предметы'!$G$3)>0),AND(#REF!='предметы'!$G$4,COUNTIFS(#REF!,'предметы'!$G$18)>0),AND(#REF!='предметы'!$G$18,COUNTIFS(#REF!,'предметы'!$G$4)>0),AND(#REF!='предметы'!$G$5,COUNTIFS(#REF!,'предметы'!$G$19)>0),AND(#REF!='предметы'!$G$19,COUNTIFS(#REF!,'предметы'!$G$5)>0),AND(#REF!='предметы'!$G$6,COUNTIFS(#REF!,'предметы'!$G$20)>0),AND(#REF!='предметы'!$G$20,COUNTIFS(#REF!,'предметы'!$G$6)>0),AND(#REF!='предметы'!$G$7,COUNTIFS(#REF!,'предметы'!$G$21)>0),AND(#REF!='предметы'!$G$21,COUNTIFS(#REF!,'предметы'!$G$7)>0),AND(#REF!='предметы'!$G$8,COUNTIFS(#REF!,'предметы'!$G$22)>0),AND(#REF!='предметы'!$G$22,COUNTIFS(#REF!,'предметы'!$G$8)>0),AND(#REF!='предметы'!$G$9,COUNTIFS(#REF!,'предметы'!$G$23)>0),AND(#REF!='предметы'!$G$23,COUNTIFS(#REF!,'предметы'!$G$9)>0),AND(#REF!='предметы'!$G$10,COUNTIFS(#REF!,'предметы'!$G$24)>0),AND(#REF!='предметы'!$G$24,COUNTIFS(#REF!,'предметы'!$G$10)>0),AND(#REF!='предметы'!$G$11,COUNTIFS(#REF!,'предметы'!$G$25)>0),AND(#REF!='предметы'!$G$25,COUNTIFS(#REF!,'предметы'!$G$11)>0),AND(#REF!='предметы'!$G$12,COUNTIFS(#REF!,'предметы'!$G$26)>0),AND(#REF!='предметы'!$G$26,COUNTIFS(#REF!,'предметы'!$G$12)>0),AND(#REF!='предметы'!$G$13,COUNTIFS(#REF!,'предметы'!$G$27)>0),AND(#REF!='предметы'!$G$27,COUNTIFS(#REF!,'предметы'!$G$13)>0),AND(#REF!='предметы'!$G$14,COUNTIFS(#REF!,'предметы'!$G$28)>0),AND(#REF!='предметы'!$G$28,COUNTIFS(#REF!,'предметы'!$G$14)>0)),"<17 (ВПР, КР)","*") -> #REF! | AQ7: =IF(OR(COUNTIFS(#REF!,#REF!)>1,AND(#REF!='предметы'!$G$3,COUNTIFS(#REF!,'предметы'!$G$15)>0),AND(#REF!='предметы'!$G$15,COUNTIFS(#REF!,'предметы'!$G$3)>0),AND(#REF!='предметы'!$G$4,COUNTIFS(#REF!,'предметы'!$G$18)>0),AND(#REF!='предметы'!$G$18,COUNTIFS(#REF!,'предметы'!$G$4)>0),AND(#REF!='предметы'!$G$5,COUNTIFS(#REF!,'предметы'!$G$19)>0),AND(#REF!='предметы'!$G$19,COUNTIFS(#REF!,'предметы'!$G$5)>0),AND(#REF!='предметы'!$G$6,COUNTIFS(#REF!,'предметы'!$G$20)>0),AND(#REF!='предметы'!$G$20,COUNTIFS(#REF!,'предметы'!$G$6)>0),AND(#REF!='предметы'!$G$7,COUNTIFS(#REF!,'предметы'!$G$21)>0),AND(#REF!='предметы'!$G$21,COUNTIFS(#REF!,'предметы'!$G$7)>0),AND(#REF!='предметы'!$G$8,COUNTIFS(#REF!,'предметы'!$G$22)>0),AND(#REF!='предметы'!$G$22,COUNTIFS(#REF!,'предметы'!$G$8)>0),AND(#REF!='предметы'!$G$9,COUNTIFS(#REF!,'предметы'!$G$23)>0),AND(#REF!='предметы'!$G$23,COUNTIFS(#REF!,'предметы'!$G$9)>0),AND(#REF!='предметы'!$G$10,COUNTIFS(#REF!,'предметы'!$G$24)>0),AND(#REF!='предметы'!$G$24,COUNTIFS(#REF!,'предметы'!$G$10)>0),AND(#REF!='предметы'!$G$11,COUNTIFS(#REF!,'предметы'!$G$25)>0),AND(#REF!='предметы'!$G$25,COUNTIFS(#REF!,'предметы'!$G$11)>0),AND(#REF!='предметы'!$G$12,COUNTIFS(#REF!,'предметы'!$G$26)>0),AND(#REF!='предметы'!$G$26,COUNTIFS(#REF!,'предметы'!$G$12)>0),AND(#REF!='предметы'!$G$13,COUNTIFS(#REF!,'предметы'!$G$27)>0),AND(#REF!='предметы'!$G$27,COUNTIFS(#REF!,'предметы'!$G$13)>0),AND(#REF!='предметы'!$G$14,COUNTIFS(#REF!,'предметы'!$G$28)>0),AND(#REF!='предметы'!$G$28,COUNTIFS(#REF!,'предметы'!$G$14)>0)),"<17 (ВПР, КР)","*") -> #REF! | AR7: =IF(OR(COUNTIFS(#REF!,#REF!)>1,AND(#REF!='предметы'!$G$3,COUNTIFS(#REF!,'предметы'!$G$15)>0),AND(#REF!='предметы'!$G$15,COUNTIFS(#REF!,'предметы'!$G$3)>0),AND(#REF!='предметы'!$G$4,COUNTIFS(#REF!,'предметы'!$G$18)>0),AND(#REF!='предметы'!$G$18,COUNTIFS(#REF!,'предметы'!$G$4)>0),AND(#REF!='предметы'!$G$5,COUNTIFS(#REF!,'предметы'!$G$19)>0),AND(#REF!='предметы'!$G$19,COUNTIFS(#REF!,'предметы'!$G$5)>0),AND(#REF!='предметы'!$G$6,COUNTIFS(#REF!,'предметы'!$G$20)>0),AND(#REF!='предметы'!$G$20,COUNTIFS(#REF!,'предметы'!$G$6)>0),AND(#REF!='предметы'!$G$7,COUNTIFS(#REF!,'предметы'!$G$21)>0),AND(#REF!='предметы'!$G$21,COUNTIFS(#REF!,'предметы'!$G$7)>0),AND(#REF!='предметы'!$G$8,COUNTIFS(#REF!,'предметы'!$G$22)>0),AND(#REF!='предметы'!$G$22,COUNTIFS(#REF!,'предметы'!$G$8)>0),AND(#REF!='предметы'!$G$9,COUNTIFS(#REF!,'предметы'!$G$23)>0),AND(#REF!='предметы'!$G$23,COUNTIFS(#REF!,'предметы'!$G$9)>0),AND(#REF!='предметы'!$G$10,COUNTIFS(#REF!,'предметы'!$G$24)>0),AND(#REF!='предметы'!$G$24,COUNTIFS(#REF!,'предметы'!$G$10)>0),AND(#REF!='предметы'!$G$11,COUNTIFS(#REF!,'предметы'!$G$25)>0),AND(#REF!='предметы'!$G$25,COUNTIFS(#REF!,'предметы'!$G$11)>0),AND(#REF!='предметы'!$G$12,COUNTIFS(#REF!,'предметы'!$G$26)>0),AND(#REF!='предметы'!$G$26,COUNTIFS(#REF!,'предметы'!$G$12)>0),AND(#REF!='предметы'!$G$13,COUNTIFS(#REF!,'предметы'!$G$27)>0),AND(#REF!='предметы'!$G$27,COUNTIFS(#REF!,'предметы'!$G$13)>0),AND(#REF!='предметы'!$G$14,COUNTIFS(#REF!,'предметы'!$G$28)>0),AND(#REF!='предметы'!$G$28,COUNTIFS(#REF!,'предметы'!$G$14)>0)),"<17 (ВПР, КР)","*") -> #REF! | AS7: =IF(OR(COUNTIFS(#REF!,#REF!)>1,AND(#REF!='предметы'!$H$3,COUNTIFS(#REF!,'предметы'!$H$16)>0),AND(#REF!='предметы'!$H$16,COUNTIFS(#REF!,'предметы'!$H$3)>0),AND(#REF!='предметы'!$H$4,COUNTIFS(#REF!,'предметы'!$H$19)>0),AND(#REF!='предметы'!$H$19,COUNTIFS(#REF!,'предметы'!$H$4)>0),AND(#REF!='предметы'!$H$5,COUNTIFS(#REF!,'предметы'!$H$20)>0),AND(#REF!='предметы'!$H$20,COUNTIFS(#REF!,'предметы'!$H$5)>0),AND(#REF!='предметы'!$H$6,COUNTIFS(#REF!,'предметы'!$H$21)>0),AND(#REF!='предметы'!$H$21,COUNTIFS(#REF!,'предметы'!$H$6)>0),AND(#REF!='предметы'!$H$7,COUNTIFS(#REF!,'предметы'!$H$22)>0),AND(#REF!='предметы'!$H$22,COUNTIFS(#REF!,'предметы'!$H$7)>0),AND(#REF!='предметы'!$H$8,COUNTIFS(#REF!,'предметы'!$H$23)>0),AND(#REF!='предметы'!$H$23,COUNTIFS(#REF!,'предметы'!$H$8)>0),AND(#REF!='предметы'!$H$9,COUNTIFS(#REF!,'предметы'!$H$24)>0),AND(#REF!='предметы'!$H$24,COUNTIFS(#REF!,'предметы'!$H$9)>0),AND(#REF!='предметы'!$H$10,COUNTIFS(#REF!,'предметы'!$H$25)>0),AND(#REF!='предметы'!$H$25,COUNTIFS(#REF!,'предметы'!$H$10)>0),AND(#REF!='предметы'!$H$11,COUNTIFS(#REF!,'предметы'!$H$26)>0),AND(#REF!='предметы'!$H$26,COUNTIFS(#REF!,'предметы'!$H$11)>0),AND(#REF!='предметы'!$H$12,COUNTIFS(#REF!,'предметы'!$H$27)>0),AND(#REF!='предметы'!$H$27,COUNTIFS(#REF!,'предметы'!$H$12)>0),AND(#REF!='предметы'!$H$13,COUNTIFS(#REF!,'предметы'!$H$28)>0),AND(#REF!='предметы'!$H$28,COUNTIFS(#REF!,'предметы'!$H$13)>0),AND(#REF!='предметы'!$H$14,COUNTIFS(#REF!,'предметы'!$H$29)>0),AND(#REF!='предметы'!$H$29,COUNTIFS(#REF!,'предметы'!$H$14)>0),AND(#REF!='предметы'!$H$15,COUNTIFS(#REF!,'предметы'!$H$30)>0),AND(#REF!='предметы'!$H$30,COUNTIFS(#REF!,'предметы'!$H$15)>0)),"<17 (ВПР, КР)","*") -> #REF! | AT7: =IF(OR(COUNTIFS(#REF!,#REF!)>1,AND(#REF!='предметы'!$H$3,COUNTIFS(#REF!,'предметы'!$H$16)>0),AND(#REF!='предметы'!$H$16,COUNTIFS(#REF!,'предметы'!$H$3)>0),AND(#REF!='предметы'!$H$4,COUNTIFS(#REF!,'предметы'!$H$19)>0),AND(#REF!='предметы'!$H$19,COUNTIFS(#REF!,'предметы'!$H$4)>0),AND(#REF!='предметы'!$H$5,COUNTIFS(#REF!,'предметы'!$H$20)>0),AND(#REF!='предметы'!$H$20,COUNTIFS(#REF!,'предметы'!$H$5)>0),AND(#REF!='предметы'!$H$6,COUNTIFS(#REF!,'предметы'!$H$21)>0),AND(#REF!='предметы'!$H$21,COUNTIFS(#REF!,'предметы'!$H$6)>0),AND(#REF!='предметы'!$H$7,COUNTIFS(#REF!,'предметы'!$H$22)>0),AND(#REF!='предметы'!$H$22,COUNTIFS(#REF!,'предметы'!$H$7)>0),AND(#REF!='предметы'!$H$8,COUNTIFS(#REF!,'предметы'!$H$23)>0),AND(#REF!='предметы'!$H$23,COUNTIFS(#REF!,'предметы'!$H$8)>0),AND(#REF!='предметы'!$H$9,COUNTIFS(#REF!,'предметы'!$H$24)>0),AND(#REF!='предметы'!$H$24,COUNTIFS(#REF!,'предметы'!$H$9)>0),AND(#REF!='предметы'!$H$10,COUNTIFS(#REF!,'предметы'!$H$25)>0),AND(#REF!='предметы'!$H$25,COUNTIFS(#REF!,'предметы'!$H$10)>0),AND(#REF!='предметы'!$H$11,COUNTIFS(#REF!,'предметы'!$H$26)>0),AND(#REF!='предметы'!$H$26,COUNTIFS(#REF!,'предметы'!$H$11)>0),AND(#REF!='предметы'!$H$12,COUNTIFS(#REF!,'предметы'!$H$27)>0),AND(#REF!='предметы'!$H$27,COUNTIFS(#REF!,'предметы'!$H$12)>0),AND(#REF!='предметы'!$H$13,COUNTIFS(#REF!,'предметы'!$H$28)>0),AND(#REF!='предметы'!$H$28,COUNTIFS(#REF!,'предметы'!$H$13)>0),AND(#REF!='предметы'!$H$14,COUNTIFS(#REF!,'предметы'!$H$29)>0),AND(#REF!='предметы'!$H$29,COUNTIFS(#REF!,'предметы'!$H$14)>0),AND(#REF!='предметы'!$H$15,COUNTIFS(#REF!,'предметы'!$H$30)>0),AND(#REF!='предметы'!$H$30,COUNTIFS(#REF!,'предметы'!$H$15)>0)),"<17 (ВПР, КР)","*") -> #REF! | AU7: =IF(OR(COUNTIFS(#REF!,#REF!)>1,AND(#REF!='предметы'!$H$3,COUNTIFS(#REF!,'предметы'!$H$16)>0),AND(#REF!='предметы'!$H$16,COUNTIFS(#REF!,'предметы'!$H$3)>0),AND(#REF!='предметы'!$H$4,COUNTIFS(#REF!,'предметы'!$H$19)>0),AND(#REF!='предметы'!$H$19,COUNTIFS(#REF!,'предметы'!$H$4)>0),AND(#REF!='предметы'!$H$5,COUNTIFS(#REF!,'предметы'!$H$20)>0),AND(#REF!='предметы'!$H$20,COUNTIFS(#REF!,'предметы'!$H$5)>0),AND(#REF!='предметы'!$H$6,COUNTIFS(#REF!,'предметы'!$H$21)>0),AND(#REF!='предметы'!$H$21,COUNTIFS(#REF!,'предметы'!$H$6)>0),AND(#REF!='предметы'!$H$7,COUNTIFS(#REF!,'предметы'!$H$22)>0),AND(#REF!='предметы'!$H$22,COUNTIFS(#REF!,'предметы'!$H$7)>0),AND(#REF!='предметы'!$H$8,COUNTIFS(#REF!,'предметы'!$H$23)>0),AND(#REF!='предметы'!$H$23,COUNTIFS(#REF!,'предметы'!$H$8)>0),AND(#REF!='предметы'!$H$9,COUNTIFS(#REF!,'предметы'!$H$24)>0),AND(#REF!='предметы'!$H$24,COUNTIFS(#REF!,'предметы'!$H$9)>0),AND(#REF!='предметы'!$H$10,COUNTIFS(#REF!,'предметы'!$H$25)>0),AND(#REF!='предметы'!$H$25,COUNTIFS(#REF!,'предметы'!$H$10)>0),AND(#REF!='предметы'!$H$11,COUNTIFS(#REF!,'предметы'!$H$26)>0),AND(#REF!='предметы'!$H$26,COUNTIFS(#REF!,'предметы'!$H$11)>0),AND(#REF!='предметы'!$H$12,COUNTIFS(#REF!,'предметы'!$H$27)>0),AND(#REF!='предметы'!$H$27,COUNTIFS(#REF!,'предметы'!$H$12)>0),AND(#REF!='предметы'!$H$13,COUNTIFS(#REF!,'предметы'!$H$28)>0),AND(#REF!='предметы'!$H$28,COUNTIFS(#REF!,'предметы'!$H$13)>0),AND(#REF!='предметы'!$H$14,COUNTIFS(#REF!,'предметы'!$H$29)>0),AND(#REF!='предметы'!$H$29,COUNTIFS(#REF!,'предметы'!$H$14)>0),AND(#REF!='предметы'!$H$15,COUNTIFS(#REF!,'предметы'!$H$30)>0),AND(#REF!='предметы'!$H$30,COUNTIFS(#REF!,'предметы'!$H$15)>0)),"<17 (ВПР, КР)","*") -> #REF! | AV7: =IF(OR(COUNTIFS(#REF!,#REF!)>1,AND(#REF!='предметы'!$H$3,COUNTIFS(#REF!,'предметы'!$H$16)>0),AND(#REF!='предметы'!$H$16,COUNTIFS(#REF!,'предметы'!$H$3)>0),AND(#REF!='предметы'!$H$4,COUNTIFS(#REF!,'предметы'!$H$19)>0),AND(#REF!='предметы'!$H$19,COUNTIFS(#REF!,'предметы'!$H$4)>0),AND(#REF!='предметы'!$H$5,COUNTIFS(#REF!,'предметы'!$H$20)>0),AND(#REF!='предметы'!$H$20,COUNTIFS(#REF!,'предметы'!$H$5)>0),AND(#REF!='предметы'!$H$6,COUNTIFS(#REF!,'предметы'!$H$21)>0),AND(#REF!='предметы'!$H$21,COUNTIFS(#REF!,'предметы'!$H$6)>0),AND(#REF!='предметы'!$H$7,COUNTIFS(#REF!,'предметы'!$H$22)>0),AND(#REF!='предметы'!$H$22,COUNTIFS(#REF!,'предметы'!$H$7)>0),AND(#REF!='предметы'!$H$8,COUNTIFS(#REF!,'предметы'!$H$23)>0),AND(#REF!='предметы'!$H$23,COUNTIFS(#REF!,'предметы'!$H$8)>0),AND(#REF!='предметы'!$H$9,COUNTIFS(#REF!,'предметы'!$H$24)>0),AND(#REF!='предметы'!$H$24,COUNTIFS(#REF!,'предметы'!$H$9)>0),AND(#REF!='предметы'!$H$10,COUNTIFS(#REF!,'предметы'!$H$25)>0),AND(#REF!='предметы'!$H$25,COUNTIFS(#REF!,'предметы'!$H$10)>0),AND(#REF!='предметы'!$H$11,COUNTIFS(#REF!,'предметы'!$H$26)>0),AND(#REF!='предметы'!$H$26,COUNTIFS(#REF!,'предметы'!$H$11)>0),AND(#REF!='предметы'!$H$12,COUNTIFS(#REF!,'предметы'!$H$27)>0),AND(#REF!='предметы'!$H$27,COUNTIFS(#REF!,'предметы'!$H$12)>0),AND(#REF!='предметы'!$H$13,COUNTIFS(#REF!,'предметы'!$H$28)>0),AND(#REF!='предметы'!$H$28,COUNTIFS(#REF!,'предметы'!$H$13)>0),AND(#REF!='предметы'!$H$14,COUNTIFS(#REF!,'предметы'!$H$29)>0),AND(#REF!='предметы'!$H$29,COUNTIFS(#REF!,'предметы'!$H$14)>0),AND(#REF!='предметы'!$H$15,COUNTIFS(#REF!,'предметы'!$H$30)>0),AND(#REF!='предметы'!$H$30,COUNTIFS(#REF!,'предметы'!$H$15)>0)),"<17 (ВПР, КР)","*") -> #REF! | AW7: =IF(OR(COUNTIFS(#REF!,#REF!)>1,AND(#REF!='предметы'!$H$3,COUNTIFS(#REF!,'предметы'!$H$16)>0),AND(#REF!='предметы'!$H$16,COUNTIFS(#REF!,'предметы'!$H$3)>0),AND(#REF!='предметы'!$H$4,COUNTIFS(#REF!,'предметы'!$H$19)>0),AND(#REF!='предметы'!$H$19,COUNTIFS(#REF!,'предметы'!$H$4)>0),AND(#REF!='предметы'!$H$5,COUNTIFS(#REF!,'предметы'!$H$20)>0),AND(#REF!='предметы'!$H$20,COUNTIFS(#REF!,'предметы'!$H$5)>0),AND(#REF!='предметы'!$H$6,COUNTIFS(#REF!,'предметы'!$H$21)>0),AND(#REF!='предметы'!$H$21,COUNTIFS(#REF!,'предметы'!$H$6)>0),AND(#REF!='предметы'!$H$7,COUNTIFS(#REF!,'предметы'!$H$22)>0),AND(#REF!='предметы'!$H$22,COUNTIFS(#REF!,'предметы'!$H$7)>0),AND(#REF!='предметы'!$H$8,COUNTIFS(#REF!,'предметы'!$H$23)>0),AND(#REF!='предметы'!$H$23,COUNTIFS(#REF!,'предметы'!$H$8)>0),AND(#REF!='предметы'!$H$9,COUNTIFS(#REF!,'предметы'!$H$24)>0),AND(#REF!='предметы'!$H$24,COUNTIFS(#REF!,'предметы'!$H$9)>0),AND(#REF!='предметы'!$H$10,COUNTIFS(#REF!,'предметы'!$H$25)>0),AND(#REF!='предметы'!$H$25,COUNTIFS(#REF!,'предметы'!$H$10)>0),AND(#REF!='предметы'!$H$11,COUNTIFS(#REF!,'предметы'!$H$26)>0),AND(#REF!='предметы'!$H$26,COUNTIFS(#REF!,'предметы'!$H$11)>0),AND(#REF!='предметы'!$H$12,COUNTIFS(#REF!,'предметы'!$H$27)>0),AND(#REF!='предметы'!$H$27,COUNTIFS(#REF!,'предметы'!$H$12)>0),AND(#REF!='предметы'!$H$13,COUNTIFS(#REF!,'предметы'!$H$28)>0),AND(#REF!='предметы'!$H$28,COUNTIFS(#REF!,'предметы'!$H$13)>0),AND(#REF!='предметы'!$H$14,COUNTIFS(#REF!,'предметы'!$H$29)>0),AND(#REF!='предметы'!$H$29,COUNTIFS(#REF!,'предметы'!$H$14)>0),AND(#REF!='предметы'!$H$15,COUNTIFS(#REF!,'предметы'!$H$30)>0),AND(#REF!='предметы'!$H$30,COUNTIFS(#REF!,'предметы'!$H$15)>0)),"<17 (ВПР, КР)","*") -> #REF! | AX7: =IF(OR(COUNTIFS(#REF!,#REF!)>1,AND(#REF!='предметы'!$H$3,COUNTIFS(#REF!,'предметы'!$H$16)>0),AND(#REF!='предметы'!$H$16,COUNTIFS(#REF!,'предметы'!$H$3)>0),AND(#REF!='предметы'!$H$4,COUNTIFS(#REF!,'предметы'!$H$19)>0),AND(#REF!='предметы'!$H$19,COUNTIFS(#REF!,'предметы'!$H$4)>0),AND(#REF!='предметы'!$H$5,COUNTIFS(#REF!,'предметы'!$H$20)>0),AND(#REF!='предметы'!$H$20,COUNTIFS(#REF!,'предметы'!$H$5)>0),AND(#REF!='предметы'!$H$6,COUNTIFS(#REF!,'предметы'!$H$21)>0),AND(#REF!='предметы'!$H$21,COUNTIFS(#REF!,'предметы'!$H$6)>0),AND(#REF!='предметы'!$H$7,COUNTIFS(#REF!,'предметы'!$H$22)>0),AND(#REF!='предметы'!$H$22,COUNTIFS(#REF!,'предметы'!$H$7)>0),AND(#REF!='предметы'!$H$8,COUNTIFS(#REF!,'предметы'!$H$23)>0),AND(#REF!='предметы'!$H$23,COUNTIFS(#REF!,'предметы'!$H$8)>0),AND(#REF!='предметы'!$H$9,COUNTIFS(#REF!,'предметы'!$H$24)>0),AND(#REF!='предметы'!$H$24,COUNTIFS(#REF!,'предметы'!$H$9)>0),AND(#REF!='предметы'!$H$10,COUNTIFS(#REF!,'предметы'!$H$25)>0),AND(#REF!='предметы'!$H$25,COUNTIFS(#REF!,'предметы'!$H$10)>0),AND(#REF!='предметы'!$H$11,COUNTIFS(#REF!,'предметы'!$H$26)>0),AND(#REF!='предметы'!$H$26,COUNTIFS(#REF!,'предметы'!$H$11)>0),AND(#REF!='предметы'!$H$12,COUNTIFS(#REF!,'предметы'!$H$27)>0),AND(#REF!='предметы'!$H$27,COUNTIFS(#REF!,'предметы'!$H$12)>0),AND(#REF!='предметы'!$H$13,COUNTIFS(#REF!,'предметы'!$H$28)>0),AND(#REF!='предметы'!$H$28,COUNTIFS(#REF!,'предметы'!$H$13)>0),AND(#REF!='предметы'!$H$14,COUNTIFS(#REF!,'предметы'!$H$29)>0),AND(#REF!='предметы'!$H$29,COUNTIFS(#REF!,'предметы'!$H$14)>0),AND(#REF!='предметы'!$H$15,COUNTIFS(#REF!,'предметы'!$H$30)>0),AND(#REF!='предметы'!$H$30,COUNTIFS(#REF!,'предметы'!$H$15)>0)),"<17 (ВПР, КР)","*") -> #REF! | AY7: =IF(COUNTIFS(#REF!,#REF!)>1,"<17 (ВПР, КР)","*") -> * | AZ7: =IF(COUNTIFS(#REF!,#REF!)>1,"<17 (ВПР, КР)","*") -> * | BA7: =IF(COUNTIFS(#REF!,#REF!)>1,"<17 (ВПР, КР)","*") -> * | BB7: =IF(COUNTIFS(#REF!,#REF!)>1,"<17 (ВПР, КР)","*") -> * | BC7: =IF(COUNTIFS(#REF!,#REF!)>1,"<17 (ВПР, КР)","*") -> * | BD7: =IF(COUNTIFS(#REF!,#REF!)>1,"<17 (ВПР, КР)","*") -> * | BE7: =IF(OR(COUNTIFS(#REF!,#REF!)>1,AND(#REF!='предметы'!$J$3,COUNTIFS(#REF!,'предметы'!$J$16)>0),AND(#REF!='предметы'!$J$16,COUNTIFS(#REF!,'предметы'!$J$3)>0),AND(#REF!='предметы'!$J$4,COUNTIFS(#REF!,'предметы'!$J$19)>0),AND(#REF!='предметы'!$J$19,COUNTIFS(#REF!,'предметы'!$J$4)>0),AND(#REF!='предметы'!$J$5,COUNTIFS(#REF!,'предметы'!$J$20)>0),AND(#REF!='предметы'!$J$20,COUNTIFS(#REF!,'предметы'!$J$5)>0),AND(#REF!='предметы'!$J$6,COUNTIFS(#REF!,'предметы'!$J$21)>0),AND(#REF!='предметы'!$J$21,COUNTIFS(#REF!,'предметы'!$J$6)>0),AND(#REF!='предметы'!$J$7,COUNTIFS(#REF!,'предметы'!$J$22)>0),AND(#REF!='предметы'!$J$22,COUNTIFS(#REF!,'предметы'!$J$7)>0),AND(#REF!='предметы'!$J$8,COUNTIFS(#REF!,'предметы'!$J$23)>0),AND(#REF!='предметы'!$J$23,COUNTIFS(#REF!,'предметы'!$J$8)>0),AND(#REF!='предметы'!$J$9,COUNTIFS(#REF!,'предметы'!$J$24)>0),AND(#REF!='предметы'!$J$24,COUNTIFS(#REF!,'предметы'!$J$9)>0),AND(#REF!='предметы'!$J$10,COUNTIFS(#REF!,'предметы'!$J$25)>0),AND(#REF!='предметы'!$J$25,COUNTIFS(#REF!,'предметы'!$J$10)>0),AND(#REF!='предметы'!$J$11,COUNTIFS(#REF!,'предметы'!$J$26)>0),AND(#REF!='предметы'!$J$26,COUNTIFS(#REF!,'предметы'!$J$11)>0),AND(#REF!='предметы'!$J$12,COUNTIFS(#REF!,'предметы'!$J$27)>0),AND(#REF!='предметы'!$J$27,COUNTIFS(#REF!,'предметы'!$J$12)>0),AND(#REF!='предметы'!$J$13,COUNTIFS(#REF!,'предметы'!$J$28)>0),AND(#REF!='предметы'!$J$28,COUNTIFS(#REF!,'предметы'!$J$13)>0),AND(#REF!='предметы'!$J$14,COUNTIFS(#REF!,'предметы'!$J$29)>0),AND(#REF!='предметы'!$J$29,COUNTIFS(#REF!,'предметы'!$J$14)>0),AND(#REF!='предметы'!$J$15,COUNTIFS(#REF!,'предметы'!$J$30)>0),AND(#REF!='предметы'!$J$30,COUNTIFS(#REF!,'предметы'!$J$15)>0)),"<17 (ВПР, КР)","*") -> #REF! | BF7: =IF(OR(COUNTIFS(#REF!,#REF!)>1,AND(#REF!='предметы'!$J$3,COUNTIFS(#REF!,'предметы'!$J$16)>0),AND(#REF!='предметы'!$J$16,COUNTIFS(#REF!,'предметы'!$J$3)>0),AND(#REF!='предметы'!$J$4,COUNTIFS(#REF!,'предметы'!$J$19)>0),AND(#REF!='предметы'!$J$19,COUNTIFS(#REF!,'предметы'!$J$4)>0),AND(#REF!='предметы'!$J$5,COUNTIFS(#REF!,'предметы'!$J$20)>0),AND(#REF!='предметы'!$J$20,COUNTIFS(#REF!,'предметы'!$J$5)>0),AND(#REF!='предметы'!$J$6,COUNTIFS(#REF!,'предметы'!$J$21)>0),AND(#REF!='предметы'!$J$21,COUNTIFS(#REF!,'предметы'!$J$6)>0),AND(#REF!='предметы'!$J$7,COUNTIFS(#REF!,'предметы'!$J$22)>0),AND(#REF!='предметы'!$J$22,COUNTIFS(#REF!,'предметы'!$J$7)>0),AND(#REF!='предметы'!$J$8,COUNTIFS(#REF!,'предметы'!$J$23)>0),AND(#REF!='предметы'!$J$23,COUNTIFS(#REF!,'предметы'!$J$8)>0),AND(#REF!='предметы'!$J$9,COUNTIFS(#REF!,'предметы'!$J$24)>0),AND(#REF!='предметы'!$J$24,COUNTIFS(#REF!,'предметы'!$J$9)>0),AND(#REF!='предметы'!$J$10,COUNTIFS(#REF!,'предметы'!$J$25)>0),AND(#REF!='предметы'!$J$25,COUNTIFS(#REF!,'предметы'!$J$10)>0),AND(#REF!='предметы'!$J$11,COUNTIFS(#REF!,'предметы'!$J$26)>0),AND(#REF!='предметы'!$J$26,COUNTIFS(#REF!,'предметы'!$J$11)>0),AND(#REF!='предметы'!$J$12,COUNTIFS(#REF!,'предметы'!$J$27)>0),AND(#REF!='предметы'!$J$27,COUNTIFS(#REF!,'предметы'!$J$12)>0),AND(#REF!='предметы'!$J$13,COUNTIFS(#REF!,'предметы'!$J$28)>0),AND(#REF!='предметы'!$J$28,COUNTIFS(#REF!,'предметы'!$J$13)>0),AND(#REF!='предметы'!$J$14,COUNTIFS(#REF!,'предметы'!$J$29)>0),AND(#REF!='предметы'!$J$29,COUNTIFS(#REF!,'предметы'!$J$14)>0),AND(#REF!='предметы'!$J$15,COUNTIFS(#REF!,'предметы'!$J$30)>0),AND(#REF!='предметы'!$J$30,COUNTIFS(#REF!,'предметы'!$J$15)>0)),"<17 (ВПР, КР)","*") -> #REF! | BG7: =IF(OR(COUNTIFS(#REF!,#REF!)>1,AND(#REF!='предметы'!$J$3,COUNTIFS(#REF!,'предметы'!$J$16)>0),AND(#REF!='предметы'!$J$16,COUNTIFS(#REF!,'предметы'!$J$3)>0),AND(#REF!='предметы'!$J$4,COUNTIFS(#REF!,'предметы'!$J$19)>0),AND(#REF!='предметы'!$J$19,COUNTIFS(#REF!,'предметы'!$J$4)>0),AND(#REF!='предметы'!$J$5,COUNTIFS(#REF!,'предметы'!$J$20)>0),AND(#REF!='предметы'!$J$20,COUNTIFS(#REF!,'предметы'!$J$5)>0),AND(#REF!='предметы'!$J$6,COUNTIFS(#REF!,'предметы'!$J$21)>0),AND(#REF!='предметы'!$J$21,COUNTIFS(#REF!,'предметы'!$J$6)>0),AND(#REF!='предметы'!$J$7,COUNTIFS(#REF!,'предметы'!$J$22)>0),AND(#REF!='предметы'!$J$22,COUNTIFS(#REF!,'предметы'!$J$7)>0),AND(#REF!='предметы'!$J$8,COUNTIFS(#REF!,'предметы'!$J$23)>0),AND(#REF!='предметы'!$J$23,COUNTIFS(#REF!,'предметы'!$J$8)>0),AND(#REF!='предметы'!$J$9,COUNTIFS(#REF!,'предметы'!$J$24)>0),AND(#REF!='предметы'!$J$24,COUNTIFS(#REF!,'предметы'!$J$9)>0),AND(#REF!='предметы'!$J$10,COUNTIFS(#REF!,'предметы'!$J$25)>0),AND(#REF!='предметы'!$J$25,COUNTIFS(#REF!,'предметы'!$J$10)>0),AND(#REF!='предметы'!$J$11,COUNTIFS(#REF!,'предметы'!$J$26)>0),AND(#REF!='предметы'!$J$26,COUNTIFS(#REF!,'предметы'!$J$11)>0),AND(#REF!='предметы'!$J$12,COUNTIFS(#REF!,'предметы'!$J$27)>0),AND(#REF!='предметы'!$J$27,COUNTIFS(#REF!,'предметы'!$J$12)>0),AND(#REF!='предметы'!$J$13,COUNTIFS(#REF!,'предметы'!$J$28)>0),AND(#REF!='предметы'!$J$28,COUNTIFS(#REF!,'предметы'!$J$13)>0),AND(#REF!='предметы'!$J$14,COUNTIFS(#REF!,'предметы'!$J$29)>0),AND(#REF!='предметы'!$J$29,COUNTIFS(#REF!,'предметы'!$J$14)>0),AND(#REF!='предметы'!$J$15,COUNTIFS(#REF!,'предметы'!$J$30)>0),AND(#REF!='предметы'!$J$30,COUNTIFS(#REF!,'предметы'!$J$15)>0)),"<17 (ВПР, КР)","*") -> #REF! | BH7: =IF(OR(COUNTIFS(#REF!,#REF!)>1,AND(#REF!='предметы'!$J$3,COUNTIFS(#REF!,'предметы'!$J$16)>0),AND(#REF!='предметы'!$J$16,COUNTIFS(#REF!,'предметы'!$J$3)>0),AND(#REF!='предметы'!$J$4,COUNTIFS(#REF!,'предметы'!$J$19)>0),AND(#REF!='предметы'!$J$19,COUNTIFS(#REF!,'предметы'!$J$4)>0),AND(#REF!='предметы'!$J$5,COUNTIFS(#REF!,'предметы'!$J$20)>0),AND(#REF!='предметы'!$J$20,COUNTIFS(#REF!,'предметы'!$J$5)>0),AND(#REF!='предметы'!$J$6,COUNTIFS(#REF!,'предметы'!$J$21)>0),AND(#REF!='предметы'!$J$21,COUNTIFS(#REF!,'предметы'!$J$6)>0),AND(#REF!='предметы'!$J$7,COUNTIFS(#REF!,'предметы'!$J$22)>0),AND(#REF!='предметы'!$J$22,COUNTIFS(#REF!,'предметы'!$J$7)>0),AND(#REF!='предметы'!$J$8,COUNTIFS(#REF!,'предметы'!$J$23)>0),AND(#REF!='предметы'!$J$23,COUNTIFS(#REF!,'предметы'!$J$8)>0),AND(#REF!='предметы'!$J$9,COUNTIFS(#REF!,'предметы'!$J$24)>0),AND(#REF!='предметы'!$J$24,COUNTIFS(#REF!,'предметы'!$J$9)>0),AND(#REF!='предметы'!$J$10,COUNTIFS(#REF!,'предметы'!$J$25)>0),AND(#REF!='предметы'!$J$25,COUNTIFS(#REF!,'предметы'!$J$10)>0),AND(#REF!='предметы'!$J$11,COUNTIFS(#REF!,'предметы'!$J$26)>0),AND(#REF!='предметы'!$J$26,COUNTIFS(#REF!,'предметы'!$J$11)>0),AND(#REF!='предметы'!$J$12,COUNTIFS(#REF!,'предметы'!$J$27)>0),AND(#REF!='предметы'!$J$27,COUNTIFS(#REF!,'предметы'!$J$12)>0),AND(#REF!='предметы'!$J$13,COUNTIFS(#REF!,'предметы'!$J$28)>0),AND(#REF!='предметы'!$J$28,COUNTIFS(#REF!,'предметы'!$J$13)>0),AND(#REF!='предметы'!$J$14,COUNTIFS(#REF!,'предметы'!$J$29)>0),AND(#REF!='предметы'!$J$29,COUNTIFS(#REF!,'предметы'!$J$14)>0),AND(#REF!='предметы'!$J$15,COUNTIFS(#REF!,'предметы'!$J$30)>0),AND(#REF!='предметы'!$J$30,COUNTIFS(#REF!,'предметы'!$J$15)>0)),"<17 (ВПР, КР)","*") -> #REF! | BI7: =IF(OR(COUNTIFS(#REF!,#REF!)>1,AND(#REF!='предметы'!$J$3,COUNTIFS(#REF!,'предметы'!$J$16)>0),AND(#REF!='предметы'!$J$16,COUNTIFS(#REF!,'предметы'!$J$3)>0),AND(#REF!='предметы'!$J$4,COUNTIFS(#REF!,'предметы'!$J$19)>0),AND(#REF!='предметы'!$J$19,COUNTIFS(#REF!,'предметы'!$J$4)>0),AND(#REF!='предметы'!$J$5,COUNTIFS(#REF!,'предметы'!$J$20)>0),AND(#REF!='предметы'!$J$20,COUNTIFS(#REF!,'предметы'!$J$5)>0),AND(#REF!='предметы'!$J$6,COUNTIFS(#REF!,'предметы'!$J$21)>0),AND(#REF!='предметы'!$J$21,COUNTIFS(#REF!,'предметы'!$J$6)>0),AND(#REF!='предметы'!$J$7,COUNTIFS(#REF!,'предметы'!$J$22)>0),AND(#REF!='предметы'!$J$22,COUNTIFS(#REF!,'предметы'!$J$7)>0),AND(#REF!='предметы'!$J$8,COUNTIFS(#REF!,'предметы'!$J$23)>0),AND(#REF!='предметы'!$J$23,COUNTIFS(#REF!,'предметы'!$J$8)>0),AND(#REF!='предметы'!$J$9,COUNTIFS(#REF!,'предметы'!$J$24)>0),AND(#REF!='предметы'!$J$24,COUNTIFS(#REF!,'предметы'!$J$9)>0),AND(#REF!='предметы'!$J$10,COUNTIFS(#REF!,'предметы'!$J$25)>0),AND(#REF!='предметы'!$J$25,COUNTIFS(#REF!,'предметы'!$J$10)>0),AND(#REF!='предметы'!$J$11,COUNTIFS(#REF!,'предметы'!$J$26)>0),AND(#REF!='предметы'!$J$26,COUNTIFS(#REF!,'предметы'!$J$11)>0),AND(#REF!='предметы'!$J$12,COUNTIFS(#REF!,'предметы'!$J$27)>0),AND(#REF!='предметы'!$J$27,COUNTIFS(#REF!,'предметы'!$J$12)>0),AND(#REF!='предметы'!$J$13,COUNTIFS(#REF!,'предметы'!$J$28)>0),AND(#REF!='предметы'!$J$28,COUNTIFS(#REF!,'предметы'!$J$13)>0),AND(#REF!='предметы'!$J$14,COUNTIFS(#REF!,'предметы'!$J$29)>0),AND(#REF!='предметы'!$J$29,COUNTIFS(#REF!,'предметы'!$J$14)>0),AND(#REF!='предметы'!$J$15,COUNTIFS(#REF!,'предметы'!$J$30)>0),AND(#REF!='предметы'!$J$30,COUNTIFS(#REF!,'предметы'!$J$15)>0)),"<17 (ВПР, КР)","*") -> #REF! | BJ7: =IF(OR(COUNTIFS(#REF!,#REF!)>1,AND(#REF!='предметы'!$J$3,COUNTIFS(#REF!,'предметы'!$J$16)>0),AND(#REF!='предметы'!$J$16,COUNTIFS(#REF!,'предметы'!$J$3)>0),AND(#REF!='предметы'!$J$4,COUNTIFS(#REF!,'предметы'!$J$19)>0),AND(#REF!='предметы'!$J$19,COUNTIFS(#REF!,'предметы'!$J$4)>0),AND(#REF!='предметы'!$J$5,COUNTIFS(#REF!,'предметы'!$J$20)>0),AND(#REF!='предметы'!$J$20,COUNTIFS(#REF!,'предметы'!$J$5)>0),AND(#REF!='предметы'!$J$6,COUNTIFS(#REF!,'предметы'!$J$21)>0),AND(#REF!='предметы'!$J$21,COUNTIFS(#REF!,'предметы'!$J$6)>0),AND(#REF!='предметы'!$J$7,COUNTIFS(#REF!,'предметы'!$J$22)>0),AND(#REF!='предметы'!$J$22,COUNTIFS(#REF!,'предметы'!$J$7)>0),AND(#REF!='предметы'!$J$8,COUNTIFS(#REF!,'предметы'!$J$23)>0),AND(#REF!='предметы'!$J$23,COUNTIFS(#REF!,'предметы'!$J$8)>0),AND(#REF!='предметы'!$J$9,COUNTIFS(#REF!,'предметы'!$J$24)>0),AND(#REF!='предметы'!$J$24,COUNTIFS(#REF!,'предметы'!$J$9)>0),AND(#REF!='предметы'!$J$10,COUNTIFS(#REF!,'предметы'!$J$25)>0),AND(#REF!='предметы'!$J$25,COUNTIFS(#REF!,'предметы'!$J$10)>0),AND(#REF!='предметы'!$J$11,COUNTIFS(#REF!,'предметы'!$J$26)>0),AND(#REF!='предметы'!$J$26,COUNTIFS(#REF!,'предметы'!$J$11)>0),AND(#REF!='предметы'!$J$12,COUNTIFS(#REF!,'предметы'!$J$27)>0),AND(#REF!='предметы'!$J$27,COUNTIFS(#REF!,'предметы'!$J$12)>0),AND(#REF!='предметы'!$J$13,COUNTIFS(#REF!,'предметы'!$J$28)>0),AND(#REF!='предметы'!$J$28,COUNTIFS(#REF!,'предметы'!$J$13)>0),AND(#REF!='предметы'!$J$14,COUNTIFS(#REF!,'предметы'!$J$29)>0),AND(#REF!='предметы'!$J$29,COUNTIFS(#REF!,'предметы'!$J$14)>0),AND(#REF!='предметы'!$J$15,COUNTIFS(#REF!,'предметы'!$J$30)>0),AND(#REF!='предметы'!$J$30,COUNTIFS(#REF!,'предметы'!$J$15)>0)),"<17 (ВПР, КР)","*") -> #REF! | BK7: =IF(COUNTIFS(#REF!,#REF!)>1,"<17 (ВПР, КР)","*") -> * | BL7: =IF(COUNTIFS(#REF!,#REF!)>1,"<17 (ВПР, КР)","*") -> * | BM7: =IF(COUNTIFS(#REF!,#REF!)>1,"<17 (ВПР, КР)","*") -> * | BN7: =IF(COUNTIFS(#REF!,#REF!)>1,"<17 (ВПР, КР)","*") -> * | BO7: =IF(COUNTIFS(#REF!,#REF!)>1,"<17 (ВПР, КР)","*") -> * | BP7: =IF(COUNTIFS(#REF!,#REF!)>1,"<17 (ВПР, КР)","*") -> *
A8: 46268 | B8: ЧТ | C8: =IF(COUNTIFS('График 1-4 кл'!C8:C24,'График 1-4 кл'!C8)>1,"<17 (ВПР, КР)","*") -> * | D8: =IF(COUNTIFS('График 1-4 кл'!D8:D24,'График 1-4 кл'!D8)>1,"<17 (ВПР, КР)","*") -> * | E8: =IF(COUNTIFS('График 1-4 кл'!E8:E24,'График 1-4 кл'!E8)>1,"<17 (ВПР, КР)","*") -> * | F8: =IF(COUNTIFS(#REF!,#REF!)>1,"<17 (ВПР, КР)","*") -> * | G8: =IF(COUNTIFS(#REF!,#REF!)>1,"<17 (ВПР, КР)","*") -> * | H8: =IF(COUNTIFS(#REF!,#REF!)>1,"<17 (ВПР, КР)","*") -> * | I8: =IF(COUNTIFS('График 1-4 кл'!F8:F24,'График 1-4 кл'!F8)>1,"<17 (ВПР, КР)","*") -> * | J8: =IF(COUNTIFS('График 1-4 кл'!G8:G24,'График 1-4 кл'!G8)>1,"<17 (ВПР, КР)","*") -> * | K8: =IF(COUNTIFS('График 1-4 кл'!H8:H24,'График 1-4 кл'!H8)>1,"<17 (ВПР, КР)","*") -> * | L8: =IF(COUNTIFS('График 1-4 кл'!I8:I24,'График 1-4 кл'!I8)>1,"<17 (ВПР, КР)","*") -> * | M8: =IF(COUNTIFS(#REF!,#REF!)>1,"<17 (ВПР, КР)","*") -> * | N8: =IF(COUNTIFS(#REF!,#REF!)>1,"<17 (ВПР, КР)","*") -> * | O8: =IF(COUNTIFS('График 1-4 кл'!J8:J24,'График 1-4 кл'!J8)>1,"<17 (ВПР, КР)","*") -> * | P8: =IF(COUNTIFS('График 1-4 кл'!K8:K24,'График 1-4 кл'!K8)>1,"<17 (ВПР, КР)","*") -> * | Q8: =IF(COUNTIFS('График 1-4 кл'!L8:L24,'График 1-4 кл'!L8)>1,"<17 (ВПР, КР)","*") -> * | R8: =IF(COUNTIFS('График 1-4 кл'!M8:M24,'График 1-4 кл'!M8)>1,"<17 (ВПР, КР)","*") -> * | S8: =IF(COUNTIFS('График 1-4 кл'!N8:N24,'График 1-4 кл'!N8)>1,"<17 (ВПР, КР)","*") -> * | T8: =IF(COUNTIFS('График 1-4 кл'!O8:O24,'График 1-4 кл'!O8)>1,"<17 (ВПР, КР)","*") -> * | U8: =IF(OR(COUNTIFS('График 1-4 кл'!P8:P24,'График 1-4 кл'!P8)>1,AND('График 1-4 кл'!P8='предметы'!$D$3,COUNTIFS('График 1-4 кл'!P8:P24,'предметы'!$D$12)>0),AND('График 1-4 кл'!P8='предметы'!$D$12,COUNTIFS('График 1-4 кл'!P8:P24,'предметы'!$D$3)>0),AND('График 1-4 кл'!P8='предметы'!$D$4,COUNTIFS('График 1-4 кл'!P8:P24,'предметы'!$D$13)>0),AND('График 1-4 кл'!P8='предметы'!$D$13,COUNTIFS('График 1-4 кл'!P8:P24,'предметы'!$D$4)>0),AND('График 1-4 кл'!P8='предметы'!$D$14,COUNTIFS('График 1-4 кл'!P8:P24,'предметы'!$D$5)>0),AND('График 1-4 кл'!P8='предметы'!$D$5,COUNTIFS('График 1-4 кл'!P8:P24,'предметы'!$D$14)>0),AND('График 1-4 кл'!P8='предметы'!$D$15,COUNTIFS('График 1-4 кл'!P8:P24,'предметы'!$D$6)>0),AND('График 1-4 кл'!P8='предметы'!$D$6,COUNTIFS('График 1-4 кл'!P8:P24,'предметы'!$D$15)>0),AND('График 1-4 кл'!P8='предметы'!$D$16,COUNTIFS('График 1-4 кл'!P8:P24,'предметы'!$D$7)>0),AND('График 1-4 кл'!P8='предметы'!$D$7,COUNTIFS('График 1-4 кл'!P8:P24,'предметы'!$D$16)>0),AND('График 1-4 кл'!P8='предметы'!$D$8,COUNTIFS('График 1-4 кл'!P8:P24,'предметы'!$D$10)>0),AND('График 1-4 кл'!P8='предметы'!$D$10,COUNTIFS('График 1-4 кл'!P8:P24,'предметы'!$D$8)>0),AND('График 1-4 кл'!P8='предметы'!$D$9,COUNTIFS('График 1-4 кл'!P8:P24,'предметы'!$D$11)>0),AND('График 1-4 кл'!P8='предметы'!$D$11,COUNTIFS('График 1-4 кл'!P8:P24,'предметы'!$D$9)>0)),"<17 (ВПР, КР)","*") -> #REF! | V8: =IF(OR(COUNTIFS('График 1-4 кл'!Q8:Q24,'График 1-4 кл'!Q8)>1,AND('График 1-4 кл'!Q8='предметы'!$D$3,COUNTIFS('График 1-4 кл'!Q8:Q24,'предметы'!$D$12)>0),AND('График 1-4 кл'!Q8='предметы'!$D$12,COUNTIFS('График 1-4 кл'!Q8:Q24,'предметы'!$D$3)>0),AND('График 1-4 кл'!Q8='предметы'!$D$4,COUNTIFS('График 1-4 кл'!Q8:Q24,'предметы'!$D$13)>0),AND('График 1-4 кл'!Q8='предметы'!$D$13,COUNTIFS('График 1-4 кл'!Q8:Q24,'предметы'!$D$4)>0),AND('График 1-4 кл'!Q8='предметы'!$D$14,COUNTIFS('График 1-4 кл'!Q8:Q24,'предметы'!$D$5)>0),AND('График 1-4 кл'!Q8='предметы'!$D$5,COUNTIFS('График 1-4 кл'!Q8:Q24,'предметы'!$D$14)>0),AND('График 1-4 кл'!Q8='предметы'!$D$15,COUNTIFS('График 1-4 кл'!Q8:Q24,'предметы'!$D$6)>0),AND('График 1-4 кл'!Q8='предметы'!$D$6,COUNTIFS('График 1-4 кл'!Q8:Q24,'предметы'!$D$15)>0),AND('График 1-4 кл'!Q8='предметы'!$D$16,COUNTIFS('График 1-4 кл'!Q8:Q24,'предметы'!$D$7)>0),AND('График 1-4 кл'!Q8='предметы'!$D$7,COUNTIFS('График 1-4 кл'!Q8:Q24,'предметы'!$D$16)>0),AND('График 1-4 кл'!Q8='предметы'!$D$8,COUNTIFS('График 1-4 кл'!Q8:Q24,'предметы'!$D$10)>0),AND('График 1-4 кл'!Q8='предметы'!$D$10,COUNTIFS('График 1-4 кл'!Q8:Q24,'предметы'!$D$8)>0),AND('График 1-4 кл'!Q8='предметы'!$D$9,COUNTIFS('График 1-4 кл'!Q8:Q24,'предметы'!$D$11)>0),AND('График 1-4 кл'!Q8='предметы'!$D$11,COUNTIFS('График 1-4 кл'!Q8:Q24,'предметы'!$D$9)>0)),"<17 (ВПР, КР)","*") -> #REF! | W8: =IF(OR(COUNTIFS('График 1-4 кл'!R8:R24,'График 1-4 кл'!R8)>1,AND('График 1-4 кл'!R8='предметы'!$D$3,COUNTIFS('График 1-4 кл'!R8:R24,'предметы'!$D$12)>0),AND('График 1-4 кл'!R8='предметы'!$D$12,COUNTIFS('График 1-4 кл'!R8:R24,'предметы'!$D$3)>0),AND('График 1-4 кл'!R8='предметы'!$D$4,COUNTIFS('График 1-4 кл'!R8:R24,'предметы'!$D$13)>0),AND('График 1-4 кл'!R8='предметы'!$D$13,COUNTIFS('График 1-4 кл'!R8:R24,'предметы'!$D$4)>0),AND('График 1-4 кл'!R8='предметы'!$D$14,COUNTIFS('График 1-4 кл'!R8:R24,'предметы'!$D$5)>0),AND('График 1-4 кл'!R8='предметы'!$D$5,COUNTIFS('График 1-4 кл'!R8:R24,'предметы'!$D$14)>0),AND('График 1-4 кл'!R8='предметы'!$D$15,COUNTIFS('График 1-4 кл'!R8:R24,'предметы'!$D$6)>0),AND('График 1-4 кл'!R8='предметы'!$D$6,COUNTIFS('График 1-4 кл'!R8:R24,'предметы'!$D$15)>0),AND('График 1-4 кл'!R8='предметы'!$D$16,COUNTIFS('График 1-4 кл'!R8:R24,'предметы'!$D$7)>0),AND('График 1-4 кл'!R8='предметы'!$D$7,COUNTIFS('График 1-4 кл'!R8:R24,'предметы'!$D$16)>0),AND('График 1-4 кл'!R8='предметы'!$D$8,COUNTIFS('График 1-4 кл'!R8:R24,'предметы'!$D$10)>0),AND('График 1-4 кл'!R8='предметы'!$D$10,COUNTIFS('График 1-4 кл'!R8:R24,'предметы'!$D$8)>0),AND('График 1-4 кл'!R8='предметы'!$D$9,COUNTIFS('График 1-4 кл'!R8:R24,'предметы'!$D$11)>0),AND('График 1-4 кл'!R8='предметы'!$D$11,COUNTIFS('График 1-4 кл'!R8:R24,'предметы'!$D$9)>0)),"<17 (ВПР, КР)","*") -> #REF! | X8: =IF(OR(COUNTIFS('График 1-4 кл'!S8:S24,'График 1-4 кл'!S8)>1,AND('График 1-4 кл'!S8='предметы'!$D$3,COUNTIFS('График 1-4 кл'!S8:S24,'предметы'!$D$12)>0),AND('График 1-4 кл'!S8='предметы'!$D$12,COUNTIFS('График 1-4 кл'!S8:S24,'предметы'!$D$3)>0),AND('График 1-4 кл'!S8='предметы'!$D$4,COUNTIFS('График 1-4 кл'!S8:S24,'предметы'!$D$13)>0),AND('График 1-4 кл'!S8='предметы'!$D$13,COUNTIFS('График 1-4 кл'!S8:S24,'предметы'!$D$4)>0),AND('График 1-4 кл'!S8='предметы'!$D$14,COUNTIFS('График 1-4 кл'!S8:S24,'предметы'!$D$5)>0),AND('График 1-4 кл'!S8='предметы'!$D$5,COUNTIFS('График 1-4 кл'!S8:S24,'предметы'!$D$14)>0),AND('График 1-4 кл'!S8='предметы'!$D$15,COUNTIFS('График 1-4 кл'!S8:S24,'предметы'!$D$6)>0),AND('График 1-4 кл'!S8='предметы'!$D$6,COUNTIFS('График 1-4 кл'!S8:S24,'предметы'!$D$15)>0),AND('График 1-4 кл'!S8='предметы'!$D$16,COUNTIFS('График 1-4 кл'!S8:S24,'предметы'!$D$7)>0),AND('График 1-4 кл'!S8='предметы'!$D$7,COUNTIFS('График 1-4 кл'!S8:S24,'предметы'!$D$16)>0),AND('График 1-4 кл'!S8='предметы'!$D$8,COUNTIFS('График 1-4 кл'!S8:S24,'предметы'!$D$10)>0),AND('График 1-4 кл'!S8='предметы'!$D$10,COUNTIFS('График 1-4 кл'!S8:S24,'предметы'!$D$8)>0),AND('График 1-4 кл'!S8='предметы'!$D$9,COUNTIFS('График 1-4 кл'!S8:S24,'предметы'!$D$11)>0),AND('График 1-4 кл'!S8='предметы'!$D$11,COUNTIFS('График 1-4 кл'!S8:S24,'предметы'!$D$9)>0)),"<17 (ВПР, КР)","*") -> #REF! | Y8: =IF(OR(COUNTIFS('График 1-4 кл'!T8:T24,'График 1-4 кл'!T8)>1,AND('График 1-4 кл'!T8='предметы'!$D$3,COUNTIFS('График 1-4 кл'!T8:T24,'предметы'!$D$12)>0),AND('График 1-4 кл'!T8='предметы'!$D$12,COUNTIFS('График 1-4 кл'!T8:T24,'предметы'!$D$3)>0),AND('График 1-4 кл'!T8='предметы'!$D$4,COUNTIFS('График 1-4 кл'!T8:T24,'предметы'!$D$13)>0),AND('График 1-4 кл'!T8='предметы'!$D$13,COUNTIFS('График 1-4 кл'!T8:T24,'предметы'!$D$4)>0),AND('График 1-4 кл'!T8='предметы'!$D$14,COUNTIFS('График 1-4 кл'!T8:T24,'предметы'!$D$5)>0),AND('График 1-4 кл'!T8='предметы'!$D$5,COUNTIFS('График 1-4 кл'!T8:T24,'предметы'!$D$14)>0),AND('График 1-4 кл'!T8='предметы'!$D$15,COUNTIFS('График 1-4 кл'!T8:T24,'предметы'!$D$6)>0),AND('График 1-4 кл'!T8='предметы'!$D$6,COUNTIFS('График 1-4 кл'!T8:T24,'предметы'!$D$15)>0),AND('График 1-4 кл'!T8='предметы'!$D$16,COUNTIFS('График 1-4 кл'!T8:T24,'предметы'!$D$7)>0),AND('График 1-4 кл'!T8='предметы'!$D$7,COUNTIFS('График 1-4 кл'!T8:T24,'предметы'!$D$16)>0),AND('График 1-4 кл'!T8='предметы'!$D$8,COUNTIFS('График 1-4 кл'!T8:T24,'предметы'!$D$10)>0),AND('График 1-4 кл'!T8='предметы'!$D$10,COUNTIFS('График 1-4 кл'!T8:T24,'предметы'!$D$8)>0),AND('График 1-4 кл'!T8='предметы'!$D$9,COUNTIFS('График 1-4 кл'!T8:T24,'предметы'!$D$11)>0),AND('График 1-4 кл'!T8='предметы'!$D$11,COUNTIFS('График 1-4 кл'!T8:T24,'предметы'!$D$9)>0)),"<17 (ВПР, КР)","*") -> #REF! | Z8: =IF(OR(COUNTIFS(#REF!,#REF!)>1,AND(#REF!='предметы'!$D$3,COUNTIFS(#REF!,'предметы'!$D$12)>0),AND(#REF!='предметы'!$D$12,COUNTIFS(#REF!,'предметы'!$D$3)>0),AND(#REF!='предметы'!$D$4,COUNTIFS(#REF!,'предметы'!$D$13)>0),AND(#REF!='предметы'!$D$13,COUNTIFS(#REF!,'предметы'!$D$4)>0),AND(#REF!='предметы'!$D$14,COUNTIFS(#REF!,'предметы'!$D$5)>0),AND(#REF!='предметы'!$D$5,COUNTIFS(#REF!,'предметы'!$D$14)>0),AND(#REF!='предметы'!$D$15,COUNTIFS(#REF!,'предметы'!$D$6)>0),AND(#REF!='предметы'!$D$6,COUNTIFS(#REF!,'предметы'!$D$15)>0),AND(#REF!='предметы'!$D$16,COUNTIFS(#REF!,'предметы'!$D$7)>0),AND(#REF!='предметы'!$D$7,COUNTIFS(#REF!,'предметы'!$D$16)>0),AND(#REF!='предметы'!$D$8,COUNTIFS(#REF!,'предметы'!$D$10)>0),AND(#REF!='предметы'!$D$10,COUNTIFS(#REF!,'предметы'!$D$8)>0),AND(#REF!='предметы'!$D$9,COUNTIFS(#REF!,'предметы'!$D$11)>0),AND(#REF!='предметы'!$D$11,COUNTIFS(#REF!,'предметы'!$D$9)>0)),"<17 (ВПР, КР)","*") -> #REF! | AA8: =IF(OR(COUNTIFS(#REF!,#REF!)>1,AND(#REF!='предметы'!$E$3,COUNTIFS(#REF!,'предметы'!$E$12)>0),AND(#REF!='предметы'!$E$12,COUNTIFS(#REF!,'предметы'!$E$3)>0),AND(#REF!='предметы'!$E$4,COUNTIFS(#REF!,'предметы'!$E$13)>0),AND(#REF!='предметы'!$E$13,COUNTIFS(#REF!,'предметы'!$E$4)>0),AND(#REF!='предметы'!$E$5,COUNTIFS(#REF!,'предметы'!$E$14)>0),AND(#REF!='предметы'!$E$14,COUNTIFS(#REF!,'предметы'!$E$5)>0),AND(#REF!='предметы'!$E$6,COUNTIFS(#REF!,'предметы'!$E$15)>0),AND(#REF!='предметы'!$E$15,COUNTIFS(#REF!,'предметы'!$E$6)>0),AND(#REF!='предметы'!$E$7,COUNTIFS(#REF!,'предметы'!$E$16)>0),AND(#REF!='предметы'!$E$16,COUNTIFS(#REF!,'предметы'!$E$7)>0),AND(#REF!='предметы'!$E$8,COUNTIFS(#REF!,'предметы'!$E$17)>0),AND(#REF!='предметы'!$E$17,COUNTIFS(#REF!,'предметы'!$E$8)>0),AND(#REF!='предметы'!$E$9,COUNTIFS(#REF!,'предметы'!$E$18)>0),AND(#REF!='предметы'!$E$18,COUNTIFS(#REF!,'предметы'!$E$9)>0),AND(#REF!='предметы'!$E$10,COUNTIFS(#REF!,'предметы'!$E$19)>0),AND(#REF!='предметы'!$E$19,COUNTIFS(#REF!,'предметы'!$E$10)>0),AND(#REF!='предметы'!$E$11,COUNTIFS(#REF!,'предметы'!$E$20)>0),AND(#REF!='предметы'!$E$20,COUNTIFS(#REF!,'предметы'!$E$11)>0)),"<17 (ВПР, КР)","*") -> #REF! | AB8: =IF(OR(COUNTIFS(#REF!,#REF!)>1,AND(#REF!='предметы'!$E$3,COUNTIFS(#REF!,'предметы'!$E$12)>0),AND(#REF!='предметы'!$E$12,COUNTIFS(#REF!,'предметы'!$E$3)>0),AND(#REF!='предметы'!$E$4,COUNTIFS(#REF!,'предметы'!$E$13)>0),AND(#REF!='предметы'!$E$13,COUNTIFS(#REF!,'предметы'!$E$4)>0),AND(#REF!='предметы'!$E$5,COUNTIFS(#REF!,'предметы'!$E$14)>0),AND(#REF!='предметы'!$E$14,COUNTIFS(#REF!,'предметы'!$E$5)>0),AND(#REF!='предметы'!$E$6,COUNTIFS(#REF!,'предметы'!$E$15)>0),AND(#REF!='предметы'!$E$15,COUNTIFS(#REF!,'предметы'!$E$6)>0),AND(#REF!='предметы'!$E$7,COUNTIFS(#REF!,'предметы'!$E$16)>0),AND(#REF!='предметы'!$E$16,COUNTIFS(#REF!,'предметы'!$E$7)>0),AND(#REF!='предметы'!$E$8,COUNTIFS(#REF!,'предметы'!$E$17)>0),AND(#REF!='предметы'!$E$17,COUNTIFS(#REF!,'предметы'!$E$8)>0),AND(#REF!='предметы'!$E$9,COUNTIFS(#REF!,'предметы'!$E$18)>0),AND(#REF!='предметы'!$E$18,COUNTIFS(#REF!,'предметы'!$E$9)>0),AND(#REF!='предметы'!$E$10,COUNTIFS(#REF!,'предметы'!$E$19)>0),AND(#REF!='предметы'!$E$19,COUNTIFS(#REF!,'предметы'!$E$10)>0),AND(#REF!='предметы'!$E$11,COUNTIFS(#REF!,'предметы'!$E$20)>0),AND(#REF!='предметы'!$E$20,COUNTIFS(#REF!,'предметы'!$E$11)>0)),"<17 (ВПР, КР)","*") -> #REF! | AC8: =IF(OR(COUNTIFS(#REF!,#REF!)>1,AND(#REF!='предметы'!$E$3,COUNTIFS(#REF!,'предметы'!$E$12)>0),AND(#REF!='предметы'!$E$12,COUNTIFS(#REF!,'предметы'!$E$3)>0),AND(#REF!='предметы'!$E$4,COUNTIFS(#REF!,'предметы'!$E$13)>0),AND(#REF!='предметы'!$E$13,COUNTIFS(#REF!,'предметы'!$E$4)>0),AND(#REF!='предметы'!$E$5,COUNTIFS(#REF!,'предметы'!$E$14)>0),AND(#REF!='предметы'!$E$14,COUNTIFS(#REF!,'предметы'!$E$5)>0),AND(#REF!='предметы'!$E$6,COUNTIFS(#REF!,'предметы'!$E$15)>0),AND(#REF!='предметы'!$E$15,COUNTIFS(#REF!,'предметы'!$E$6)>0),AND(#REF!='предметы'!$E$7,COUNTIFS(#REF!,'предметы'!$E$16)>0),AND(#REF!='предметы'!$E$16,COUNTIFS(#REF!,'предметы'!$E$7)>0),AND(#REF!='предметы'!$E$8,COUNTIFS(#REF!,'предметы'!$E$17)>0),AND(#REF!='предметы'!$E$17,COUNTIFS(#REF!,'предметы'!$E$8)>0),AND(#REF!='предметы'!$E$9,COUNTIFS(#REF!,'предметы'!$E$18)>0),AND(#REF!='предметы'!$E$18,COUNTIFS(#REF!,'предметы'!$E$9)>0),AND(#REF!='предметы'!$E$10,COUNTIFS(#REF!,'предметы'!$E$19)>0),AND(#REF!='предметы'!$E$19,COUNTIFS(#REF!,'предметы'!$E$10)>0),AND(#REF!='предметы'!$E$11,COUNTIFS(#REF!,'предметы'!$E$20)>0),AND(#REF!='предметы'!$E$20,COUNTIFS(#REF!,'предметы'!$E$11)>0)),"<17 (ВПР, КР)","*") -> #REF! | AD8: =IF(OR(COUNTIFS(#REF!,#REF!)>1,AND(#REF!='предметы'!$E$3,COUNTIFS(#REF!,'предметы'!$E$12)>0),AND(#REF!='предметы'!$E$12,COUNTIFS(#REF!,'предметы'!$E$3)>0),AND(#REF!='предметы'!$E$4,COUNTIFS(#REF!,'предметы'!$E$13)>0),AND(#REF!='предметы'!$E$13,COUNTIFS(#REF!,'предметы'!$E$4)>0),AND(#REF!='предметы'!$E$5,COUNTIFS(#REF!,'предметы'!$E$14)>0),AND(#REF!='предметы'!$E$14,COUNTIFS(#REF!,'предметы'!$E$5)>0),AND(#REF!='предметы'!$E$6,COUNTIFS(#REF!,'предметы'!$E$15)>0),AND(#REF!='предметы'!$E$15,COUNTIFS(#REF!,'предметы'!$E$6)>0),AND(#REF!='предметы'!$E$7,COUNTIFS(#REF!,'предметы'!$E$16)>0),AND(#REF!='предметы'!$E$16,COUNTIFS(#REF!,'предметы'!$E$7)>0),AND(#REF!='предметы'!$E$8,COUNTIFS(#REF!,'предметы'!$E$17)>0),AND(#REF!='предметы'!$E$17,COUNTIFS(#REF!,'предметы'!$E$8)>0),AND(#REF!='предметы'!$E$9,COUNTIFS(#REF!,'предметы'!$E$18)>0),AND(#REF!='предметы'!$E$18,COUNTIFS(#REF!,'предметы'!$E$9)>0),AND(#REF!='предметы'!$E$10,COUNTIFS(#REF!,'предметы'!$E$19)>0),AND(#REF!='предметы'!$E$19,COUNTIFS(#REF!,'предметы'!$E$10)>0),AND(#REF!='предметы'!$E$11,COUNTIFS(#REF!,'предметы'!$E$20)>0),AND(#REF!='предметы'!$E$20,COUNTIFS(#REF!,'предметы'!$E$11)>0)),"<17 (ВПР, КР)","*") -> #REF! | AE8: =IF(OR(COUNTIFS(#REF!,#REF!)>1,AND(#REF!='предметы'!$E$3,COUNTIFS(#REF!,'предметы'!$E$12)>0),AND(#REF!='предметы'!$E$12,COUNTIFS(#REF!,'предметы'!$E$3)>0),AND(#REF!='предметы'!$E$4,COUNTIFS(#REF!,'предметы'!$E$13)>0),AND(#REF!='предметы'!$E$13,COUNTIFS(#REF!,'предметы'!$E$4)>0),AND(#REF!='предметы'!$E$5,COUNTIFS(#REF!,'предметы'!$E$14)>0),AND(#REF!='предметы'!$E$14,COUNTIFS(#REF!,'предметы'!$E$5)>0),AND(#REF!='предметы'!$E$6,COUNTIFS(#REF!,'предметы'!$E$15)>0),AND(#REF!='предметы'!$E$15,COUNTIFS(#REF!,'предметы'!$E$6)>0),AND(#REF!='предметы'!$E$7,COUNTIFS(#REF!,'предметы'!$E$16)>0),AND(#REF!='предметы'!$E$16,COUNTIFS(#REF!,'предметы'!$E$7)>0),AND(#REF!='предметы'!$E$8,COUNTIFS(#REF!,'предметы'!$E$17)>0),AND(#REF!='предметы'!$E$17,COUNTIFS(#REF!,'предметы'!$E$8)>0),AND(#REF!='предметы'!$E$9,COUNTIFS(#REF!,'предметы'!$E$18)>0),AND(#REF!='предметы'!$E$18,COUNTIFS(#REF!,'предметы'!$E$9)>0),AND(#REF!='предметы'!$E$10,COUNTIFS(#REF!,'предметы'!$E$19)>0),AND(#REF!='предметы'!$E$19,COUNTIFS(#REF!,'предметы'!$E$10)>0),AND(#REF!='предметы'!$E$11,COUNTIFS(#REF!,'предметы'!$E$20)>0),AND(#REF!='предметы'!$E$20,COUNTIFS(#REF!,'предметы'!$E$11)>0)),"<17 (ВПР, КР)","*") -> #REF! | AF8: =IF(OR(COUNTIFS(#REF!,#REF!)>1,AND(#REF!='предметы'!$E$3,COUNTIFS(#REF!,'предметы'!$E$12)>0),AND(#REF!='предметы'!$E$12,COUNTIFS(#REF!,'предметы'!$E$3)>0),AND(#REF!='предметы'!$E$4,COUNTIFS(#REF!,'предметы'!$E$13)>0),AND(#REF!='предметы'!$E$13,COUNTIFS(#REF!,'предметы'!$E$4)>0),AND(#REF!='предметы'!$E$5,COUNTIFS(#REF!,'предметы'!$E$14)>0),AND(#REF!='предметы'!$E$14,COUNTIFS(#REF!,'предметы'!$E$5)>0),AND(#REF!='предметы'!$E$6,COUNTIFS(#REF!,'предметы'!$E$15)>0),AND(#REF!='предметы'!$E$15,COUNTIFS(#REF!,'предметы'!$E$6)>0),AND(#REF!='предметы'!$E$7,COUNTIFS(#REF!,'предметы'!$E$16)>0),AND(#REF!='предметы'!$E$16,COUNTIFS(#REF!,'предметы'!$E$7)>0),AND(#REF!='предметы'!$E$8,COUNTIFS(#REF!,'предметы'!$E$17)>0),AND(#REF!='предметы'!$E$17,COUNTIFS(#REF!,'предметы'!$E$8)>0),AND(#REF!='предметы'!$E$9,COUNTIFS(#REF!,'предметы'!$E$18)>0),AND(#REF!='предметы'!$E$18,COUNTIFS(#REF!,'предметы'!$E$9)>0),AND(#REF!='предметы'!$E$10,COUNTIFS(#REF!,'предметы'!$E$19)>0),AND(#REF!='предметы'!$E$19,COUNTIFS(#REF!,'предметы'!$E$10)>0),AND(#REF!='предметы'!$E$11,COUNTIFS(#REF!,'предметы'!$E$20)>0),AND(#REF!='предметы'!$E$20,COUNTIFS(#REF!,'предметы'!$E$11)>0)),"<17 (ВПР, КР)","*") -> #REF! | AG8: =IF(OR(COUNTIFS(#REF!,#REF!)>1,AND(#REF!='предметы'!$F$3,COUNTIFS(#REF!,'предметы'!$F$13)>0),AND(#REF!='предметы'!$F$13,COUNTIFS(#REF!,'предметы'!$F$3)>0),AND(#REF!='предметы'!$F$4,COUNTIFS(#REF!,'предметы'!$F$14)>0),AND(#REF!='предметы'!$F$14,COUNTIFS(#REF!,'предметы'!$F$4)>0),AND(#REF!='предметы'!$F$5,COUNTIFS(#REF!,'предметы'!$F$15)>0),AND(#REF!='предметы'!$F$15,COUNTIFS(#REF!,'предметы'!$F$5)>0),AND(#REF!='предметы'!$F$6,COUNTIFS(#REF!,'предметы'!$F$16)>0),AND(#REF!='предметы'!$F$16,COUNTIFS(#REF!,'предметы'!$F$6)>0),AND(#REF!='предметы'!$F$7,COUNTIFS(#REF!,'предметы'!$F$17)>0),AND(#REF!='предметы'!$F$17,COUNTIFS(#REF!,'предметы'!$F$7)>0),AND(#REF!='предметы'!$F$8,COUNTIFS(#REF!,'предметы'!$F$18)>0),AND(#REF!='предметы'!$F$18,COUNTIFS(#REF!,'предметы'!$F$8)>0),AND(#REF!='предметы'!$F$9,COUNTIFS(#REF!,'предметы'!$F$19)>0),AND(#REF!='предметы'!$F$19,COUNTIFS(#REF!,'предметы'!$F$9)>0),AND(#REF!='предметы'!$F$10,COUNTIFS(#REF!,'предметы'!$F$20)>0),AND(#REF!='предметы'!$F$20,COUNTIFS(#REF!,'предметы'!$F$10)>0),AND(#REF!='предметы'!$F$11,COUNTIFS(#REF!,'предметы'!$F$21)>0),AND(#REF!='предметы'!$F$21,COUNTIFS(#REF!,'предметы'!$F$11)>0),AND(#REF!='предметы'!$F$12,COUNTIFS(#REF!,'предметы'!$F$22)>0),AND(#REF!='предметы'!$F$22,COUNTIFS(#REF!,'предметы'!$F$12)>0)),"<17 (ВПР, КР)","*") -> #REF! | AH8: =IF(OR(COUNTIFS(#REF!,#REF!)>1,AND(#REF!='предметы'!$F$3,COUNTIFS(#REF!,'предметы'!$F$13)>0),AND(#REF!='предметы'!$F$13,COUNTIFS(#REF!,'предметы'!$F$3)>0),AND(#REF!='предметы'!$F$4,COUNTIFS(#REF!,'предметы'!$F$14)>0),AND(#REF!='предметы'!$F$14,COUNTIFS(#REF!,'предметы'!$F$4)>0),AND(#REF!='предметы'!$F$5,COUNTIFS(#REF!,'предметы'!$F$15)>0),AND(#REF!='предметы'!$F$15,COUNTIFS(#REF!,'предметы'!$F$5)>0),AND(#REF!='предметы'!$F$6,COUNTIFS(#REF!,'предметы'!$F$16)>0),AND(#REF!='предметы'!$F$16,COUNTIFS(#REF!,'предметы'!$F$6)>0),AND(#REF!='предметы'!$F$7,COUNTIFS(#REF!,'предметы'!$F$17)>0),AND(#REF!='предметы'!$F$17,COUNTIFS(#REF!,'предметы'!$F$7)>0),AND(#REF!='предметы'!$F$8,COUNTIFS(#REF!,'предметы'!$F$18)>0),AND(#REF!='предметы'!$F$18,COUNTIFS(#REF!,'предметы'!$F$8)>0),AND(#REF!='предметы'!$F$9,COUNTIFS(#REF!,'предметы'!$F$19)>0),AND(#REF!='предметы'!$F$19,COUNTIFS(#REF!,'предметы'!$F$9)>0),AND(#REF!='предметы'!$F$10,COUNTIFS(#REF!,'предметы'!$F$20)>0),AND(#REF!='предметы'!$F$20,COUNTIFS(#REF!,'предметы'!$F$10)>0),AND(#REF!='предметы'!$F$11,COUNTIFS(#REF!,'предметы'!$F$21)>0),AND(#REF!='предметы'!$F$21,COUNTIFS(#REF!,'предметы'!$F$11)>0),AND(#REF!='предметы'!$F$12,COUNTIFS(#REF!,'предметы'!$F$22)>0),AND(#REF!='предметы'!$F$22,COUNTIFS(#REF!,'предметы'!$F$12)>0)),"<17 (ВПР, КР)","*") -> #REF! | AI8: =IF(OR(COUNTIFS(#REF!,#REF!)>1,AND(#REF!='предметы'!$F$3,COUNTIFS(#REF!,'предметы'!$F$13)>0),AND(#REF!='предметы'!$F$13,COUNTIFS(#REF!,'предметы'!$F$3)>0),AND(#REF!='предметы'!$F$4,COUNTIFS(#REF!,'предметы'!$F$14)>0),AND(#REF!='предметы'!$F$14,COUNTIFS(#REF!,'предметы'!$F$4)>0),AND(#REF!='предметы'!$F$5,COUNTIFS(#REF!,'предметы'!$F$15)>0),AND(#REF!='предметы'!$F$15,COUNTIFS(#REF!,'предметы'!$F$5)>0),AND(#REF!='предметы'!$F$6,COUNTIFS(#REF!,'предметы'!$F$16)>0),AND(#REF!='предметы'!$F$16,COUNTIFS(#REF!,'предметы'!$F$6)>0),AND(#REF!='предметы'!$F$7,COUNTIFS(#REF!,'предметы'!$F$17)>0),AND(#REF!='предметы'!$F$17,COUNTIFS(#REF!,'предметы'!$F$7)>0),AND(#REF!='предметы'!$F$8,COUNTIFS(#REF!,'предметы'!$F$18)>0),AND(#REF!='предметы'!$F$18,COUNTIFS(#REF!,'предметы'!$F$8)>0),AND(#REF!='предметы'!$F$9,COUNTIFS(#REF!,'предметы'!$F$19)>0),AND(#REF!='предметы'!$F$19,COUNTIFS(#REF!,'предметы'!$F$9)>0),AND(#REF!='предметы'!$F$10,COUNTIFS(#REF!,'предметы'!$F$20)>0),AND(#REF!='предметы'!$F$20,COUNTIFS(#REF!,'предметы'!$F$10)>0),AND(#REF!='предметы'!$F$11,COUNTIFS(#REF!,'предметы'!$F$21)>0),AND(#REF!='предметы'!$F$21,COUNTIFS(#REF!,'предметы'!$F$11)>0),AND(#REF!='предметы'!$F$12,COUNTIFS(#REF!,'предметы'!$F$22)>0),AND(#REF!='предметы'!$F$22,COUNTIFS(#REF!,'предметы'!$F$12)>0)),"<17 (ВПР, КР)","*") -> #REF! | AJ8: =IF(OR(COUNTIFS(#REF!,#REF!)>1,AND(#REF!='предметы'!$F$3,COUNTIFS(#REF!,'предметы'!$F$13)>0),AND(#REF!='предметы'!$F$13,COUNTIFS(#REF!,'предметы'!$F$3)>0),AND(#REF!='предметы'!$F$4,COUNTIFS(#REF!,'предметы'!$F$14)>0),AND(#REF!='предметы'!$F$14,COUNTIFS(#REF!,'предметы'!$F$4)>0),AND(#REF!='предметы'!$F$5,COUNTIFS(#REF!,'предметы'!$F$15)>0),AND(#REF!='предметы'!$F$15,COUNTIFS(#REF!,'предметы'!$F$5)>0),AND(#REF!='предметы'!$F$6,COUNTIFS(#REF!,'предметы'!$F$16)>0),AND(#REF!='предметы'!$F$16,COUNTIFS(#REF!,'предметы'!$F$6)>0),AND(#REF!='предметы'!$F$7,COUNTIFS(#REF!,'предметы'!$F$17)>0),AND(#REF!='предметы'!$F$17,COUNTIFS(#REF!,'предметы'!$F$7)>0),AND(#REF!='предметы'!$F$8,COUNTIFS(#REF!,'предметы'!$F$18)>0),AND(#REF!='предметы'!$F$18,COUNTIFS(#REF!,'предметы'!$F$8)>0),AND(#REF!='предметы'!$F$9,COUNTIFS(#REF!,'предметы'!$F$19)>0),AND(#REF!='предметы'!$F$19,COUNTIFS(#REF!,'предметы'!$F$9)>0),AND(#REF!='предметы'!$F$10,COUNTIFS(#REF!,'предметы'!$F$20)>0),AND(#REF!='предметы'!$F$20,COUNTIFS(#REF!,'предметы'!$F$10)>0),AND(#REF!='предметы'!$F$11,COUNTIFS(#REF!,'предметы'!$F$21)>0),AND(#REF!='предметы'!$F$21,COUNTIFS(#REF!,'предметы'!$F$11)>0),AND(#REF!='предметы'!$F$12,COUNTIFS(#REF!,'предметы'!$F$22)>0),AND(#REF!='предметы'!$F$22,COUNTIFS(#REF!,'предметы'!$F$12)>0)),"<17 (ВПР, КР)","*") -> #REF! | AK8: =IF(OR(COUNTIFS(#REF!,#REF!)>1,AND(#REF!='предметы'!$F$3,COUNTIFS(#REF!,'предметы'!$F$13)>0),AND(#REF!='предметы'!$F$13,COUNTIFS(#REF!,'предметы'!$F$3)>0),AND(#REF!='предметы'!$F$4,COUNTIFS(#REF!,'предметы'!$F$14)>0),AND(#REF!='предметы'!$F$14,COUNTIFS(#REF!,'предметы'!$F$4)>0),AND(#REF!='предметы'!$F$5,COUNTIFS(#REF!,'предметы'!$F$15)>0),AND(#REF!='предметы'!$F$15,COUNTIFS(#REF!,'предметы'!$F$5)>0),AND(#REF!='предметы'!$F$6,COUNTIFS(#REF!,'предметы'!$F$16)>0),AND(#REF!='предметы'!$F$16,COUNTIFS(#REF!,'предметы'!$F$6)>0),AND(#REF!='предметы'!$F$7,COUNTIFS(#REF!,'предметы'!$F$17)>0),AND(#REF!='предметы'!$F$17,COUNTIFS(#REF!,'предметы'!$F$7)>0),AND(#REF!='предметы'!$F$8,COUNTIFS(#REF!,'предметы'!$F$18)>0),AND(#REF!='предметы'!$F$18,COUNTIFS(#REF!,'предметы'!$F$8)>0),AND(#REF!='предметы'!$F$9,COUNTIFS(#REF!,'предметы'!$F$19)>0),AND(#REF!='предметы'!$F$19,COUNTIFS(#REF!,'предметы'!$F$9)>0),AND(#REF!='предметы'!$F$10,COUNTIFS(#REF!,'предметы'!$F$20)>0),AND(#REF!='предметы'!$F$20,COUNTIFS(#REF!,'предметы'!$F$10)>0),AND(#REF!='предметы'!$F$11,COUNTIFS(#REF!,'предметы'!$F$21)>0),AND(#REF!='предметы'!$F$21,COUNTIFS(#REF!,'предметы'!$F$11)>0),AND(#REF!='предметы'!$F$12,COUNTIFS(#REF!,'предметы'!$F$22)>0),AND(#REF!='предметы'!$F$22,COUNTIFS(#REF!,'предметы'!$F$12)>0)),"<17 (ВПР, КР)","*") -> #REF! | AL8: =IF(OR(COUNTIFS(#REF!,#REF!)>1,AND(#REF!='предметы'!$F$3,COUNTIFS(#REF!,'предметы'!$F$13)>0),AND(#REF!='предметы'!$F$13,COUNTIFS(#REF!,'предметы'!$F$3)>0),AND(#REF!='предметы'!$F$4,COUNTIFS(#REF!,'предметы'!$F$14)>0),AND(#REF!='предметы'!$F$14,COUNTIFS(#REF!,'предметы'!$F$4)>0),AND(#REF!='предметы'!$F$5,COUNTIFS(#REF!,'предметы'!$F$15)>0),AND(#REF!='предметы'!$F$15,COUNTIFS(#REF!,'предметы'!$F$5)>0),AND(#REF!='предметы'!$F$6,COUNTIFS(#REF!,'предметы'!$F$16)>0),AND(#REF!='предметы'!$F$16,COUNTIFS(#REF!,'предметы'!$F$6)>0),AND(#REF!='предметы'!$F$7,COUNTIFS(#REF!,'предметы'!$F$17)>0),AND(#REF!='предметы'!$F$17,COUNTIFS(#REF!,'предметы'!$F$7)>0),AND(#REF!='предметы'!$F$8,COUNTIFS(#REF!,'предметы'!$F$18)>0),AND(#REF!='предметы'!$F$18,COUNTIFS(#REF!,'предметы'!$F$8)>0),AND(#REF!='предметы'!$F$9,COUNTIFS(#REF!,'предметы'!$F$19)>0),AND(#REF!='предметы'!$F$19,COUNTIFS(#REF!,'предметы'!$F$9)>0),AND(#REF!='предметы'!$F$10,COUNTIFS(#REF!,'предметы'!$F$20)>0),AND(#REF!='предметы'!$F$20,COUNTIFS(#REF!,'предметы'!$F$10)>0),AND(#REF!='предметы'!$F$11,COUNTIFS(#REF!,'предметы'!$F$21)>0),AND(#REF!='предметы'!$F$21,COUNTIFS(#REF!,'предметы'!$F$11)>0),AND(#REF!='предметы'!$F$12,COUNTIFS(#REF!,'предметы'!$F$22)>0),AND(#REF!='предметы'!$F$22,COUNTIFS(#REF!,'предметы'!$F$12)>0)),"<17 (ВПР, КР)","*") -> #REF! | AM8: =IF(OR(COUNTIFS(#REF!,#REF!)>1,AND(#REF!='предметы'!$G$3,COUNTIFS(#REF!,'предметы'!$G$15)>0),AND(#REF!='предметы'!$G$15,COUNTIFS(#REF!,'предметы'!$G$3)>0),AND(#REF!='предметы'!$G$4,COUNTIFS(#REF!,'предметы'!$G$18)>0),AND(#REF!='предметы'!$G$18,COUNTIFS(#REF!,'предметы'!$G$4)>0),AND(#REF!='предметы'!$G$5,COUNTIFS(#REF!,'предметы'!$G$19)>0),AND(#REF!='предметы'!$G$19,COUNTIFS(#REF!,'предметы'!$G$5)>0),AND(#REF!='предметы'!$G$6,COUNTIFS(#REF!,'предметы'!$G$20)>0),AND(#REF!='предметы'!$G$20,COUNTIFS(#REF!,'предметы'!$G$6)>0),AND(#REF!='предметы'!$G$7,COUNTIFS(#REF!,'предметы'!$G$21)>0),AND(#REF!='предметы'!$G$21,COUNTIFS(#REF!,'предметы'!$G$7)>0),AND(#REF!='предметы'!$G$8,COUNTIFS(#REF!,'предметы'!$G$22)>0),AND(#REF!='предметы'!$G$22,COUNTIFS(#REF!,'предметы'!$G$8)>0),AND(#REF!='предметы'!$G$9,COUNTIFS(#REF!,'предметы'!$G$23)>0),AND(#REF!='предметы'!$G$23,COUNTIFS(#REF!,'предметы'!$G$9)>0),AND(#REF!='предметы'!$G$10,COUNTIFS(#REF!,'предметы'!$G$24)>0),AND(#REF!='предметы'!$G$24,COUNTIFS(#REF!,'предметы'!$G$10)>0),AND(#REF!='предметы'!$G$11,COUNTIFS(#REF!,'предметы'!$G$25)>0),AND(#REF!='предметы'!$G$25,COUNTIFS(#REF!,'предметы'!$G$11)>0),AND(#REF!='предметы'!$G$12,COUNTIFS(#REF!,'предметы'!$G$26)>0),AND(#REF!='предметы'!$G$26,COUNTIFS(#REF!,'предметы'!$G$12)>0),AND(#REF!='предметы'!$G$13,COUNTIFS(#REF!,'предметы'!$G$27)>0),AND(#REF!='предметы'!$G$27,COUNTIFS(#REF!,'предметы'!$G$13)>0),AND(#REF!='предметы'!$G$14,COUNTIFS(#REF!,'предметы'!$G$28)>0),AND(#REF!='предметы'!$G$28,COUNTIFS(#REF!,'предметы'!$G$14)>0)),"<17 (ВПР, КР)","*") -> #REF! | AN8: =IF(OR(COUNTIFS(#REF!,#REF!)>1,AND(#REF!='предметы'!$G$3,COUNTIFS(#REF!,'предметы'!$G$15)>0),AND(#REF!='предметы'!$G$15,COUNTIFS(#REF!,'предметы'!$G$3)>0),AND(#REF!='предметы'!$G$4,COUNTIFS(#REF!,'предметы'!$G$18)>0),AND(#REF!='предметы'!$G$18,COUNTIFS(#REF!,'предметы'!$G$4)>0),AND(#REF!='предметы'!$G$5,COUNTIFS(#REF!,'предметы'!$G$19)>0),AND(#REF!='предметы'!$G$19,COUNTIFS(#REF!,'предметы'!$G$5)>0),AND(#REF!='предметы'!$G$6,COUNTIFS(#REF!,'предметы'!$G$20)>0),AND(#REF!='предметы'!$G$20,COUNTIFS(#REF!,'предметы'!$G$6)>0),AND(#REF!='предметы'!$G$7,COUNTIFS(#REF!,'предметы'!$G$21)>0),AND(#REF!='предметы'!$G$21,COUNTIFS(#REF!,'предметы'!$G$7)>0),AND(#REF!='предметы'!$G$8,COUNTIFS(#REF!,'предметы'!$G$22)>0),AND(#REF!='предметы'!$G$22,COUNTIFS(#REF!,'предметы'!$G$8)>0),AND(#REF!='предметы'!$G$9,COUNTIFS(#REF!,'предметы'!$G$23)>0),AND(#REF!='предметы'!$G$23,COUNTIFS(#REF!,'предметы'!$G$9)>0),AND(#REF!='предметы'!$G$10,COUNTIFS(#REF!,'предметы'!$G$24)>0),AND(#REF!='предметы'!$G$24,COUNTIFS(#REF!,'предметы'!$G$10)>0),AND(#REF!='предметы'!$G$11,COUNTIFS(#REF!,'предметы'!$G$25)>0),AND(#REF!='предметы'!$G$25,COUNTIFS(#REF!,'предметы'!$G$11)>0),AND(#REF!='предметы'!$G$12,COUNTIFS(#REF!,'предметы'!$G$26)>0),AND(#REF!='предметы'!$G$26,COUNTIFS(#REF!,'предметы'!$G$12)>0),AND(#REF!='предметы'!$G$13,COUNTIFS(#REF!,'предметы'!$G$27)>0),AND(#REF!='предметы'!$G$27,COUNTIFS(#REF!,'предметы'!$G$13)>0),AND(#REF!='предметы'!$G$14,COUNTIFS(#REF!,'предметы'!$G$28)>0),AND(#REF!='предметы'!$G$28,COUNTIFS(#REF!,'предметы'!$G$14)>0)),"<17 (ВПР, КР)","*") -> #REF! | AO8: =IF(OR(COUNTIFS(#REF!,#REF!)>1,AND(#REF!='предметы'!$G$3,COUNTIFS(#REF!,'предметы'!$G$15)>0),AND(#REF!='предметы'!$G$15,COUNTIFS(#REF!,'предметы'!$G$3)>0),AND(#REF!='предметы'!$G$4,COUNTIFS(#REF!,'предметы'!$G$18)>0),AND(#REF!='предметы'!$G$18,COUNTIFS(#REF!,'предметы'!$G$4)>0),AND(#REF!='предметы'!$G$5,COUNTIFS(#REF!,'предметы'!$G$19)>0),AND(#REF!='предметы'!$G$19,COUNTIFS(#REF!,'предметы'!$G$5)>0),AND(#REF!='предметы'!$G$6,COUNTIFS(#REF!,'предметы'!$G$20)>0),AND(#REF!='предметы'!$G$20,COUNTIFS(#REF!,'предметы'!$G$6)>0),AND(#REF!='предметы'!$G$7,COUNTIFS(#REF!,'предметы'!$G$21)>0),AND(#REF!='предметы'!$G$21,COUNTIFS(#REF!,'предметы'!$G$7)>0),AND(#REF!='предметы'!$G$8,COUNTIFS(#REF!,'предметы'!$G$22)>0),AND(#REF!='предметы'!$G$22,COUNTIFS(#REF!,'предметы'!$G$8)>0),AND(#REF!='предметы'!$G$9,COUNTIFS(#REF!,'предметы'!$G$23)>0),AND(#REF!='предметы'!$G$23,COUNTIFS(#REF!,'предметы'!$G$9)>0),AND(#REF!='предметы'!$G$10,COUNTIFS(#REF!,'предметы'!$G$24)>0),AND(#REF!='предметы'!$G$24,COUNTIFS(#REF!,'предметы'!$G$10)>0),AND(#REF!='предметы'!$G$11,COUNTIFS(#REF!,'предметы'!$G$25)>0),AND(#REF!='предметы'!$G$25,COUNTIFS(#REF!,'предметы'!$G$11)>0),AND(#REF!='предметы'!$G$12,COUNTIFS(#REF!,'предметы'!$G$26)>0),AND(#REF!='предметы'!$G$26,COUNTIFS(#REF!,'предметы'!$G$12)>0),AND(#REF!='предметы'!$G$13,COUNTIFS(#REF!,'предметы'!$G$27)>0),AND(#REF!='предметы'!$G$27,COUNTIFS(#REF!,'предметы'!$G$13)>0),AND(#REF!='предметы'!$G$14,COUNTIFS(#REF!,'предметы'!$G$28)>0),AND(#REF!='предметы'!$G$28,COUNTIFS(#REF!,'предметы'!$G$14)>0)),"<17 (ВПР, КР)","*") -> #REF! | AP8: =IF(OR(COUNTIFS(#REF!,#REF!)>1,AND(#REF!='предметы'!$G$3,COUNTIFS(#REF!,'предметы'!$G$15)>0),AND(#REF!='предметы'!$G$15,COUNTIFS(#REF!,'предметы'!$G$3)>0),AND(#REF!='предметы'!$G$4,COUNTIFS(#REF!,'предметы'!$G$18)>0),AND(#REF!='предметы'!$G$18,COUNTIFS(#REF!,'предметы'!$G$4)>0),AND(#REF!='предметы'!$G$5,COUNTIFS(#REF!,'предметы'!$G$19)>0),AND(#REF!='предметы'!$G$19,COUNTIFS(#REF!,'предметы'!$G$5)>0),AND(#REF!='предметы'!$G$6,COUNTIFS(#REF!,'предметы'!$G$20)>0),AND(#REF!='предметы'!$G$20,COUNTIFS(#REF!,'предметы'!$G$6)>0),AND(#REF!='предметы'!$G$7,COUNTIFS(#REF!,'предметы'!$G$21)>0),AND(#REF!='предметы'!$G$21,COUNTIFS(#REF!,'предметы'!$G$7)>0),AND(#REF!='предметы'!$G$8,COUNTIFS(#REF!,'предметы'!$G$22)>0),AND(#REF!='предметы'!$G$22,COUNTIFS(#REF!,'предметы'!$G$8)>0),AND(#REF!='предметы'!$G$9,COUNTIFS(#REF!,'предметы'!$G$23)>0),AND(#REF!='предметы'!$G$23,COUNTIFS(#REF!,'предметы'!$G$9)>0),AND(#REF!='предметы'!$G$10,COUNTIFS(#REF!,'предметы'!$G$24)>0),AND(#REF!='предметы'!$G$24,COUNTIFS(#REF!,'предметы'!$G$10)>0),AND(#REF!='предметы'!$G$11,COUNTIFS(#REF!,'предметы'!$G$25)>0),AND(#REF!='предметы'!$G$25,COUNTIFS(#REF!,'предметы'!$G$11)>0),AND(#REF!='предметы'!$G$12,COUNTIFS(#REF!,'предметы'!$G$26)>0),AND(#REF!='предметы'!$G$26,COUNTIFS(#REF!,'предметы'!$G$12)>0),AND(#REF!='предметы'!$G$13,COUNTIFS(#REF!,'предметы'!$G$27)>0),AND(#REF!='предметы'!$G$27,COUNTIFS(#REF!,'предметы'!$G$13)>0),AND(#REF!='предметы'!$G$14,COUNTIFS(#REF!,'предметы'!$G$28)>0),AND(#REF!='предметы'!$G$28,COUNTIFS(#REF!,'предметы'!$G$14)>0)),"<17 (ВПР, КР)","*") -> #REF! | AQ8: =IF(OR(COUNTIFS(#REF!,#REF!)>1,AND(#REF!='предметы'!$G$3,COUNTIFS(#REF!,'предметы'!$G$15)>0),AND(#REF!='предметы'!$G$15,COUNTIFS(#REF!,'предметы'!$G$3)>0),AND(#REF!='предметы'!$G$4,COUNTIFS(#REF!,'предметы'!$G$18)>0),AND(#REF!='предметы'!$G$18,COUNTIFS(#REF!,'предметы'!$G$4)>0),AND(#REF!='предметы'!$G$5,COUNTIFS(#REF!,'предметы'!$G$19)>0),AND(#REF!='предметы'!$G$19,COUNTIFS(#REF!,'предметы'!$G$5)>0),AND(#REF!='предметы'!$G$6,COUNTIFS(#REF!,'предметы'!$G$20)>0),AND(#REF!='предметы'!$G$20,COUNTIFS(#REF!,'предметы'!$G$6)>0),AND(#REF!='предметы'!$G$7,COUNTIFS(#REF!,'предметы'!$G$21)>0),AND(#REF!='предметы'!$G$21,COUNTIFS(#REF!,'предметы'!$G$7)>0),AND(#REF!='предметы'!$G$8,COUNTIFS(#REF!,'предметы'!$G$22)>0),AND(#REF!='предметы'!$G$22,COUNTIFS(#REF!,'предметы'!$G$8)>0),AND(#REF!='предметы'!$G$9,COUNTIFS(#REF!,'предметы'!$G$23)>0),AND(#REF!='предметы'!$G$23,COUNTIFS(#REF!,'предметы'!$G$9)>0),AND(#REF!='предметы'!$G$10,COUNTIFS(#REF!,'предметы'!$G$24)>0),AND(#REF!='предметы'!$G$24,COUNTIFS(#REF!,'предметы'!$G$10)>0),AND(#REF!='предметы'!$G$11,COUNTIFS(#REF!,'предметы'!$G$25)>0),AND(#REF!='предметы'!$G$25,COUNTIFS(#REF!,'предметы'!$G$11)>0),AND(#REF!='предметы'!$G$12,COUNTIFS(#REF!,'предметы'!$G$26)>0),AND(#REF!='предметы'!$G$26,COUNTIFS(#REF!,'предметы'!$G$12)>0),AND(#REF!='предметы'!$G$13,COUNTIFS(#REF!,'предметы'!$G$27)>0),AND(#REF!='предметы'!$G$27,COUNTIFS(#REF!,'предметы'!$G$13)>0),AND(#REF!='предметы'!$G$14,COUNTIFS(#REF!,'предметы'!$G$28)>0),AND(#REF!='предметы'!$G$28,COUNTIFS(#REF!,'предметы'!$G$14)>0)),"<17 (ВПР, КР)","*") -> #REF! | AR8: =IF(OR(COUNTIFS(#REF!,#REF!)>1,AND(#REF!='предметы'!$G$3,COUNTIFS(#REF!,'предметы'!$G$15)>0),AND(#REF!='предметы'!$G$15,COUNTIFS(#REF!,'предметы'!$G$3)>0),AND(#REF!='предметы'!$G$4,COUNTIFS(#REF!,'предметы'!$G$18)>0),AND(#REF!='предметы'!$G$18,COUNTIFS(#REF!,'предметы'!$G$4)>0),AND(#REF!='предметы'!$G$5,COUNTIFS(#REF!,'предметы'!$G$19)>0),AND(#REF!='предметы'!$G$19,COUNTIFS(#REF!,'предметы'!$G$5)>0),AND(#REF!='предметы'!$G$6,COUNTIFS(#REF!,'предметы'!$G$20)>0),AND(#REF!='предметы'!$G$20,COUNTIFS(#REF!,'предметы'!$G$6)>0),AND(#REF!='предметы'!$G$7,COUNTIFS(#REF!,'предметы'!$G$21)>0),AND(#REF!='предметы'!$G$21,COUNTIFS(#REF!,'предметы'!$G$7)>0),AND(#REF!='предметы'!$G$8,COUNTIFS(#REF!,'предметы'!$G$22)>0),AND(#REF!='предметы'!$G$22,COUNTIFS(#REF!,'предметы'!$G$8)>0),AND(#REF!='предметы'!$G$9,COUNTIFS(#REF!,'предметы'!$G$23)>0),AND(#REF!='предметы'!$G$23,COUNTIFS(#REF!,'предметы'!$G$9)>0),AND(#REF!='предметы'!$G$10,COUNTIFS(#REF!,'предметы'!$G$24)>0),AND(#REF!='предметы'!$G$24,COUNTIFS(#REF!,'предметы'!$G$10)>0),AND(#REF!='предметы'!$G$11,COUNTIFS(#REF!,'предметы'!$G$25)>0),AND(#REF!='предметы'!$G$25,COUNTIFS(#REF!,'предметы'!$G$11)>0),AND(#REF!='предметы'!$G$12,COUNTIFS(#REF!,'предметы'!$G$26)>0),AND(#REF!='предметы'!$G$26,COUNTIFS(#REF!,'предметы'!$G$12)>0),AND(#REF!='предметы'!$G$13,COUNTIFS(#REF!,'предметы'!$G$27)>0),AND(#REF!='предметы'!$G$27,COUNTIFS(#REF!,'предметы'!$G$13)>0),AND(#REF!='предметы'!$G$14,COUNTIFS(#REF!,'предметы'!$G$28)>0),AND(#REF!='предметы'!$G$28,COUNTIFS(#REF!,'предметы'!$G$14)>0)),"<17 (ВПР, КР)","*") -> #REF! | AS8: =IF(OR(COUNTIFS(#REF!,#REF!)>1,AND(#REF!='предметы'!$H$3,COUNTIFS(#REF!,'предметы'!$H$16)>0),AND(#REF!='предметы'!$H$16,COUNTIFS(#REF!,'предметы'!$H$3)>0),AND(#REF!='предметы'!$H$4,COUNTIFS(#REF!,'предметы'!$H$19)>0),AND(#REF!='предметы'!$H$19,COUNTIFS(#REF!,'предметы'!$H$4)>0),AND(#REF!='предметы'!$H$5,COUNTIFS(#REF!,'предметы'!$H$20)>0),AND(#REF!='предметы'!$H$20,COUNTIFS(#REF!,'предметы'!$H$5)>0),AND(#REF!='предметы'!$H$6,COUNTIFS(#REF!,'предметы'!$H$21)>0),AND(#REF!='предметы'!$H$21,COUNTIFS(#REF!,'предметы'!$H$6)>0),AND(#REF!='предметы'!$H$7,COUNTIFS(#REF!,'предметы'!$H$22)>0),AND(#REF!='предметы'!$H$22,COUNTIFS(#REF!,'предметы'!$H$7)>0),AND(#REF!='предметы'!$H$8,COUNTIFS(#REF!,'предметы'!$H$23)>0),AND(#REF!='предметы'!$H$23,COUNTIFS(#REF!,'предметы'!$H$8)>0),AND(#REF!='предметы'!$H$9,COUNTIFS(#REF!,'предметы'!$H$24)>0),AND(#REF!='предметы'!$H$24,COUNTIFS(#REF!,'предметы'!$H$9)>0),AND(#REF!='предметы'!$H$10,COUNTIFS(#REF!,'предметы'!$H$25)>0),AND(#REF!='предметы'!$H$25,COUNTIFS(#REF!,'предметы'!$H$10)>0),AND(#REF!='предметы'!$H$11,COUNTIFS(#REF!,'предметы'!$H$26)>0),AND(#REF!='предметы'!$H$26,COUNTIFS(#REF!,'предметы'!$H$11)>0),AND(#REF!='предметы'!$H$12,COUNTIFS(#REF!,'предметы'!$H$27)>0),AND(#REF!='предметы'!$H$27,COUNTIFS(#REF!,'предметы'!$H$12)>0),AND(#REF!='предметы'!$H$13,COUNTIFS(#REF!,'предметы'!$H$28)>0),AND(#REF!='предметы'!$H$28,COUNTIFS(#REF!,'предметы'!$H$13)>0),AND(#REF!='предметы'!$H$14,COUNTIFS(#REF!,'предметы'!$H$29)>0),AND(#REF!='предметы'!$H$29,COUNTIFS(#REF!,'предметы'!$H$14)>0),AND(#REF!='предметы'!$H$15,COUNTIFS(#REF!,'предметы'!$H$30)>0),AND(#REF!='предметы'!$H$30,COUNTIFS(#REF!,'предметы'!$H$15)>0)),"<17 (ВПР, КР)","*") -> #REF! | AT8: =IF(OR(COUNTIFS(#REF!,#REF!)>1,AND(#REF!='предметы'!$H$3,COUNTIFS(#REF!,'предметы'!$H$16)>0),AND(#REF!='предметы'!$H$16,COUNTIFS(#REF!,'предметы'!$H$3)>0),AND(#REF!='предметы'!$H$4,COUNTIFS(#REF!,'предметы'!$H$19)>0),AND(#REF!='предметы'!$H$19,COUNTIFS(#REF!,'предметы'!$H$4)>0),AND(#REF!='предметы'!$H$5,COUNTIFS(#REF!,'предметы'!$H$20)>0),AND(#REF!='предметы'!$H$20,COUNTIFS(#REF!,'предметы'!$H$5)>0),AND(#REF!='предметы'!$H$6,COUNTIFS(#REF!,'предметы'!$H$21)>0),AND(#REF!='предметы'!$H$21,COUNTIFS(#REF!,'предметы'!$H$6)>0),AND(#REF!='предметы'!$H$7,COUNTIFS(#REF!,'предметы'!$H$22)>0),AND(#REF!='предметы'!$H$22,COUNTIFS(#REF!,'предметы'!$H$7)>0),AND(#REF!='предметы'!$H$8,COUNTIFS(#REF!,'предметы'!$H$23)>0),AND(#REF!='предметы'!$H$23,COUNTIFS(#REF!,'предметы'!$H$8)>0),AND(#REF!='предметы'!$H$9,COUNTIFS(#REF!,'предметы'!$H$24)>0),AND(#REF!='предметы'!$H$24,COUNTIFS(#REF!,'предметы'!$H$9)>0),AND(#REF!='предметы'!$H$10,COUNTIFS(#REF!,'предметы'!$H$25)>0),AND(#REF!='предметы'!$H$25,COUNTIFS(#REF!,'предметы'!$H$10)>0),AND(#REF!='предметы'!$H$11,COUNTIFS(#REF!,'предметы'!$H$26)>0),AND(#REF!='предметы'!$H$26,COUNTIFS(#REF!,'предметы'!$H$11)>0),AND(#REF!='предметы'!$H$12,COUNTIFS(#REF!,'предметы'!$H$27)>0),AND(#REF!='предметы'!$H$27,COUNTIFS(#REF!,'предметы'!$H$12)>0),AND(#REF!='предметы'!$H$13,COUNTIFS(#REF!,'предметы'!$H$28)>0),AND(#REF!='предметы'!$H$28,COUNTIFS(#REF!,'предметы'!$H$13)>0),AND(#REF!='предметы'!$H$14,COUNTIFS(#REF!,'предметы'!$H$29)>0),AND(#REF!='предметы'!$H$29,COUNTIFS(#REF!,'предметы'!$H$14)>0),AND(#REF!='предметы'!$H$15,COUNTIFS(#REF!,'предметы'!$H$30)>0),AND(#REF!='предметы'!$H$30,COUNTIFS(#REF!,'предметы'!$H$15)>0)),"<17 (ВПР, КР)","*") -> #REF! | AU8: =IF(OR(COUNTIFS(#REF!,#REF!)>1,AND(#REF!='предметы'!$H$3,COUNTIFS(#REF!,'предметы'!$H$16)>0),AND(#REF!='предметы'!$H$16,COUNTIFS(#REF!,'предметы'!$H$3)>0),AND(#REF!='предметы'!$H$4,COUNTIFS(#REF!,'предметы'!$H$19)>0),AND(#REF!='предметы'!$H$19,COUNTIFS(#REF!,'предметы'!$H$4)>0),AND(#REF!='предметы'!$H$5,COUNTIFS(#REF!,'предметы'!$H$20)>0),AND(#REF!='предметы'!$H$20,COUNTIFS(#REF!,'предметы'!$H$5)>0),AND(#REF!='предметы'!$H$6,COUNTIFS(#REF!,'предметы'!$H$21)>0),AND(#REF!='предметы'!$H$21,COUNTIFS(#REF!,'предметы'!$H$6)>0),AND(#REF!='предметы'!$H$7,COUNTIFS(#REF!,'предметы'!$H$22)>0),AND(#REF!='предметы'!$H$22,COUNTIFS(#REF!,'предметы'!$H$7)>0),AND(#REF!='предметы'!$H$8,COUNTIFS(#REF!,'предметы'!$H$23)>0),AND(#REF!='предметы'!$H$23,COUNTIFS(#REF!,'предметы'!$H$8)>0),AND(#REF!='предметы'!$H$9,COUNTIFS(#REF!,'предметы'!$H$24)>0),AND(#REF!='предметы'!$H$24,COUNTIFS(#REF!,'предметы'!$H$9)>0),AND(#REF!='предметы'!$H$10,COUNTIFS(#REF!,'предметы'!$H$25)>0),AND(#REF!='предметы'!$H$25,COUNTIFS(#REF!,'предметы'!$H$10)>0),AND(#REF!='предметы'!$H$11,COUNTIFS(#REF!,'предметы'!$H$26)>0),AND(#REF!='предметы'!$H$26,COUNTIFS(#REF!,'предметы'!$H$11)>0),AND(#REF!='предметы'!$H$12,COUNTIFS(#REF!,'предметы'!$H$27)>0),AND(#REF!='предметы'!$H$27,COUNTIFS(#REF!,'предметы'!$H$12)>0),AND(#REF!='предметы'!$H$13,COUNTIFS(#REF!,'предметы'!$H$28)>0),AND(#REF!='предметы'!$H$28,COUNTIFS(#REF!,'предметы'!$H$13)>0),AND(#REF!='предметы'!$H$14,COUNTIFS(#REF!,'предметы'!$H$29)>0),AND(#REF!='предметы'!$H$29,COUNTIFS(#REF!,'предметы'!$H$14)>0),AND(#REF!='предметы'!$H$15,COUNTIFS(#REF!,'предметы'!$H$30)>0),AND(#REF!='предметы'!$H$30,COUNTIFS(#REF!,'предметы'!$H$15)>0)),"<17 (ВПР, КР)","*") -> #REF! | AV8: =IF(OR(COUNTIFS(#REF!,#REF!)>1,AND(#REF!='предметы'!$H$3,COUNTIFS(#REF!,'предметы'!$H$16)>0),AND(#REF!='предметы'!$H$16,COUNTIFS(#REF!,'предметы'!$H$3)>0),AND(#REF!='предметы'!$H$4,COUNTIFS(#REF!,'предметы'!$H$19)>0),AND(#REF!='предметы'!$H$19,COUNTIFS(#REF!,'предметы'!$H$4)>0),AND(#REF!='предметы'!$H$5,COUNTIFS(#REF!,'предметы'!$H$20)>0),AND(#REF!='предметы'!$H$20,COUNTIFS(#REF!,'предметы'!$H$5)>0),AND(#REF!='предметы'!$H$6,COUNTIFS(#REF!,'предметы'!$H$21)>0),AND(#REF!='предметы'!$H$21,COUNTIFS(#REF!,'предметы'!$H$6)>0),AND(#REF!='предметы'!$H$7,COUNTIFS(#REF!,'предметы'!$H$22)>0),AND(#REF!='предметы'!$H$22,COUNTIFS(#REF!,'предметы'!$H$7)>0),AND(#REF!='предметы'!$H$8,COUNTIFS(#REF!,'предметы'!$H$23)>0),AND(#REF!='предметы'!$H$23,COUNTIFS(#REF!,'предметы'!$H$8)>0),AND(#REF!='предметы'!$H$9,COUNTIFS(#REF!,'предметы'!$H$24)>0),AND(#REF!='предметы'!$H$24,COUNTIFS(#REF!,'предметы'!$H$9)>0),AND(#REF!='предметы'!$H$10,COUNTIFS(#REF!,'предметы'!$H$25)>0),AND(#REF!='предметы'!$H$25,COUNTIFS(#REF!,'предметы'!$H$10)>0),AND(#REF!='предметы'!$H$11,COUNTIFS(#REF!,'предметы'!$H$26)>0),AND(#REF!='предметы'!$H$26,COUNTIFS(#REF!,'предметы'!$H$11)>0),AND(#REF!='предметы'!$H$12,COUNTIFS(#REF!,'предметы'!$H$27)>0),AND(#REF!='предметы'!$H$27,COUNTIFS(#REF!,'предметы'!$H$12)>0),AND(#REF!='предметы'!$H$13,COUNTIFS(#REF!,'предметы'!$H$28)>0),AND(#REF!='предметы'!$H$28,COUNTIFS(#REF!,'предметы'!$H$13)>0),AND(#REF!='предметы'!$H$14,COUNTIFS(#REF!,'предметы'!$H$29)>0),AND(#REF!='предметы'!$H$29,COUNTIFS(#REF!,'предметы'!$H$14)>0),AND(#REF!='предметы'!$H$15,COUNTIFS(#REF!,'предметы'!$H$30)>0),AND(#REF!='предметы'!$H$30,COUNTIFS(#REF!,'предметы'!$H$15)>0)),"<17 (ВПР, КР)","*") -> #REF! | AW8: =IF(OR(COUNTIFS(#REF!,#REF!)>1,AND(#REF!='предметы'!$H$3,COUNTIFS(#REF!,'предметы'!$H$16)>0),AND(#REF!='предметы'!$H$16,COUNTIFS(#REF!,'предметы'!$H$3)>0),AND(#REF!='предметы'!$H$4,COUNTIFS(#REF!,'предметы'!$H$19)>0),AND(#REF!='предметы'!$H$19,COUNTIFS(#REF!,'предметы'!$H$4)>0),AND(#REF!='предметы'!$H$5,COUNTIFS(#REF!,'предметы'!$H$20)>0),AND(#REF!='предметы'!$H$20,COUNTIFS(#REF!,'предметы'!$H$5)>0),AND(#REF!='предметы'!$H$6,COUNTIFS(#REF!,'предметы'!$H$21)>0),AND(#REF!='предметы'!$H$21,COUNTIFS(#REF!,'предметы'!$H$6)>0),AND(#REF!='предметы'!$H$7,COUNTIFS(#REF!,'предметы'!$H$22)>0),AND(#REF!='предметы'!$H$22,COUNTIFS(#REF!,'предметы'!$H$7)>0),AND(#REF!='предметы'!$H$8,COUNTIFS(#REF!,'предметы'!$H$23)>0),AND(#REF!='предметы'!$H$23,COUNTIFS(#REF!,'предметы'!$H$8)>0),AND(#REF!='предметы'!$H$9,COUNTIFS(#REF!,'предметы'!$H$24)>0),AND(#REF!='предметы'!$H$24,COUNTIFS(#REF!,'предметы'!$H$9)>0),AND(#REF!='предметы'!$H$10,COUNTIFS(#REF!,'предметы'!$H$25)>0),AND(#REF!='предметы'!$H$25,COUNTIFS(#REF!,'предметы'!$H$10)>0),AND(#REF!='предметы'!$H$11,COUNTIFS(#REF!,'предметы'!$H$26)>0),AND(#REF!='предметы'!$H$26,COUNTIFS(#REF!,'предметы'!$H$11)>0),AND(#REF!='предметы'!$H$12,COUNTIFS(#REF!,'предметы'!$H$27)>0),AND(#REF!='предметы'!$H$27,COUNTIFS(#REF!,'предметы'!$H$12)>0),AND(#REF!='предметы'!$H$13,COUNTIFS(#REF!,'предметы'!$H$28)>0),AND(#REF!='предметы'!$H$28,COUNTIFS(#REF!,'предметы'!$H$13)>0),AND(#REF!='предметы'!$H$14,COUNTIFS(#REF!,'предметы'!$H$29)>0),AND(#REF!='предметы'!$H$29,COUNTIFS(#REF!,'предметы'!$H$14)>0),AND(#REF!='предметы'!$H$15,COUNTIFS(#REF!,'предметы'!$H$30)>0),AND(#REF!='предметы'!$H$30,COUNTIFS(#REF!,'предметы'!$H$15)>0)),"<17 (ВПР, КР)","*") -> #REF! | AX8: =IF(OR(COUNTIFS(#REF!,#REF!)>1,AND(#REF!='предметы'!$H$3,COUNTIFS(#REF!,'предметы'!$H$16)>0),AND(#REF!='предметы'!$H$16,COUNTIFS(#REF!,'предметы'!$H$3)>0),AND(#REF!='предметы'!$H$4,COUNTIFS(#REF!,'предметы'!$H$19)>0),AND(#REF!='предметы'!$H$19,COUNTIFS(#REF!,'предметы'!$H$4)>0),AND(#REF!='предметы'!$H$5,COUNTIFS(#REF!,'предметы'!$H$20)>0),AND(#REF!='предметы'!$H$20,COUNTIFS(#REF!,'предметы'!$H$5)>0),AND(#REF!='предметы'!$H$6,COUNTIFS(#REF!,'предметы'!$H$21)>0),AND(#REF!='предметы'!$H$21,COUNTIFS(#REF!,'предметы'!$H$6)>0),AND(#REF!='предметы'!$H$7,COUNTIFS(#REF!,'предметы'!$H$22)>0),AND(#REF!='предметы'!$H$22,COUNTIFS(#REF!,'предметы'!$H$7)>0),AND(#REF!='предметы'!$H$8,COUNTIFS(#REF!,'предметы'!$H$23)>0),AND(#REF!='предметы'!$H$23,COUNTIFS(#REF!,'предметы'!$H$8)>0),AND(#REF!='предметы'!$H$9,COUNTIFS(#REF!,'предметы'!$H$24)>0),AND(#REF!='предметы'!$H$24,COUNTIFS(#REF!,'предметы'!$H$9)>0),AND(#REF!='предметы'!$H$10,COUNTIFS(#REF!,'предметы'!$H$25)>0),AND(#REF!='предметы'!$H$25,COUNTIFS(#REF!,'предметы'!$H$10)>0),AND(#REF!='предметы'!$H$11,COUNTIFS(#REF!,'предметы'!$H$26)>0),AND(#REF!='предметы'!$H$26,COUNTIFS(#REF!,'предметы'!$H$11)>0),AND(#REF!='предметы'!$H$12,COUNTIFS(#REF!,'предметы'!$H$27)>0),AND(#REF!='предметы'!$H$27,COUNTIFS(#REF!,'предметы'!$H$12)>0),AND(#REF!='предметы'!$H$13,COUNTIFS(#REF!,'предметы'!$H$28)>0),AND(#REF!='предметы'!$H$28,COUNTIFS(#REF!,'предметы'!$H$13)>0),AND(#REF!='предметы'!$H$14,COUNTIFS(#REF!,'предметы'!$H$29)>0),AND(#REF!='предметы'!$H$29,COUNTIFS(#REF!,'предметы'!$H$14)>0),AND(#REF!='предметы'!$H$15,COUNTIFS(#REF!,'предметы'!$H$30)>0),AND(#REF!='предметы'!$H$30,COUNTIFS(#REF!,'предметы'!$H$15)>0)),"<17 (ВПР, КР)","*") -> #REF! | AY8: =IF(COUNTIFS(#REF!,#REF!)>1,"<17 (ВПР, КР)","*") -> * | AZ8: =IF(COUNTIFS(#REF!,#REF!)>1,"<17 (ВПР, КР)","*") -> * | BA8: =IF(COUNTIFS(#REF!,#REF!)>1,"<17 (ВПР, КР)","*") -> * | BB8: =IF(COUNTIFS(#REF!,#REF!)>1,"<17 (ВПР, КР)","*") -> * | BC8: =IF(COUNTIFS(#REF!,#REF!)>1,"<17 (ВПР, КР)","*") -> * | BD8: =IF(COUNTIFS(#REF!,#REF!)>1,"<17 (ВПР, КР)","*") -> * | BE8: =IF(OR(COUNTIFS(#REF!,#REF!)>1,AND(#REF!='предметы'!$J$3,COUNTIFS(#REF!,'предметы'!$J$16)>0),AND(#REF!='предметы'!$J$16,COUNTIFS(#REF!,'предметы'!$J$3)>0),AND(#REF!='предметы'!$J$4,COUNTIFS(#REF!,'предметы'!$J$19)>0),AND(#REF!='предметы'!$J$19,COUNTIFS(#REF!,'предметы'!$J$4)>0),AND(#REF!='предметы'!$J$5,COUNTIFS(#REF!,'предметы'!$J$20)>0),AND(#REF!='предметы'!$J$20,COUNTIFS(#REF!,'предметы'!$J$5)>0),AND(#REF!='предметы'!$J$6,COUNTIFS(#REF!,'предметы'!$J$21)>0),AND(#REF!='предметы'!$J$21,COUNTIFS(#REF!,'предметы'!$J$6)>0),AND(#REF!='предметы'!$J$7,COUNTIFS(#REF!,'предметы'!$J$22)>0),AND(#REF!='предметы'!$J$22,COUNTIFS(#REF!,'предметы'!$J$7)>0),AND(#REF!='предметы'!$J$8,COUNTIFS(#REF!,'предметы'!$J$23)>0),AND(#REF!='предметы'!$J$23,COUNTIFS(#REF!,'предметы'!$J$8)>0),AND(#REF!='предметы'!$J$9,COUNTIFS(#REF!,'предметы'!$J$24)>0),AND(#REF!='предметы'!$J$24,COUNTIFS(#REF!,'предметы'!$J$9)>0),AND(#REF!='предметы'!$J$10,COUNTIFS(#REF!,'предметы'!$J$25)>0),AND(#REF!='предметы'!$J$25,COUNTIFS(#REF!,'предметы'!$J$10)>0),AND(#REF!='предметы'!$J$11,COUNTIFS(#REF!,'предметы'!$J$26)>0),AND(#REF!='предметы'!$J$26,COUNTIFS(#REF!,'предметы'!$J$11)>0),AND(#REF!='предметы'!$J$12,COUNTIFS(#REF!,'предметы'!$J$27)>0),AND(#REF!='предметы'!$J$27,COUNTIFS(#REF!,'предметы'!$J$12)>0),AND(#REF!='предметы'!$J$13,COUNTIFS(#REF!,'предметы'!$J$28)>0),AND(#REF!='предметы'!$J$28,COUNTIFS(#REF!,'предметы'!$J$13)>0),AND(#REF!='предметы'!$J$14,COUNTIFS(#REF!,'предметы'!$J$29)>0),AND(#REF!='предметы'!$J$29,COUNTIFS(#REF!,'предметы'!$J$14)>0),AND(#REF!='предметы'!$J$15,COUNTIFS(#REF!,'предметы'!$J$30)>0),AND(#REF!='предметы'!$J$30,COUNTIFS(#REF!,'предметы'!$J$15)>0)),"<17 (ВПР, КР)","*") -> #REF! | BF8: =IF(OR(COUNTIFS(#REF!,#REF!)>1,AND(#REF!='предметы'!$J$3,COUNTIFS(#REF!,'предметы'!$J$16)>0),AND(#REF!='предметы'!$J$16,COUNTIFS(#REF!,'предметы'!$J$3)>0),AND(#REF!='предметы'!$J$4,COUNTIFS(#REF!,'предметы'!$J$19)>0),AND(#REF!='предметы'!$J$19,COUNTIFS(#REF!,'предметы'!$J$4)>0),AND(#REF!='предметы'!$J$5,COUNTIFS(#REF!,'предметы'!$J$20)>0),AND(#REF!='предметы'!$J$20,COUNTIFS(#REF!,'предметы'!$J$5)>0),AND(#REF!='предметы'!$J$6,COUNTIFS(#REF!,'предметы'!$J$21)>0),AND(#REF!='предметы'!$J$21,COUNTIFS(#REF!,'предметы'!$J$6)>0),AND(#REF!='предметы'!$J$7,COUNTIFS(#REF!,'предметы'!$J$22)>0),AND(#REF!='предметы'!$J$22,COUNTIFS(#REF!,'предметы'!$J$7)>0),AND(#REF!='предметы'!$J$8,COUNTIFS(#REF!,'предметы'!$J$23)>0),AND(#REF!='предметы'!$J$23,COUNTIFS(#REF!,'предметы'!$J$8)>0),AND(#REF!='предметы'!$J$9,COUNTIFS(#REF!,'предметы'!$J$24)>0),AND(#REF!='предметы'!$J$24,COUNTIFS(#REF!,'предметы'!$J$9)>0),AND(#REF!='предметы'!$J$10,COUNTIFS(#REF!,'предметы'!$J$25)>0),AND(#REF!='предметы'!$J$25,COUNTIFS(#REF!,'предметы'!$J$10)>0),AND(#REF!='предметы'!$J$11,COUNTIFS(#REF!,'предметы'!$J$26)>0),AND(#REF!='предметы'!$J$26,COUNTIFS(#REF!,'предметы'!$J$11)>0),AND(#REF!='предметы'!$J$12,COUNTIFS(#REF!,'предметы'!$J$27)>0),AND(#REF!='предметы'!$J$27,COUNTIFS(#REF!,'предметы'!$J$12)>0),AND(#REF!='предметы'!$J$13,COUNTIFS(#REF!,'предметы'!$J$28)>0),AND(#REF!='предметы'!$J$28,COUNTIFS(#REF!,'предметы'!$J$13)>0),AND(#REF!='предметы'!$J$14,COUNTIFS(#REF!,'предметы'!$J$29)>0),AND(#REF!='предметы'!$J$29,COUNTIFS(#REF!,'предметы'!$J$14)>0),AND(#REF!='предметы'!$J$15,COUNTIFS(#REF!,'предметы'!$J$30)>0),AND(#REF!='предметы'!$J$30,COUNTIFS(#REF!,'предметы'!$J$15)>0)),"<17 (ВПР, КР)","*") -> #REF! | BG8: =IF(OR(COUNTIFS(#REF!,#REF!)>1,AND(#REF!='предметы'!$J$3,COUNTIFS(#REF!,'предметы'!$J$16)>0),AND(#REF!='предметы'!$J$16,COUNTIFS(#REF!,'предметы'!$J$3)>0),AND(#REF!='предметы'!$J$4,COUNTIFS(#REF!,'предметы'!$J$19)>0),AND(#REF!='предметы'!$J$19,COUNTIFS(#REF!,'предметы'!$J$4)>0),AND(#REF!='предметы'!$J$5,COUNTIFS(#REF!,'предметы'!$J$20)>0),AND(#REF!='предметы'!$J$20,COUNTIFS(#REF!,'предметы'!$J$5)>0),AND(#REF!='предметы'!$J$6,COUNTIFS(#REF!,'предметы'!$J$21)>0),AND(#REF!='предметы'!$J$21,COUNTIFS(#REF!,'предметы'!$J$6)>0),AND(#REF!='предметы'!$J$7,COUNTIFS(#REF!,'предметы'!$J$22)>0),AND(#REF!='предметы'!$J$22,COUNTIFS(#REF!,'предметы'!$J$7)>0),AND(#REF!='предметы'!$J$8,COUNTIFS(#REF!,'предметы'!$J$23)>0),AND(#REF!='предметы'!$J$23,COUNTIFS(#REF!,'предметы'!$J$8)>0),AND(#REF!='предметы'!$J$9,COUNTIFS(#REF!,'предметы'!$J$24)>0),AND(#REF!='предметы'!$J$24,COUNTIFS(#REF!,'предметы'!$J$9)>0),AND(#REF!='предметы'!$J$10,COUNTIFS(#REF!,'предметы'!$J$25)>0),AND(#REF!='предметы'!$J$25,COUNTIFS(#REF!,'предметы'!$J$10)>0),AND(#REF!='предметы'!$J$11,COUNTIFS(#REF!,'предметы'!$J$26)>0),AND(#REF!='предметы'!$J$26,COUNTIFS(#REF!,'предметы'!$J$11)>0),AND(#REF!='предметы'!$J$12,COUNTIFS(#REF!,'предметы'!$J$27)>0),AND(#REF!='предметы'!$J$27,COUNTIFS(#REF!,'предметы'!$J$12)>0),AND(#REF!='предметы'!$J$13,COUNTIFS(#REF!,'предметы'!$J$28)>0),AND(#REF!='предметы'!$J$28,COUNTIFS(#REF!,'предметы'!$J$13)>0),AND(#REF!='предметы'!$J$14,COUNTIFS(#REF!,'предметы'!$J$29)>0),AND(#REF!='предметы'!$J$29,COUNTIFS(#REF!,'предметы'!$J$14)>0),AND(#REF!='предметы'!$J$15,COUNTIFS(#REF!,'предметы'!$J$30)>0),AND(#REF!='предметы'!$J$30,COUNTIFS(#REF!,'предметы'!$J$15)>0)),"<17 (ВПР, КР)","*") -> #REF! | BH8: =IF(OR(COUNTIFS(#REF!,#REF!)>1,AND(#REF!='предметы'!$J$3,COUNTIFS(#REF!,'предметы'!$J$16)>0),AND(#REF!='предметы'!$J$16,COUNTIFS(#REF!,'предметы'!$J$3)>0),AND(#REF!='предметы'!$J$4,COUNTIFS(#REF!,'предметы'!$J$19)>0),AND(#REF!='предметы'!$J$19,COUNTIFS(#REF!,'предметы'!$J$4)>0),AND(#REF!='предметы'!$J$5,COUNTIFS(#REF!,'предметы'!$J$20)>0),AND(#REF!='предметы'!$J$20,COUNTIFS(#REF!,'предметы'!$J$5)>0),AND(#REF!='предметы'!$J$6,COUNTIFS(#REF!,'предметы'!$J$21)>0),AND(#REF!='предметы'!$J$21,COUNTIFS(#REF!,'предметы'!$J$6)>0),AND(#REF!='предметы'!$J$7,COUNTIFS(#REF!,'предметы'!$J$22)>0),AND(#REF!='предметы'!$J$22,COUNTIFS(#REF!,'предметы'!$J$7)>0),AND(#REF!='предметы'!$J$8,COUNTIFS(#REF!,'предметы'!$J$23)>0),AND(#REF!='предметы'!$J$23,COUNTIFS(#REF!,'предметы'!$J$8)>0),AND(#REF!='предметы'!$J$9,COUNTIFS(#REF!,'предметы'!$J$24)>0),AND(#REF!='предметы'!$J$24,COUNTIFS(#REF!,'предметы'!$J$9)>0),AND(#REF!='предметы'!$J$10,COUNTIFS(#REF!,'предметы'!$J$25)>0),AND(#REF!='предметы'!$J$25,COUNTIFS(#REF!,'предметы'!$J$10)>0),AND(#REF!='предметы'!$J$11,COUNTIFS(#REF!,'предметы'!$J$26)>0),AND(#REF!='предметы'!$J$26,COUNTIFS(#REF!,'предметы'!$J$11)>0),AND(#REF!='предметы'!$J$12,COUNTIFS(#REF!,'предметы'!$J$27)>0),AND(#REF!='предметы'!$J$27,COUNTIFS(#REF!,'предметы'!$J$12)>0),AND(#REF!='предметы'!$J$13,COUNTIFS(#REF!,'предметы'!$J$28)>0),AND(#REF!='предметы'!$J$28,COUNTIFS(#REF!,'предметы'!$J$13)>0),AND(#REF!='предметы'!$J$14,COUNTIFS(#REF!,'предметы'!$J$29)>0),AND(#REF!='предметы'!$J$29,COUNTIFS(#REF!,'предметы'!$J$14)>0),AND(#REF!='предметы'!$J$15,COUNTIFS(#REF!,'предметы'!$J$30)>0),AND(#REF!='предметы'!$J$30,COUNTIFS(#REF!,'предметы'!$J$15)>0)),"<17 (ВПР, КР)","*") -> #REF! | BI8: =IF(OR(COUNTIFS(#REF!,#REF!)>1,AND(#REF!='предметы'!$J$3,COUNTIFS(#REF!,'предметы'!$J$16)>0),AND(#REF!='предметы'!$J$16,COUNTIFS(#REF!,'предметы'!$J$3)>0),AND(#REF!='предметы'!$J$4,COUNTIFS(#REF!,'предметы'!$J$19)>0),AND(#REF!='предметы'!$J$19,COUNTIFS(#REF!,'предметы'!$J$4)>0),AND(#REF!='предметы'!$J$5,COUNTIFS(#REF!,'предметы'!$J$20)>0),AND(#REF!='предметы'!$J$20,COUNTIFS(#REF!,'предметы'!$J$5)>0),AND(#REF!='предметы'!$J$6,COUNTIFS(#REF!,'предметы'!$J$21)>0),AND(#REF!='предметы'!$J$21,COUNTIFS(#REF!,'предметы'!$J$6)>0),AND(#REF!='предметы'!$J$7,COUNTIFS(#REF!,'предметы'!$J$22)>0),AND(#REF!='предметы'!$J$22,COUNTIFS(#REF!,'предметы'!$J$7)>0),AND(#REF!='предметы'!$J$8,COUNTIFS(#REF!,'предметы'!$J$23)>0),AND(#REF!='предметы'!$J$23,COUNTIFS(#REF!,'предметы'!$J$8)>0),AND(#REF!='предметы'!$J$9,COUNTIFS(#REF!,'предметы'!$J$24)>0),AND(#REF!='предметы'!$J$24,COUNTIFS(#REF!,'предметы'!$J$9)>0),AND(#REF!='предметы'!$J$10,COUNTIFS(#REF!,'предметы'!$J$25)>0),AND(#REF!='предметы'!$J$25,COUNTIFS(#REF!,'предметы'!$J$10)>0),AND(#REF!='предметы'!$J$11,COUNTIFS(#REF!,'предметы'!$J$26)>0),AND(#REF!='предметы'!$J$26,COUNTIFS(#REF!,'предметы'!$J$11)>0),AND(#REF!='предметы'!$J$12,COUNTIFS(#REF!,'предметы'!$J$27)>0),AND(#REF!='предметы'!$J$27,COUNTIFS(#REF!,'предметы'!$J$12)>0),AND(#REF!='предметы'!$J$13,COUNTIFS(#REF!,'предметы'!$J$28)>0),AND(#REF!='предметы'!$J$28,COUNTIFS(#REF!,'предметы'!$J$13)>0),AND(#REF!='предметы'!$J$14,COUNTIFS(#REF!,'предметы'!$J$29)>0),AND(#REF!='предметы'!$J$29,COUNTIFS(#REF!,'предметы'!$J$14)>0),AND(#REF!='предметы'!$J$15,COUNTIFS(#REF!,'предметы'!$J$30)>0),AND(#REF!='предметы'!$J$30,COUNTIFS(#REF!,'предметы'!$J$15)>0)),"<17 (ВПР, КР)","*") -> #REF! | BJ8: =IF(OR(COUNTIFS(#REF!,#REF!)>1,AND(#REF!='предметы'!$J$3,COUNTIFS(#REF!,'предметы'!$J$16)>0),AND(#REF!='предметы'!$J$16,COUNTIFS(#REF!,'предметы'!$J$3)>0),AND(#REF!='предметы'!$J$4,COUNTIFS(#REF!,'предметы'!$J$19)>0),AND(#REF!='предметы'!$J$19,COUNTIFS(#REF!,'предметы'!$J$4)>0),AND(#REF!='предметы'!$J$5,COUNTIFS(#REF!,'предметы'!$J$20)>0),AND(#REF!='предметы'!$J$20,COUNTIFS(#REF!,'предметы'!$J$5)>0),AND(#REF!='предметы'!$J$6,COUNTIFS(#REF!,'предметы'!$J$21)>0),AND(#REF!='предметы'!$J$21,COUNTIFS(#REF!,'предметы'!$J$6)>0),AND(#REF!='предметы'!$J$7,COUNTIFS(#REF!,'предметы'!$J$22)>0),AND(#REF!='предметы'!$J$22,COUNTIFS(#REF!,'предметы'!$J$7)>0),AND(#REF!='предметы'!$J$8,COUNTIFS(#REF!,'предметы'!$J$23)>0),AND(#REF!='предметы'!$J$23,COUNTIFS(#REF!,'предметы'!$J$8)>0),AND(#REF!='предметы'!$J$9,COUNTIFS(#REF!,'предметы'!$J$24)>0),AND(#REF!='предметы'!$J$24,COUNTIFS(#REF!,'предметы'!$J$9)>0),AND(#REF!='предметы'!$J$10,COUNTIFS(#REF!,'предметы'!$J$25)>0),AND(#REF!='предметы'!$J$25,COUNTIFS(#REF!,'предметы'!$J$10)>0),AND(#REF!='предметы'!$J$11,COUNTIFS(#REF!,'предметы'!$J$26)>0),AND(#REF!='предметы'!$J$26,COUNTIFS(#REF!,'предметы'!$J$11)>0),AND(#REF!='предметы'!$J$12,COUNTIFS(#REF!,'предметы'!$J$27)>0),AND(#REF!='предметы'!$J$27,COUNTIFS(#REF!,'предметы'!$J$12)>0),AND(#REF!='предметы'!$J$13,COUNTIFS(#REF!,'предметы'!$J$28)>0),AND(#REF!='предметы'!$J$28,COUNTIFS(#REF!,'предметы'!$J$13)>0),AND(#REF!='предметы'!$J$14,COUNTIFS(#REF!,'предметы'!$J$29)>0),AND(#REF!='предметы'!$J$29,COUNTIFS(#REF!,'предметы'!$J$14)>0),AND(#REF!='предметы'!$J$15,COUNTIFS(#REF!,'предметы'!$J$30)>0),AND(#REF!='предметы'!$J$30,COUNTIFS(#REF!,'предметы'!$J$15)>0)),"<17 (ВПР, КР)","*") -> #REF! | BK8: =IF(COUNTIFS(#REF!,#REF!)>1,"<17 (ВПР, КР)","*") -> * | BL8: =IF(COUNTIFS(#REF!,#REF!)>1,"<17 (ВПР, КР)","*") -> * | BM8: =IF(COUNTIFS(#REF!,#REF!)>1,"<17 (ВПР, КР)","*") -> * | BN8: =IF(COUNTIFS(#REF!,#REF!)>1,"<17 (ВПР, КР)","*") -> * | BO8: =IF(COUNTIFS(#REF!,#REF!)>1,"<17 (ВПР, КР)","*") -> * | BP8: =IF(COUNTIFS(#REF!,#REF!)>1,"<17 (ВПР, КР)","*") -> *
